BEGIN:VCALENDAR
VERSION:2.0
PRODID:-//Access Winnipeg - ECPv6.15.20//NONSGML v1.0//EN
CALSCALE:GREGORIAN
METHOD:PUBLISH
X-WR-CALNAME:Access Winnipeg
X-ORIGINAL-URL:https://accesswinnipeg.com
X-WR-CALDESC:Events for Access Winnipeg
REFRESH-INTERVAL;VALUE=DURATION:PT1H
X-Robots-Tag:noindex
X-PUBLISHED-TTL:PT1H
BEGIN:VTIMEZONE
TZID:America/Winnipeg
BEGIN:DAYLIGHT
TZOFFSETFROM:-0600
TZOFFSETTO:-0500
TZNAME:CDT
DTSTART:20140309T080000
END:DAYLIGHT
BEGIN:STANDARD
TZOFFSETFROM:-0500
TZOFFSETTO:-0600
TZNAME:CST
DTSTART:20141102T070000
END:STANDARD
BEGIN:DAYLIGHT
TZOFFSETFROM:-0600
TZOFFSETTO:-0500
TZNAME:CDT
DTSTART:20150308T080000
END:DAYLIGHT
BEGIN:STANDARD
TZOFFSETFROM:-0500
TZOFFSETTO:-0600
TZNAME:CST
DTSTART:20151101T070000
END:STANDARD
BEGIN:DAYLIGHT
TZOFFSETFROM:-0600
TZOFFSETTO:-0500
TZNAME:CDT
DTSTART:20160313T080000
END:DAYLIGHT
BEGIN:STANDARD
TZOFFSETFROM:-0500
TZOFFSETTO:-0600
TZNAME:CST
DTSTART:20161106T070000
END:STANDARD
END:VTIMEZONE
BEGIN:VEVENT
DTSTART;TZID=America/Winnipeg:20150610T183000
DTEND;TZID=America/Winnipeg:20150610T203000
DTSTAMP:20260419T110220
CREATED:20150521T143043Z
LAST-MODIFIED:20150521T143043Z
UID:35067-1433961000-1433968200@accesswinnipeg.com
SUMMARY:Anything is Possible
DESCRIPTION:Come and see what the future looks like for ASD \nPACE (Parents of Autistic Children Everywhere) is inviting you to an evening to meet and come see what artist Ryan Smoluk\, comedian Adam Schwartz (Autistic Productions) and our special guest Austin Riley of Racing with Autism are doing to contribute back to society. All 3 on the autism spectrum\, but rather than using their autism as an excuse NOT to participate\, they’ve used their skills to their fullest potential and done something spectacular. Austin Riley of Racing with Autism is touring in the United States and Canada go-kart racing. \nSilver collection at the door\nAutism merchandise will be available! \nThe event is being held at Gordon Bell High School\, Wednesday evening\,\nJune 10th\, 2015. 6:30pm – 8:30pm. \nTo find out more about this event visit: www.autismwinnipegpace.com
URL:https://accesswinnipeg.com/event/anything-is-possible/
LOCATION:Gordon Bell High School\, L 3 BORROWMAN PL \, WINNIPEG\, manitoba\, Canada
CATEGORIES:Charity
ATTACH;FMTTYPE=image/jpeg:https://accesswinnipeg.com/wp-content/uploads/2015/05/Aything-is-Possible-poster.jpg
END:VEVENT
END:VCALENDAR