BEGIN:VCALENDAR
VERSION:2.0
PRODID:-//Access Winnipeg - ECPv6.15.20//NONSGML v1.0//EN
CALSCALE:GREGORIAN
METHOD:PUBLISH
X-WR-CALNAME:Access Winnipeg
X-ORIGINAL-URL:https://accesswinnipeg.com
X-WR-CALDESC:Events for Access Winnipeg
REFRESH-INTERVAL;VALUE=DURATION:PT1H
X-Robots-Tag:noindex
X-PUBLISHED-TTL:PT1H
BEGIN:VTIMEZONE
TZID:America/Winnipeg
BEGIN:DAYLIGHT
TZOFFSETFROM:-0600
TZOFFSETTO:-0500
TZNAME:CDT
DTSTART:20150308T080000
END:DAYLIGHT
BEGIN:STANDARD
TZOFFSETFROM:-0500
TZOFFSETTO:-0600
TZNAME:CST
DTSTART:20151101T070000
END:STANDARD
BEGIN:DAYLIGHT
TZOFFSETFROM:-0600
TZOFFSETTO:-0500
TZNAME:CDT
DTSTART:20160313T080000
END:DAYLIGHT
BEGIN:STANDARD
TZOFFSETFROM:-0500
TZOFFSETTO:-0600
TZNAME:CST
DTSTART:20161106T070000
END:STANDARD
BEGIN:DAYLIGHT
TZOFFSETFROM:-0600
TZOFFSETTO:-0500
TZNAME:CDT
DTSTART:20170312T080000
END:DAYLIGHT
BEGIN:STANDARD
TZOFFSETFROM:-0500
TZOFFSETTO:-0600
TZNAME:CST
DTSTART:20171105T070000
END:STANDARD
END:VTIMEZONE
BEGIN:VEVENT
DTSTART;TZID=America/Winnipeg:20161127T120000
DTEND;TZID=America/Winnipeg:20161127T120000
DTSTAMP:20260419T195515
CREATED:20160623T133608Z
LAST-MODIFIED:20161124T023125Z
UID:40064-1480248000-1480248000@accesswinnipeg.com
SUMMARY:Jets vs. Predators
DESCRIPTION:
URL:https://accesswinnipeg.com/event/jets-vs-predators/
LOCATION:MTS Centre\, 300 Portage Ave\, Winnipeg\, Manitoba\, R3C 5S4\, Canada
END:VEVENT
BEGIN:VEVENT
DTSTART;TZID=America/Winnipeg:20161127T140000
DTEND;TZID=America/Winnipeg:20161127T140000
DTSTAMP:20260419T195515
CREATED:20161124T035134Z
LAST-MODIFIED:20161127T043103Z
UID:41839-1480255200-1480255200@accesswinnipeg.com
SUMMARY:Peter & The Wolf Live
DESCRIPTION:This stop-frame animation\, set to Prokofievs charming musical tale\, won an OSCAR® in 2008 for Best Animated Short Film. Children and grown-ups roared as the duck skated on the ice\, gasped as Peter lassoed the wolf and giggled as a flightless bird strapped a balloon on its back in an attempt to fly\, said The Guardian.
URL:https://accesswinnipeg.com/event/peter-the-wolf-live/
LOCATION:Centennial Concert Hall\, 555 Main St\, Winnipeg\, Manitoba\, R3B 1C3\, Canada
END:VEVENT
END:VCALENDAR