BEGIN:VCALENDAR
VERSION:2.0
PRODID:-//Access Winnipeg - ECPv6.15.20//NONSGML v1.0//EN
CALSCALE:GREGORIAN
METHOD:PUBLISH
X-ORIGINAL-URL:https://accesswinnipeg.com
X-WR-CALDESC:Events for Access Winnipeg
REFRESH-INTERVAL;VALUE=DURATION:PT1H
X-Robots-Tag:noindex
X-PUBLISHED-TTL:PT1H
BEGIN:VTIMEZONE
TZID:America/Winnipeg
BEGIN:DAYLIGHT
TZOFFSETFROM:-0600
TZOFFSETTO:-0500
TZNAME:CDT
DTSTART:20160313T080000
END:DAYLIGHT
BEGIN:STANDARD
TZOFFSETFROM:-0500
TZOFFSETTO:-0600
TZNAME:CST
DTSTART:20161106T070000
END:STANDARD
BEGIN:DAYLIGHT
TZOFFSETFROM:-0600
TZOFFSETTO:-0500
TZNAME:CDT
DTSTART:20170312T080000
END:DAYLIGHT
BEGIN:STANDARD
TZOFFSETFROM:-0500
TZOFFSETTO:-0600
TZNAME:CST
DTSTART:20171105T070000
END:STANDARD
BEGIN:DAYLIGHT
TZOFFSETFROM:-0600
TZOFFSETTO:-0500
TZNAME:CDT
DTSTART:20180311T080000
END:DAYLIGHT
BEGIN:STANDARD
TZOFFSETFROM:-0500
TZOFFSETTO:-0600
TZNAME:CST
DTSTART:20181104T070000
END:STANDARD
END:VTIMEZONE
BEGIN:VEVENT
DTSTART;TZID=America/Winnipeg:20170113T103000
DTEND;TZID=America/Winnipeg:20170113T103000
DTSTAMP:20260419T221214
CREATED:20161124T035148Z
LAST-MODIFIED:20170103T104517Z
UID:41851-1484303400-1484303400@accesswinnipeg.com
SUMMARY:Dvorak's 5th
DESCRIPTION:Dvovak’s Fifth Symphony shows the composers love of his native Czech folklore contained in a beautiful symphony\, alive with dance feelings\, warmth and enthusiasm for his very special musical culture.
URL:https://accesswinnipeg.com/event/dvoraks-5th/
LOCATION:Centennial Concert Hall\, 555 Main St\, Winnipeg\, Manitoba\, R3B 1C3\, Canada
ATTACH;FMTTYPE=image/jpeg:https://accesswinnipeg.com/wp-content/uploads/2016/12/f2c1e5ce38aee2efc4e664383463ecc5.jpg
END:VEVENT
BEGIN:VEVENT
DTSTART;TZID=America/Winnipeg:20170113T190000
DTEND;TZID=America/Winnipeg:20170113T220000
DTSTAMP:20260419T221214
CREATED:20170105T024748Z
LAST-MODIFIED:20170106T030040Z
UID:47998-1484334000-1484344800@accesswinnipeg.com
SUMMARY:Manitoba Moose vs. Chicago Wolves
DESCRIPTION:Manitoba Moose vs. Chicago Wolves
URL:https://accesswinnipeg.com/event/manitoba-moose-vs-chicago-wolves/
LOCATION:MTS Centre\, 300 Portage Ave\, Winnipeg\, Manitoba\, R3C 5S4\, Canada
ATTACH;FMTTYPE=image/jpeg:https://accesswinnipeg.com/wp-content/uploads/2017/01/e8d35555a6159aef032bfdc898aa81eb.jpg
END:VEVENT
BEGIN:VEVENT
DTSTART;TZID=America/Winnipeg:20170113T200000
DTEND;TZID=America/Winnipeg:20170113T200000
DTSTAMP:20260419T221214
CREATED:20161124T035148Z
LAST-MODIFIED:20170103T104517Z
UID:41852-1484337600-1484337600@accesswinnipeg.com
SUMMARY:Papa Haydn
DESCRIPTION:Haydn: master of masters and the man Mozart referred to as Papa. He practically invented the symphony! Four WSO prinicpals shine as soloists in his Sinfonia concertante. Maestro Mickelthwate closes the program with Dvoraks bright and joyful 5th Symphony.
URL:https://accesswinnipeg.com/event/papa-haydn/
LOCATION:Centennial Concert Hall\, 555 Main St\, Winnipeg\, Manitoba\, R3B 1C3\, Canada
ATTACH;FMTTYPE=image/jpeg:https://accesswinnipeg.com/wp-content/uploads/2016/12/8978b4c7a697690a3f39d16e0bba170c.jpg
END:VEVENT
END:VCALENDAR