BEGIN:VCALENDAR
VERSION:2.0
PRODID:-//Access Winnipeg - ECPv6.15.20//NONSGML v1.0//EN
CALSCALE:GREGORIAN
METHOD:PUBLISH
X-WR-CALNAME:Access Winnipeg
X-ORIGINAL-URL:https://accesswinnipeg.com
X-WR-CALDESC:Events for Access Winnipeg
REFRESH-INTERVAL;VALUE=DURATION:PT1H
X-Robots-Tag:noindex
X-PUBLISHED-TTL:PT1H
BEGIN:VTIMEZONE
TZID:America/Winnipeg
BEGIN:DAYLIGHT
TZOFFSETFROM:-0600
TZOFFSETTO:-0500
TZNAME:CDT
DTSTART:20160313T080000
END:DAYLIGHT
BEGIN:STANDARD
TZOFFSETFROM:-0500
TZOFFSETTO:-0600
TZNAME:CST
DTSTART:20161106T070000
END:STANDARD
BEGIN:DAYLIGHT
TZOFFSETFROM:-0600
TZOFFSETTO:-0500
TZNAME:CDT
DTSTART:20170312T080000
END:DAYLIGHT
BEGIN:STANDARD
TZOFFSETFROM:-0500
TZOFFSETTO:-0600
TZNAME:CST
DTSTART:20171105T070000
END:STANDARD
BEGIN:DAYLIGHT
TZOFFSETFROM:-0600
TZOFFSETTO:-0500
TZNAME:CDT
DTSTART:20180311T080000
END:DAYLIGHT
BEGIN:STANDARD
TZOFFSETFROM:-0500
TZOFFSETTO:-0600
TZNAME:CST
DTSTART:20181104T070000
END:STANDARD
END:VTIMEZONE
BEGIN:VEVENT
DTSTART;TZID=America/Winnipeg:20170131T200000
DTEND;TZID=America/Winnipeg:20170131T230000
DTSTAMP:20260423T035058
CREATED:20161124T034904Z
LAST-MODIFIED:20170108T121519Z
UID:41803-1485892800-1485903600@accesswinnipeg.com
SUMMARY:Sam Roberts Band w/ special guests Hollerado
DESCRIPTION:Sam Roberts Band\nTerraForm Tour\nwith special guests Hollerado \nTUESDAY\, JANURARY 31\, 2017\nBurton Cummings Theatre\, Winnipeg\nAll Ages / Reserved Seating\nDoors 7:00PM / Show 8:00PM \nFacebook Presale: Thursday\, September 15 at 12 Noon – 10PM\nPassword: EILEEN\nOn Sale: Friday\, September 16 at 10AM\nGet Tickets: http://bit.ly/2cfujmG \nTickets (incl. GST) $29.00 / $43.50 / $63.50 + s/c \n– Sam Roberts Band Online –\nWebsite: http://www.samrobertsband.com/\nFacebook: https://www.facebook.com/OfficialSamRobertsBand\nTwitter: https://twitter.com/samrobertsband\nYouTube/VEVO: https://www.youtube.com/user/samrobertsband\nInstagram: https://www.instagram.com/samrobertsband/ \nIn March of 2016\, Sam Roberts Band holed themselves up at the Bathouse\, The Tragically Hip’s studio near Kingston\, Ontario to record their sixth full-length album\, TerraForm. They went in with the lake still covered by ice and emerged 4 weeks later\, in the first days of spring\, bearing with them new music… \nIn co-producer Graham Walsh of H*ly F*ck\, the band found not just a kindred spirit\, but someone willing to lead them away from well-trodden paths and into new\, uncertain terrain: “Graham always pushed the sonic elements of the songs to the limit…tweaking sounds until they contributed more than just the sum of their parts…using sound to create emotion in the same way that words and melody can\,” says SRB frontman and songwriter\, Sam Roberts. “Not to mention that he was forced to live under the same roof as us and lived to tell the tale!” \nThe album takes flight with the title track TerraForm\, a story of escape from the ashes of a dying world. “Terraforming is the idea of going to another planet and making it viable for humans. For this record\, I saw it as planting the seeds for that same sort of renewal in your own life – that regardless of how much you have broken the parts of your life along the way\, there is always a chance to start over… for yourself and the people you care about” says Roberts. “Most of these songs are love songs\, but love songs that grapple with it’s many faces – beautiful and ugly\, healing and destructive.” \nFIEND looks back through the years\, identifying LOVE as the one constant that binds us\, while Black Spark shine’s light on the cryptic\, shadowy web that love can weave in both heart and mind. Tourist Trap takes on a cosmic love triangle between constellations\, just as the House Inside holds up an unclouded mirror to the daily reality of making a family work. “It’s about never giving up on your family\, no matter what life throws at you or whatever paths\, destructive or not\, you choose to walk as an individual – you have to recognize that it all comes back to the people you’re sharing your life with\,” Roberts says. \nIf the TerraForm story begins in the dust and ashes and the quest for a new home\, the lead single If You Want It speaks to the self-destructive forces that helped drive us towards calamity. “The protagonist of the song\, compelled by greed and driven to crime\, embarks on a trip to hell…and hopefully back again\,” says Roberts. In Roll With The Spirits\, we are duped by the soothing promises of a Snake-Oil peddler\, selling happiness by the pound…Things break down\, then they crack. The album closes with Spring Fever and the sounds of life bubbling back to the surface. We’ve come full-circle\, we have a chance to do it all over again. In the chorus Roberts sings “We’re on our way… Don’t know where we’re going but we’re here today.” An acknowledgement that the future is a web of unknown possibilities but that we have the gift of being alive right now! \nStay up to date with Live Nation!\nhttps://www.facebook.com/livenationsaskatchewanandmanitoba\nhttps://twitter.com/livenationwest\nhttps://instagram.com/livenationskmb\nhttp://www.livenation.com\nSam Roberts Band
URL:https://accesswinnipeg.com/event/sam-roberts-band-w-special-guests-hollerado/
LOCATION:Burton Cummings Theatre\, 364 Smith Street\, Winnipeg\, Manitoba\, R3B 2H2\, Canada
ATTACH;FMTTYPE=image/jpeg:https://accesswinnipeg.com/wp-content/uploads/2017/01/3b9f4f05d1d0a32ea7a2b287205d441b.jpg
END:VEVENT
END:VCALENDAR