BEGIN:VCALENDAR
VERSION:2.0
PRODID:-//Access Winnipeg - ECPv6.15.20//NONSGML v1.0//EN
CALSCALE:GREGORIAN
METHOD:PUBLISH
X-WR-CALNAME:Access Winnipeg
X-ORIGINAL-URL:https://accesswinnipeg.com
X-WR-CALDESC:Events for Access Winnipeg
REFRESH-INTERVAL;VALUE=DURATION:PT1H
X-Robots-Tag:noindex
X-PUBLISHED-TTL:PT1H
BEGIN:VTIMEZONE
TZID:America/Winnipeg
BEGIN:DAYLIGHT
TZOFFSETFROM:-0600
TZOFFSETTO:-0500
TZNAME:CDT
DTSTART:20160313T080000
END:DAYLIGHT
BEGIN:STANDARD
TZOFFSETFROM:-0500
TZOFFSETTO:-0600
TZNAME:CST
DTSTART:20161106T070000
END:STANDARD
BEGIN:DAYLIGHT
TZOFFSETFROM:-0600
TZOFFSETTO:-0500
TZNAME:CDT
DTSTART:20170312T080000
END:DAYLIGHT
BEGIN:STANDARD
TZOFFSETFROM:-0500
TZOFFSETTO:-0600
TZNAME:CST
DTSTART:20171105T070000
END:STANDARD
BEGIN:DAYLIGHT
TZOFFSETFROM:-0600
TZOFFSETTO:-0500
TZNAME:CDT
DTSTART:20180311T080000
END:DAYLIGHT
BEGIN:STANDARD
TZOFFSETFROM:-0500
TZOFFSETTO:-0600
TZNAME:CST
DTSTART:20181104T070000
END:STANDARD
END:VTIMEZONE
BEGIN:VEVENT
DTSTART;TZID=America/Winnipeg:20170224T200000
DTEND;TZID=America/Winnipeg:20170224T200000
DTSTAMP:20260424T020500
CREATED:20161124T035155Z
LAST-MODIFIED:20170225T213024Z
UID:41866-1487966400-1487966400@accesswinnipeg.com
SUMMARY:Gershwin & Shostakovich
DESCRIPTION:Gershwin shook the musical world with his now iconic jazz-infused Rhapsody in Blue. Shostakovich -celebrated- the Soviet authorities with a populist symphony that shakes its fist in irony. Hear also Gershwins rarely played Second Rhapsody in the WSO debut of exciting pianist Sara Davis Buechner.
URL:https://accesswinnipeg.com/event/gershwin-shostakovich/
LOCATION:Centennial Concert Hall\, 555 Main St\, Winnipeg\, Manitoba\, R3B 1C3\, Canada
ATTACH;FMTTYPE=image/jpeg:https://accesswinnipeg.com/wp-content/uploads/2017/02/6c9c934268210e5be865a608a7f6d17b.jpg
END:VEVENT
BEGIN:VEVENT
DTSTART;TZID=America/Winnipeg:20170224T200000
DTEND;TZID=America/Winnipeg:20170224T200000
DTSTAMP:20260424T020500
CREATED:20161214T080015Z
LAST-MODIFIED:20170211T181531Z
UID:46048-1487966400-1487966400@accesswinnipeg.com
SUMMARY:Ralphie May
DESCRIPTION:RALPHIE MAY – UNRULY TOUR 7PM DOORS 8PM SHOW 18+ONLY / MATURE CONTENT
URL:https://accesswinnipeg.com/event/ralphie-may/
LOCATION:Club Regent Event Centre\, 1425 Regent Avenue West\, Winnipeg\, MB\, R2C 3B2\, Canada
ATTACH;FMTTYPE=image/jpeg:https://accesswinnipeg.com/wp-content/uploads/2017/01/59bc58484bcb40307dd6a349bd318890.jpg
END:VEVENT
END:VCALENDAR