BEGIN:VCALENDAR
VERSION:2.0
PRODID:-//Access Winnipeg - ECPv6.15.20//NONSGML v1.0//EN
CALSCALE:GREGORIAN
METHOD:PUBLISH
X-WR-CALNAME:Access Winnipeg
X-ORIGINAL-URL:https://accesswinnipeg.com
X-WR-CALDESC:Events for Access Winnipeg
REFRESH-INTERVAL;VALUE=DURATION:PT1H
X-Robots-Tag:noindex
X-PUBLISHED-TTL:PT1H
BEGIN:VTIMEZONE
TZID:America/Winnipeg
BEGIN:DAYLIGHT
TZOFFSETFROM:-0600
TZOFFSETTO:-0500
TZNAME:CDT
DTSTART:20160313T080000
END:DAYLIGHT
BEGIN:STANDARD
TZOFFSETFROM:-0500
TZOFFSETTO:-0600
TZNAME:CST
DTSTART:20161106T070000
END:STANDARD
BEGIN:DAYLIGHT
TZOFFSETFROM:-0600
TZOFFSETTO:-0500
TZNAME:CDT
DTSTART:20170312T080000
END:DAYLIGHT
BEGIN:STANDARD
TZOFFSETFROM:-0500
TZOFFSETTO:-0600
TZNAME:CST
DTSTART:20171105T070000
END:STANDARD
BEGIN:DAYLIGHT
TZOFFSETFROM:-0600
TZOFFSETTO:-0500
TZNAME:CDT
DTSTART:20180311T080000
END:DAYLIGHT
BEGIN:STANDARD
TZOFFSETFROM:-0500
TZOFFSETTO:-0600
TZNAME:CST
DTSTART:20181104T070000
END:STANDARD
END:VTIMEZONE
BEGIN:VEVENT
DTSTART;TZID=America/Winnipeg:20170225T183000
DTEND;TZID=America/Winnipeg:20170225T230000
DTSTAMP:20260419T150933
CREATED:20161124T034909Z
LAST-MODIFIED:20170226T214535Z
UID:41810-1488047400-1488063600@accesswinnipeg.com
SUMMARY:Colin James: Blue Highways Tour w/ special guest Tami Neilson
DESCRIPTION:Colin James\nBlue Highways Tour\nWith special guest Tami Neilson \nSATURDAY\, FEBRUARY 25\nBurton Cummings Theatre\, Winnipeg\nAll Ages / General Admission\nDoors: 6:30PM / Show: 7:30PM  \nFacebook Presale: Thursday\, October 13 at 10AM-10PM\nPassword: PRODUCTION\nOn sale: Friday\, October 14 at 10AM\nGet Tickets: http://bit.ly/2e3kjgQ \n Tickets: $29.50\, $45.00\, $59.50 (Incl. GST) + s/c \n-Colin James Online-\nWebsite: http://www.colinjames.com\nFacebook:  https://www.facebook.com/ColinJamesMusic\nTwitter: https://twitter.com/ColinJamesMusic\nYouTube: https://www.youtube.com/user/ColinJamesMusic\nInstagram: https://www.instagram.com/colinjamesmusic \nCritically acclaimed\, Juno Award winning singer-songwriter Colin James has announced cross Canada tour dates in support of his new album Blue Highways (released via True North Records). \nBlue Highways pays tribute to some of the singer/ guitarist’s long time blues idols including Howlin’ Wolf\, Jimmy Reed\, Freddie King\, Jr. Wells & Buddy Guy\, Peter Green\, Robert Johnson and William Bell to name a few.  In the spring of 2015 Colin wrapped up his Hearts on Fire tour.  After a couple of months of straight touring\, Colin was loving playing with the band and really happy with the sound they had created on stage.  What better time to make a record?  Especially the record Colin had been itching to make for years – a collection of some of his favourite blues tracks.  In less than a week Colin and his touring band went into The Warehouse Studios in Vancouver and in just 2 days\, Blue Highways was born. \n“My band and I are really excited about playing some of these great blues songs for live audiences across the country\,” said James of the tour. \nStay up to date with Live Nation!\nhttps://www.facebook.com/livenationsaskatchewanandmanitoba\nhttps://twitter.com/livenationwest\nhttps://instagram.com/livenationskmb\nhttp://www.livenation.com
URL:https://accesswinnipeg.com/event/colin-james-blue-highways-tour-w-special-guest-tami-neilson/
LOCATION:Burton Cummings Theatre\, 364 Smith Street\, Winnipeg\, Manitoba\, R3B 2H2\, Canada
ATTACH;FMTTYPE=image/jpeg:https://accesswinnipeg.com/wp-content/uploads/2017/02/ff67cb148aa04300fdb297de72078251.jpg
END:VEVENT
BEGIN:VEVENT
DTSTART;TZID=America/Winnipeg:20170225T190000
DTEND;TZID=America/Winnipeg:20170225T220000
DTSTAMP:20260419T150933
CREATED:20170105T024939Z
LAST-MODIFIED:20170226T123712Z
UID:48059-1488049200-1488060000@accesswinnipeg.com
SUMMARY:Manitoba Moose vs. San Antonio Rampage
DESCRIPTION:Manitoba Moose vs. San Antonio Rampage
URL:https://accesswinnipeg.com/event/manitoba-moose-vs-san-antonio-rampage/
LOCATION:MTS Centre\, 300 Portage Ave\, Winnipeg\, Manitoba\, R3C 5S4\, Canada
ATTACH;FMTTYPE=image/jpeg:https://accesswinnipeg.com/wp-content/uploads/2017/02/60453efa7ae0381289dca05a6f6d9ea3.jpg
END:VEVENT
BEGIN:VEVENT
DTSTART;TZID=America/Winnipeg:20170225T200000
DTEND;TZID=America/Winnipeg:20170225T200000
DTSTAMP:20260419T150933
CREATED:20161124T035155Z
LAST-MODIFIED:20170226T223641Z
UID:41867-1488052800-1488052800@accesswinnipeg.com
SUMMARY:Gershwin & Shostakovich
DESCRIPTION:Gershwin shook the musical world with his now iconic jazz-infused Rhapsody in Blue. Shostakovich -celebrated- the Soviet authorities with a populist symphony that shakes its fist in irony. Hear also Gershwins rarely played Second Rhapsody in the WSO debut of exciting pianist Sara Davis Buechner.
URL:https://accesswinnipeg.com/event/gershwin-shostakovich-2/
LOCATION:Centennial Concert Hall\, 555 Main St\, Winnipeg\, Manitoba\, R3B 1C3\, Canada
ATTACH;FMTTYPE=image/jpeg:https://accesswinnipeg.com/wp-content/uploads/2017/02/10bf735da567dfca3c3af28ee6960a4f.jpg
END:VEVENT
END:VCALENDAR