BEGIN:VCALENDAR
VERSION:2.0
PRODID:-//Access Winnipeg - ECPv6.15.20//NONSGML v1.0//EN
CALSCALE:GREGORIAN
METHOD:PUBLISH
X-ORIGINAL-URL:https://accesswinnipeg.com
X-WR-CALDESC:Events for Access Winnipeg
REFRESH-INTERVAL;VALUE=DURATION:PT1H
X-Robots-Tag:noindex
X-PUBLISHED-TTL:PT1H
BEGIN:VTIMEZONE
TZID:America/Winnipeg
BEGIN:DAYLIGHT
TZOFFSETFROM:-0600
TZOFFSETTO:-0500
TZNAME:CDT
DTSTART:20160313T080000
END:DAYLIGHT
BEGIN:STANDARD
TZOFFSETFROM:-0500
TZOFFSETTO:-0600
TZNAME:CST
DTSTART:20161106T070000
END:STANDARD
BEGIN:DAYLIGHT
TZOFFSETFROM:-0600
TZOFFSETTO:-0500
TZNAME:CDT
DTSTART:20170312T080000
END:DAYLIGHT
BEGIN:STANDARD
TZOFFSETFROM:-0500
TZOFFSETTO:-0600
TZNAME:CST
DTSTART:20171105T070000
END:STANDARD
BEGIN:DAYLIGHT
TZOFFSETFROM:-0600
TZOFFSETTO:-0500
TZNAME:CDT
DTSTART:20180311T080000
END:DAYLIGHT
BEGIN:STANDARD
TZOFFSETFROM:-0500
TZOFFSETTO:-0600
TZNAME:CST
DTSTART:20181104T070000
END:STANDARD
END:VTIMEZONE
BEGIN:VEVENT
DTSTART;TZID=America/Winnipeg:20170226T093000
DTEND;TZID=America/Winnipeg:20170226T120000
DTSTAMP:20260419T122947
CREATED:20170105T030650Z
LAST-MODIFIED:20170226T123115Z
UID:48181-1488101400-1488110400@accesswinnipeg.com
SUMMARY:2017 POLAR BEAR RUN
DESCRIPTION:The Assiniboine Park Conservancy is excited to host the second annual Polar Bear Run presented by the Manitoba Moose on Sunday\, February 26\, 2017 at Assiniboine Park. This family-friendly event is perfect for all ages and includes 10 km and 5 km runs (through Assiniboine Park)\, a 2 km Walk (through the Park and a portion of the Zoo)\, and a Skate (on the Riley Family Duck Pond). All proceeds from the Polar Bear Run support the Assiniboine Park Conservancy’s Polar Bear Rescue Team.  \nVisit our website for full event information and a link to our Running Room registration page. \nhttp://www.assiniboinepark.ca/run
URL:https://accesswinnipeg.com/event/2017-polar-bear-run/
LOCATION:Assiniboine Park & Zoo\, 2355 Corydon Ave\, Winnipeg\, MB\, R3P 2N6\, Canada
ATTACH;FMTTYPE=image/jpeg:https://accesswinnipeg.com/wp-content/uploads/2017/02/6e3ac5f96885e9bead50f4683053fa01.jpg
END:VEVENT
BEGIN:VEVENT
DTSTART;TZID=America/Winnipeg:20170226T140000
DTEND;TZID=America/Winnipeg:20170226T170000
DTSTAMP:20260419T122947
CREATED:20161124T035155Z
LAST-MODIFIED:20170226T223641Z
UID:41868-1488117600-1488128400@accesswinnipeg.com
SUMMARY:National Geographic Live - Spinosaurus: Lost Giant of the Cretaceous
DESCRIPTION:NATIONAL GEOGRAPHIC LIVE\nSpinosaurus: Lost Giant of the Cretaceous \nWith Nizar Ibrahim\, Paleontologist \nFebruary 26 – 2:00 pm\nCentennial Concert Hall \nThe National Geographic Live series is suitable for all ages. \nTickets go on sale November 24\, 2016 at 10 am at Ticketmaster.ca\, by phone 1-855-985-5000 and at the Centennial Concert Hall Ticketmaster outlet. \nNational Geographic Live and Centennial Concert Hall are pleased to bring to Winnipeg an evening with paleontologist and National Geographic Emerging Explorer Nizar Ibrahim as he takes the audience on a prehistoric journey through the story of “Spinosaurus: Lost Giant of the Cretaceous.” \nMeet Spinosaurus\, the largest predatory dinosaur yet discovered—larger than T. rex—and hear the incredible story of how this prehistoric giant was almost lost to science\, before being brought back to light with the help of a remarkable young paleontologist. \nDiscovered more than half a century ago in Morocco by the great German paleontologist Ernst Stromer\, Spinosaurus’ fossil remains were lost in the Allied bombing of Germany during World War II. With the help of recent fossil discoveries in the desert\, and Stromer’s own data and drawings\, contemporary scientists including German/Moroccan paleontologist and National Geographic Emerging Explorer Nizar Ibrahim have reconstructed a full skeletal model of Spinosaurus\, which has been featured on the National Geographic Channel and presented in the National Geographic Museum. \nWith amazing video recreating the lost world of the Cretaceous-era Sahara\, Ibrahim will tell the story of Spinosaurus’ discovery\, loss\, and rediscovery\, and explain what—other than its size—makes this ancient monster unique.
URL:https://accesswinnipeg.com/event/national-geographic-live-spinosaurus-lost-giant-of-the-cretaceous/
LOCATION:Centennial Concert Hall\, 555 Main St\, Winnipeg\, Manitoba\, R3B 1C3\, Canada
ATTACH;FMTTYPE=image/jpeg:https://accesswinnipeg.com/wp-content/uploads/2017/02/1142a79647791bc7aac6147f5dee5128.jpg
END:VEVENT
BEGIN:VEVENT
DTSTART;TZID=America/Winnipeg:20170226T140000
DTEND;TZID=America/Winnipeg:20170226T170000
DTSTAMP:20260419T122947
CREATED:20170105T024940Z
LAST-MODIFIED:20170226T123712Z
UID:48061-1488117600-1488128400@accesswinnipeg.com
SUMMARY:Manitoba Moose vs. San Antonio Rampage
DESCRIPTION:Manitoba Moose vs. San Antonio Rampage
URL:https://accesswinnipeg.com/event/manitoba-moose-vs-san-antonio-rampage-2/
LOCATION:MTS Centre\, 300 Portage Ave\, Winnipeg\, Manitoba\, R3C 5S4\, Canada
ATTACH;FMTTYPE=image/jpeg:https://accesswinnipeg.com/wp-content/uploads/2017/02/063db242bd86aa14eedc462faba8ed80.jpg
END:VEVENT
BEGIN:VEVENT
DTSTART;TZID=America/Winnipeg:20170226T190000
DTEND;TZID=America/Winnipeg:20170226T230000
DTSTAMP:20260419T122947
CREATED:20170210T181524Z
LAST-MODIFIED:20170227T225152Z
UID:48809-1488135600-1488150000@accesswinnipeg.com
SUMMARY:Pierce The Veil - Rest In Space Tour
DESCRIPTION:Pierce The Veil\nThe Rest in Space Tour\nWith guests\nFalling In Reverse\nCrown The Empire \nSUNDAY\, FEBRUARY 26\nBurton Cummings Theatre\, Winnipeg\nAll Ages / General Admission\nDoors: 6:00PM / Show: 7:00PM  \nGet Tickets:  http://bit.ly/2jvS8Zf \nTickets: $27.50\, $32.50 (Incl. GST) + s/c  \n– Pierce the Veil Online –\nWebsite:  http://www.piercetheveil.net/\nFacebook:  https://www.facebook.com/PierceTheVeil\nInstagram: https://www.instagram.com/piercetheveil\nTwitter:  https://twitter.com/piercetheveil\nYoutube:  https://www.youtube.com/piercetheveil \nSince 2006\, Pierce The Veil unassumingly\, yet consistently have climbed their way into the hearts of millions worldwide via an unshakable devotion to making honest and hypnotic hard rock. The San Diego quartet—Vic Fuentes [vocals\, rhythm guitar\, keys]\, Mike Fuentes [drums\, percussion]\, Tony Perry [lead guitar]\, and Jaime Preciado [bass guitar]—staunchly uphold that tradition once again on their fourth full-length album\, Misadventures [Fearless Records]. \nWe went into making this record wanting to top the last one\, something we try to do with every record\,” said Vic  “We wanted to make one of the best-sounding records out there as far as quality goes\,” said Vic.  “We weren’t going to stop until we achieved that.” \n“We wanted everybody to shine on the record\,” added Jaime.  “It was important that each member stood out.  It was about going with a broader listening range and expanding on what we’ve built.” \nThat work ethic gradually elevated the band to the forefront of modern rock’s vanguard. Following the success of their first two albums A Flair for the Dramatic [2007] and Selfish Machines [2010]\, the group’s quiet rise detonated loudly with 2012’s Collide with the Sky. The album would bow at #12 on the Billboard Top 200\, move 350\,000 copies by 2016\, and spawn their first RIAA Gold-certified single “King for a Day” [featuring Kellin Quinn]. In between sold out tours all over the globe and a headline stint on 2015’s Warped Tour Main Stage\, the musicians garnered four Alternative Press Music Awards\, two Kerrang! Awards\, and a Revolver Golden Gods Award. They’ve graced the covers of Alternative Press\, Kerrang!\, Rock Sound and more\, multiple times.  Their diehard audience comprises a staggering online presence\, encompassing 5.5 million Facebook “likes\,” 4.5 million Twitter followers\, and 4.5 million Instagram followers. They’ve generated over 200 million cumulative YouTube views (their 2012 “King For A Day” clip alone has logged nearly 65-million views)\, while Collide racked up 110 million-plus Spotify streams. \nWith fans properly primed for new music\, Vic and the boys wanted to deliver beyond all expectations\, but that tall order required both time and travel. \n“For every track\, I was honestly searching for something meaningful enough to write a song about\,” continues the singer. “As a result\, they were each written in different parts of the world. I wanted to tell stories. Traveling brought this out of me.” \nBetween 2014 and 2015\, Vic would hole up in Airbnbs across San Diego\, Santa Monica\, Big Bear\, Venice\, and New York\, writing everywhere he could.  He finished penning lyrics while staying at the music-centric Max Hotel in Seattle. Bookending these writing trips\, he and the guys recorded Misadventures with producer Dan Korneff in Long Island\, NY. \n“Dan opened our eyes\,” adds Jaime. “He was able to give us the perspective to focus on achieving a cohesive vision.” \n“We made all of these sacrifices for the record\,” says Vic. “Dan and I got really close\, and he just cared about making it right.” \nAs a result\, songs like the first single “Texas Is Forever” see them playing as if their lives depend on it\, as speed demon skin-of-your teeth riffing crashes into a powerful chant. “The Divine Zero”  ignites another infectious hook\, while “Circles” paints a picture of perseverance amongst friends in the face of the Bataclan Massacre—touting the band’s most unifying sing-along yet in the process. \nMisadventures remains an appropriate title\, reflecting Pierce The Veil’s journey to their most rewarding body of work to date. “Misadventures sums it up pretty well\,” Vic leaves off. “We started this with a plan two years ago\, everything spun out of control\, and we did something completely different. It was done at the right moment though. Now\, I hope the notes and lyrics spark something positive inside fans.” \nStay up to date with Live Nation!\nhttps://www.facebook.com/livenationbritishcolumbia\nhttps://twitter.com/livenationwest\nhttps://instagram.com/livenationbc\nhttp://www.livenation.com
URL:https://accesswinnipeg.com/event/pierce-the-veil-rest-in-space-tour/
LOCATION:Burton Cummings Theatre\, 364 Smith Street\, Winnipeg\, Manitoba\, R3B 2H2\, Canada
ATTACH;FMTTYPE=image/jpeg:https://accesswinnipeg.com/wp-content/uploads/2017/02/e424ec6a52b0045703b5f93676b7ad5a.jpg
END:VEVENT
END:VCALENDAR