BEGIN:VCALENDAR
VERSION:2.0
PRODID:-//Access Winnipeg - ECPv6.15.20//NONSGML v1.0//EN
CALSCALE:GREGORIAN
METHOD:PUBLISH
X-ORIGINAL-URL:https://accesswinnipeg.com
X-WR-CALDESC:Events for Access Winnipeg
REFRESH-INTERVAL;VALUE=DURATION:PT1H
X-Robots-Tag:noindex
X-PUBLISHED-TTL:PT1H
BEGIN:VTIMEZONE
TZID:America/Winnipeg
BEGIN:DAYLIGHT
TZOFFSETFROM:-0600
TZOFFSETTO:-0500
TZNAME:CDT
DTSTART:20160313T080000
END:DAYLIGHT
BEGIN:STANDARD
TZOFFSETFROM:-0500
TZOFFSETTO:-0600
TZNAME:CST
DTSTART:20161106T070000
END:STANDARD
BEGIN:DAYLIGHT
TZOFFSETFROM:-0600
TZOFFSETTO:-0500
TZNAME:CDT
DTSTART:20170312T080000
END:DAYLIGHT
BEGIN:STANDARD
TZOFFSETFROM:-0500
TZOFFSETTO:-0600
TZNAME:CST
DTSTART:20171105T070000
END:STANDARD
BEGIN:DAYLIGHT
TZOFFSETFROM:-0600
TZOFFSETTO:-0500
TZNAME:CDT
DTSTART:20180311T080000
END:DAYLIGHT
BEGIN:STANDARD
TZOFFSETFROM:-0500
TZOFFSETTO:-0600
TZNAME:CST
DTSTART:20181104T070000
END:STANDARD
END:VTIMEZONE
BEGIN:VEVENT
DTSTART;TZID=America/Winnipeg:20170303T213000
DTEND;TZID=America/Winnipeg:20170304T020000
DTSTAMP:20260419T221305
CREATED:20170227T220651Z
LAST-MODIFIED:20170304T235201Z
UID:49190-1488576600-1488592800@accesswinnipeg.com
SUMMARY:The HUB: Ballet Electric
DESCRIPTION:Culture Card is thrilled to announce that after an amazing reception from The HUB: Opening Night WSO\, that we are returning to the Centennial Concert Hall in collaboration with Canada’s Royal Winnipeg Ballet and Pride Winnipeg for the Friday\, March 3rd performance of Jean Grand-Maître’s critically acclaimed ‘Love Lies Bleeding’ performed by the Alberta Ballet. \nThis production features mesmerizing multimedia ballet and fuses the joy of pop/rock with the breathtaking physicality of ballet in a dance spectacular on par with the boldest Broadway productions. Featuring 14 classic songs by rock legends Sir Elton John and Bernie Taupin\, depicting a musician’s rise to superstardom.  \nBut the night doesn’t stop there. We have a ton in store for you as The HUB: Ballet Electric takes over the Centennial concert hall from 930PM – 2AM. \nCome dance to the music of DJ Wanda Guenette\, and MEMETIC’S Nathan Zahn who will be returning to The HUB once again! Enjoy the atmosphere and take in a creative art installation by Marc Kuegle and the VJ/ projections by Pixel Pusher from Winnipeg Vj’s\, and try your hand at some virtual reality art and dance courtesy of Bit Space Development. \nWe are thrilled to have Club 200 putting together an incredible and unique performance that will add flavour and spice to the event\, in addition we will also have entertainment by singer Mariana Cañadas throughout the night. Projections and Lighting by David Horton from InterFusion MEDIA. \nStay and see the wonderful creations of veteran fashion designer Alex Espinosa featured in an amazing production with Panache Management with hair by Salon POP and make up by The Artist Groupe. \nEnjoy a complimentary beer from Little Brown Jug Brewing Company and stay for a phenomenal evening of live music\, dance and celebration. \nCome enjoy a jam packed evening of culture and entertainment\, dance the night away and celebrate equality and multiculturalism with one of Winnipeg’s most well respected institutions. \nMore info and tickets for The HUB: Ballet Electric can be found here: http://bit.ly/BalletElectric \nTo purchase tickets for Alberta Ballet´s ‘Love\, Lies\, Bleeding’ prior to our after party\, please go to the RWB website here: https://buy.rwb.org/single/EventListing.aspx \n#SeeyouatTheHUB
URL:https://accesswinnipeg.com/event/the-hub-ballet-electric/
LOCATION:Centennial Concert Hall\, 555 Main St\, Winnipeg\, Manitoba\, R3B 1C3\, Canada
ATTACH;FMTTYPE=image/jpeg:https://accesswinnipeg.com/wp-content/uploads/2017/02/765ffff6b736fe7de2726cc567a92c18.jpg
END:VEVENT
BEGIN:VEVENT
DTSTART;TZID=America/Winnipeg:20170304T180000
DTEND;TZID=America/Winnipeg:20170304T180000
DTSTAMP:20260419T221305
CREATED:20170105T025104Z
LAST-MODIFIED:20170304T135153Z
UID:48074-1488650400-1488650400@accesswinnipeg.com
SUMMARY:Winnipeg Jets v Colorado Avalanche
DESCRIPTION:Winnipeg Jets v Colorado Avalanche
URL:https://accesswinnipeg.com/event/winnipeg-jets-v-colorado-avalanche/
LOCATION:MTS Centre\, 300 Portage Ave\, Winnipeg\, Manitoba\, R3C 5S4\, Canada
ATTACH;FMTTYPE=image/jpeg:https://accesswinnipeg.com/wp-content/uploads/2017/02/9a3112ba5e5e85fb419b5adbf1e11443.jpg
END:VEVENT
BEGIN:VEVENT
DTSTART;TZID=America/Winnipeg:20170304T200000
DTEND;TZID=America/Winnipeg:20170304T230000
DTSTAMP:20260419T221305
CREATED:20161124T034911Z
LAST-MODIFIED:20170221T203100Z
UID:41815-1488657600-1488668400@accesswinnipeg.com
SUMMARY:Blackie and the Rodeo Kings with special guests
DESCRIPTION:Blackie and the Rodeo Kings\nwith special guests\nSam Palladio and Jonathan Jackson \nSATURDAY\, MARCH 4\nBurton Cummings Theatre\, Winnipeg\nAll Ages / Reserved Seating\nDoors: 7:00PM / Show: 8:00PM  \nGet Tickets: http://bit.ly/2eYjPGC \nTickets: $20.00\, $30.00\, $45.00 (Incl GST) + s/c  \n-Blackie and The Rodeo Kings Online-\nWebsite:  http://blackieandtherodeokings.com/south/\nFacebook: https://www.facebook.com/blackieandtherodeokings\nYouTube: https://www.youtube.com/user/blackieandrodeokings\nTwitter: https://twitter.com/therodeokings \nAs promised Blackie and The Rodeo Kings deliver the companion to their 2011 collaboration album King And Queens. While Kings And Queens featured guest appearances from some of the band’s favourite female singers\, this album\, titled Kings And Kings features some of the band’s best “guy” friends from the world of roots\, blues and country. Each one of them an accomplished KING in their realm of creative endeavours and in many cases absolute king legends in the entertainment industry. \nThe album kicks off with the “Live By The Song”\, which is simply the autobiography of Blackie and the Rodeo Kings. A rarity in the fact that it was written by allt hree-principal members\, Colin Linden\, Tom Wilson\, and Stephen Fearing\, “Live By The Song” is really the biography of every working musician/songwriter committed to the ‘life’. Perfectly featuring the voice of Grammy Award winner Rodney Crowell and Fearing on the lead vocal\, the song conjures the winding path of uncertainty faced by all the players who really had no other choice but to follow it. \nIs there really more of songwriter’s songwriter than the incomparable Nick Lowe? Lowe brings elegance to “Secret of A Long Lasting Love” taking the lead throughout the song. \nThe spirit of the late Roy Orbison can be detected in the gorgeous rendition of Fearing’s “High Wire” featuring the impeccable voice of Raul Malo (The Mavericks). \n“A Woman Gets More Beautiful” situates long time friends and collaborators Linden and Bruce Cockburn. Linden produced a number of Cockburn’s albums. On this track the pair philosophize on the appreciation of timeless beauty\, slipping from English to French to English. Cockburn’s masterful guitar interplay is abundant. \nOn every Blackie and The Rodeo Kings album there is a song penned by their namesake\, the late great Willie P. Bennett. “This Lonesome Feeling” is a classic cowboy lament.Multi Grammy award winner and Country Music Hall of Fame legend Vince Gill takes it to the Mountain with his contribution. \n“Long Walk To Freedom” is Fearing with the iconic Kevin Moore (aka Keb Mo)\,long time friend and collaborator of Linden’s. \nBlackie and the Rodeo Kings originally formed in 1996 when Colin Linden\, Stephen Fearing\, and Tom Wilson came together to record what was supposed to be a one-off tribute album to the great Canadian songwriter Willie P. Bennett. At the time\, all three members were deeply committed to burgeoning solo careers that they had no intentions of putting on hold\, and had no plans to turn Blackie into an ongoing concern. \nNow twenty years later\, 8 albums\, one Juno Award\, and several Juno Award nominations under their belts\, Blackie and the Rodeo Kings have organically evolved into one of the finest roots-oriented bands in North America. Blackie and the Rodeo Kings remains one of Canada’s greatest musical treasures. \nStay up to date with Live Nation!\nhttps://www.facebook.com/livenationsaskatchewanandmanitoba\nhttps://twitter.com/livenationwest\nhttps://instagram.com/livenationskmb\nhttp://www.livenation.com
URL:https://accesswinnipeg.com/event/blackie-and-the-rodeo-kings/
LOCATION:Burton Cummings Theatre\, 364 Smith Street\, Winnipeg\, Manitoba\, R3B 2H2\, Canada
ATTACH;FMTTYPE=image/jpeg:https://accesswinnipeg.com/wp-content/uploads/2016/12/18701f93e87314c6163bfec6920edbce.jpg
END:VEVENT
END:VCALENDAR