BEGIN:VCALENDAR
VERSION:2.0
PRODID:-//Access Winnipeg - ECPv6.15.20//NONSGML v1.0//EN
CALSCALE:GREGORIAN
METHOD:PUBLISH
X-ORIGINAL-URL:https://accesswinnipeg.com
X-WR-CALDESC:Events for Access Winnipeg
REFRESH-INTERVAL;VALUE=DURATION:PT1H
X-Robots-Tag:noindex
X-PUBLISHED-TTL:PT1H
BEGIN:VTIMEZONE
TZID:America/Winnipeg
BEGIN:DAYLIGHT
TZOFFSETFROM:-0600
TZOFFSETTO:-0500
TZNAME:CDT
DTSTART:20160313T080000
END:DAYLIGHT
BEGIN:STANDARD
TZOFFSETFROM:-0500
TZOFFSETTO:-0600
TZNAME:CST
DTSTART:20161106T070000
END:STANDARD
BEGIN:DAYLIGHT
TZOFFSETFROM:-0600
TZOFFSETTO:-0500
TZNAME:CDT
DTSTART:20170312T080000
END:DAYLIGHT
BEGIN:STANDARD
TZOFFSETFROM:-0500
TZOFFSETTO:-0600
TZNAME:CST
DTSTART:20171105T070000
END:STANDARD
BEGIN:DAYLIGHT
TZOFFSETFROM:-0600
TZOFFSETTO:-0500
TZNAME:CDT
DTSTART:20180311T080000
END:DAYLIGHT
BEGIN:STANDARD
TZOFFSETFROM:-0500
TZOFFSETTO:-0600
TZNAME:CST
DTSTART:20181104T070000
END:STANDARD
END:VTIMEZONE
BEGIN:VEVENT
DTSTART;TZID=America/Winnipeg:20170311T180000
DTEND;TZID=America/Winnipeg:20170311T180000
DTSTAMP:20260419T221151
CREATED:20170105T025112Z
LAST-MODIFIED:20170311T153656Z
UID:48088-1489255200-1489255200@accesswinnipeg.com
SUMMARY:Winnipeg Jets v Calgary Flames
DESCRIPTION:Winnipeg Jets v Calgary Flames
URL:https://accesswinnipeg.com/event/winnipeg-jets-v-calgary-flames-2/
LOCATION:MTS Centre\, 300 Portage Ave\, Winnipeg\, Manitoba\, R3C 5S4\, Canada
ATTACH;FMTTYPE=image/jpeg:https://accesswinnipeg.com/wp-content/uploads/2017/02/f781970c4a5065da56e7353c434fd63a.jpg
END:VEVENT
BEGIN:VEVENT
DTSTART;TZID=America/Winnipeg:20170311T200000
DTEND;TZID=America/Winnipeg:20170311T200000
DTSTAMP:20260419T221151
CREATED:20161124T035157Z
LAST-MODIFIED:20170308T233645Z
UID:41871-1489262400-1489262400@accesswinnipeg.com
SUMMARY:Angela Hewitt plays Ravel
DESCRIPTION:Angela Hewitt is among the worlds most celebrated and recorded pianists. Hear this great Canadian in two of her specialties: the Spanish flare of Manuel de Fallas Nights in the Gardens of Spain plus Ravels jazz-infused Piano Concerto in G. Stravinskys Firebird Suite completes this exotic program.
URL:https://accesswinnipeg.com/event/angela-hewitt-plays-ravel-2/
LOCATION:Centennial Concert Hall\, 555 Main St\, Winnipeg\, Manitoba\, R3B 1C3\, Canada
ATTACH;FMTTYPE=image/jpeg:https://accesswinnipeg.com/wp-content/uploads/2017/02/ac88f4b939cfeabfcfd5f99496b679ab.jpg
END:VEVENT
END:VCALENDAR