BEGIN:VCALENDAR
VERSION:2.0
PRODID:-//Access Winnipeg - ECPv6.15.20//NONSGML v1.0//EN
CALSCALE:GREGORIAN
METHOD:PUBLISH
X-ORIGINAL-URL:https://accesswinnipeg.com
X-WR-CALDESC:Events for Access Winnipeg
REFRESH-INTERVAL;VALUE=DURATION:PT1H
X-Robots-Tag:noindex
X-PUBLISHED-TTL:PT1H
BEGIN:VTIMEZONE
TZID:America/Winnipeg
BEGIN:DAYLIGHT
TZOFFSETFROM:-0600
TZOFFSETTO:-0500
TZNAME:CDT
DTSTART:20160313T080000
END:DAYLIGHT
BEGIN:STANDARD
TZOFFSETFROM:-0500
TZOFFSETTO:-0600
TZNAME:CST
DTSTART:20161106T070000
END:STANDARD
BEGIN:DAYLIGHT
TZOFFSETFROM:-0600
TZOFFSETTO:-0500
TZNAME:CDT
DTSTART:20170312T080000
END:DAYLIGHT
BEGIN:STANDARD
TZOFFSETFROM:-0500
TZOFFSETTO:-0600
TZNAME:CST
DTSTART:20171105T070000
END:STANDARD
BEGIN:DAYLIGHT
TZOFFSETFROM:-0600
TZOFFSETTO:-0500
TZNAME:CDT
DTSTART:20180311T080000
END:DAYLIGHT
BEGIN:STANDARD
TZOFFSETFROM:-0500
TZOFFSETTO:-0600
TZNAME:CST
DTSTART:20181104T070000
END:STANDARD
END:VTIMEZONE
BEGIN:VEVENT
DTSTART;TZID=America/Winnipeg:20170314T180000
DTEND;TZID=America/Winnipeg:20170314T210000
DTSTAMP:20260419T221158
CREATED:20170105T025114Z
LAST-MODIFIED:20170314T160629Z
UID:48092-1489514400-1489525200@accesswinnipeg.com
SUMMARY:Manitoba Moose vs. Toronto Marlies
DESCRIPTION:Manitoba Moose vs. Toronto Marlies
URL:https://accesswinnipeg.com/event/manitoba-moose-vs-toronto-marlies-3/
LOCATION:MTS Centre\, 300 Portage Ave\, Winnipeg\, Manitoba\, R3C 5S4\, Canada
ATTACH;FMTTYPE=image/jpeg:https://accesswinnipeg.com/wp-content/uploads/2017/02/6e8d05746b9b941f98fbc282ae43d4be.jpg
END:VEVENT
BEGIN:VEVENT
DTSTART;TZID=America/Winnipeg:20170314T190000
DTEND;TZID=America/Winnipeg:20170314T220000
DTSTAMP:20260419T221158
CREATED:20161126T045803Z
LAST-MODIFIED:20170308T235139Z
UID:42382-1489518000-1489528800@accesswinnipeg.com
SUMMARY:Mother Mother: No Culture Tour
DESCRIPTION:Mother Mother\nNo Culture Tour\nWith very special guest K.Flay  \nTUESDAY\, MARCH 14\nBurton Cummings Theatre\nAll Ages / Reserved Seating\nDoors: 7:00PM / Show: 8:00PM  \nFB Presale: Wednesday\, November 30 at 10AM – Thursday\, December 1 at 10PM\nPassword: LOVESTUCK\nPublic On Sale: Friday\, December 2 at 10AM\nGet Tickets: http://bit.ly/2gqpZ1k \nTickets: $25.00\, $39.50 (Incl. GST) + s/c  \n-Mother Mother Online-\nWebsite: http://www.mothermothersite.com\nTwitter: http://www.twitter.com/mothermother\nFacebook: http://www.facebook.com/MotherMotherBook\nInstagram: http://www.instagram.com/mothermothermusic\nYoutube: http://www.youtube.com/mothermothermusic \nVancouver-based alt-rockers\, Mother Mother\, today announced their 2017 Canadian headlining tour\, which will kick off in Moncton\, NB on February 23.  The tour will see Mother Mother hitting twenty-five cities and travelling from coast-to-coast before wrapping in their hometown of Vancouver\, BC with four nights at the historic Commodore Ballroom. Joining the band on tour from March 3 – 26 is American alternative indie and hip hop singer-songwriter\, K. Flay. Tickets will go on sale to the general public on Friday\, December 2 at 10am local time. \nVIP packages are available November 25 at 11am EST and include a meet and greet and acoustic performance by the band\, as well as an exclusive T-shirt design by Molly Guldemond. Visit http://www.mothermothervip.com for details. \n“We are so very excited to take this new music on the road. It’s in this realm where the connection with our songs\, our fans\, and ourselves as musicians truly deepens. It’s where the circle completes itself\,” comments frontman and creative force Ryan Guldemond.  \nOn February 10\, 2017 via Universal Music Canada\, Mother Mother will be releasing their sixth studio album NO CULTURE. Co-produced by Brian Howes\, Ryan Guldemond and Jason “JVP” Van Poederooyen\, the new album delivers a timely statement underpinned by the belief that love wins in a society continuously nurturing a fear-based culture. \nThe pre-order is available now for NO CULTURE and features two instant grat tracks – one is their current single “The Drugs” and the other “Love Stuck” which\, until today\, has not been available for public consumption.  There will also be a special pre-order package that comes with a limited edition clear vinyl copy of the record\, four lithograph prints as well as a limited edition poster.   Tickets\, VIP packages\, and pre-orders can be purchased via Mother Mother’s website mothermothersite.com. \nAbout Mother Mother:\nThe Juno and MMVA nominated Vancouver-based band\, comprised of Ryan Guldemond\, Molly Guldemond\, Jasmin Parkin\, Mike Young\, and Ali Siadat\, earned critical acclaim with their first two outings Touch Up (2007) and O My Heart (2008). Their next two releases Eureka (2011) and The Sticks (2012) delivered the top 5 radio hits “The Stand”\, “Bit By Bit” and “Let’s Fall In Love”\, making the band the second most aired alternative act in Canada in 2012 and 2013. In 2014 they racked up more hits with “Get Out The Way”\, “Monkey Tree” and “Modern Love” from their much-lauded record Very Good Bad Thing. Since then\, they’ve garnered over 5 top ten singles on the alt rock charts\, over 1.5 million streams on Spotify and over 1.3 million views on Youtube. \nStay up to date with Live Nation!\nhttps://www.facebook.com/livenationsaskatchewanandmanitoba\nhttps://twitter.com/livenationwest\nhttps://instagram.com/livenationskmb\nhttp://www.livenation.com
URL:https://accesswinnipeg.com/event/mother-mother-no-culture-tour/
LOCATION:Burton Cummings Theatre\, 364 Smith Street\, Winnipeg\, Manitoba\, R3B 2H2\, Canada
ATTACH;FMTTYPE=image/jpeg:https://accesswinnipeg.com/wp-content/uploads/2017/03/ce404a8fc8072717b2f0a884d74bccae.jpg
END:VEVENT
END:VCALENDAR