BEGIN:VCALENDAR
VERSION:2.0
PRODID:-//Access Winnipeg - ECPv6.15.20//NONSGML v1.0//EN
CALSCALE:GREGORIAN
METHOD:PUBLISH
X-WR-CALNAME:Access Winnipeg
X-ORIGINAL-URL:https://accesswinnipeg.com
X-WR-CALDESC:Events for Access Winnipeg
REFRESH-INTERVAL;VALUE=DURATION:PT1H
X-Robots-Tag:noindex
X-PUBLISHED-TTL:PT1H
BEGIN:VTIMEZONE
TZID:America/Winnipeg
BEGIN:DAYLIGHT
TZOFFSETFROM:-0600
TZOFFSETTO:-0500
TZNAME:CDT
DTSTART:20160313T080000
END:DAYLIGHT
BEGIN:STANDARD
TZOFFSETFROM:-0500
TZOFFSETTO:-0600
TZNAME:CST
DTSTART:20161106T070000
END:STANDARD
BEGIN:DAYLIGHT
TZOFFSETFROM:-0600
TZOFFSETTO:-0500
TZNAME:CDT
DTSTART:20170312T080000
END:DAYLIGHT
BEGIN:STANDARD
TZOFFSETFROM:-0500
TZOFFSETTO:-0600
TZNAME:CST
DTSTART:20171105T070000
END:STANDARD
BEGIN:DAYLIGHT
TZOFFSETFROM:-0600
TZOFFSETTO:-0500
TZNAME:CDT
DTSTART:20180311T080000
END:DAYLIGHT
BEGIN:STANDARD
TZOFFSETFROM:-0500
TZOFFSETTO:-0600
TZNAME:CST
DTSTART:20181104T070000
END:STANDARD
END:VTIMEZONE
BEGIN:VEVENT
DTSTART;TZID=America/Winnipeg:20170318T180000
DTEND;TZID=America/Winnipeg:20170318T210000
DTSTAMP:20260419T232530
CREATED:20170105T025117Z
LAST-MODIFIED:20170318T170638Z
UID:48096-1489860000-1489870800@accesswinnipeg.com
SUMMARY:Manitoba Moose vs. Rockford IceHogs
DESCRIPTION:Manitoba Moose vs. Rockford IceHogs
URL:https://accesswinnipeg.com/event/manitoba-moose-vs-rockford-icehogs-4/
LOCATION:MTS Centre\, 300 Portage Ave\, Winnipeg\, Manitoba\, R3C 5S4\, Canada
ATTACH;FMTTYPE=image/jpeg:https://accesswinnipeg.com/wp-content/uploads/2017/02/83e1c41880547c56d269679c9f40064d.jpg
END:VEVENT
BEGIN:VEVENT
DTSTART;TZID=America/Winnipeg:20170318T190000
DTEND;TZID=America/Winnipeg:20170318T190000
DTSTAMP:20260419T232530
CREATED:20161124T035157Z
LAST-MODIFIED:20170308T233646Z
UID:41873-1489863600-1489863600@accesswinnipeg.com
SUMMARY:Air Canada Pops - Second City Guide to the Symphony
DESCRIPTION:The legendary Second City comedy theatre and the WSO team up in a hit show filled with sketch comedy\, satire\, songs\, improvisation\, and of course\, incredible classical music. Nothing is safe in this comic performance\, from the colourful musicians to the mighty Maestro\, from send-ups of classical music history and conventions to the manners and mannerisms of our beloved audiences.
URL:https://accesswinnipeg.com/event/air-canada-pops-second-city-guide-to-the-symphony-2/
LOCATION:Centennial Concert Hall\, 555 Main St\, Winnipeg\, Manitoba\, R3B 1C3\, Canada
ATTACH;FMTTYPE=image/jpeg:https://accesswinnipeg.com/wp-content/uploads/2017/02/18719771da85b40d938c96587a43c139.jpg
END:VEVENT
END:VCALENDAR