BEGIN:VCALENDAR
VERSION:2.0
PRODID:-//Access Winnipeg - ECPv6.15.20//NONSGML v1.0//EN
CALSCALE:GREGORIAN
METHOD:PUBLISH
X-WR-CALNAME:Access Winnipeg
X-ORIGINAL-URL:https://accesswinnipeg.com
X-WR-CALDESC:Events for Access Winnipeg
REFRESH-INTERVAL;VALUE=DURATION:PT1H
X-Robots-Tag:noindex
X-PUBLISHED-TTL:PT1H
BEGIN:VTIMEZONE
TZID:America/Winnipeg
BEGIN:DAYLIGHT
TZOFFSETFROM:-0600
TZOFFSETTO:-0500
TZNAME:CDT
DTSTART:20160313T080000
END:DAYLIGHT
BEGIN:STANDARD
TZOFFSETFROM:-0500
TZOFFSETTO:-0600
TZNAME:CST
DTSTART:20161106T070000
END:STANDARD
BEGIN:DAYLIGHT
TZOFFSETFROM:-0600
TZOFFSETTO:-0500
TZNAME:CDT
DTSTART:20170312T080000
END:DAYLIGHT
BEGIN:STANDARD
TZOFFSETFROM:-0500
TZOFFSETTO:-0600
TZNAME:CST
DTSTART:20171105T070000
END:STANDARD
BEGIN:DAYLIGHT
TZOFFSETFROM:-0600
TZOFFSETTO:-0500
TZNAME:CDT
DTSTART:20180311T080000
END:DAYLIGHT
BEGIN:STANDARD
TZOFFSETFROM:-0500
TZOFFSETTO:-0600
TZNAME:CST
DTSTART:20181104T070000
END:STANDARD
END:VTIMEZONE
BEGIN:VEVENT
DTSTART;TZID=America/Winnipeg:20170325T190000
DTEND;TZID=America/Winnipeg:20170325T190000
DTSTAMP:20260420T101833
CREATED:20161124T035208Z
LAST-MODIFIED:20170308T234549Z
UID:41876-1490468400-1490468400@accesswinnipeg.com
SUMMARY:Elijah
DESCRIPTION:The greatest oratorio since Handels Messiah\, Felix Mendelssohns Elijah is an early Romantic masterpiece. An outstanding cast of Manitoba soloists plus chorus recount the story of the Biblical prophet through beautiful hymns\, grand choruses and vivid sound pictures.
URL:https://accesswinnipeg.com/event/elijah-2/
LOCATION:Centennial Concert Hall\, 555 Main St\, Winnipeg\, Manitoba\, R3B 1C3\, Canada
ATTACH;FMTTYPE=image/jpeg:https://accesswinnipeg.com/wp-content/uploads/2017/03/e2a36900b41d511d6f6d645aa9296905.jpg
END:VEVENT
END:VCALENDAR