BEGIN:VCALENDAR
VERSION:2.0
PRODID:-//Access Winnipeg - ECPv6.15.20//NONSGML v1.0//EN
CALSCALE:GREGORIAN
METHOD:PUBLISH
X-ORIGINAL-URL:https://accesswinnipeg.com
X-WR-CALDESC:Events for Access Winnipeg
REFRESH-INTERVAL;VALUE=DURATION:PT1H
X-Robots-Tag:noindex
X-PUBLISHED-TTL:PT1H
BEGIN:VTIMEZONE
TZID:America/Winnipeg
BEGIN:DAYLIGHT
TZOFFSETFROM:-0600
TZOFFSETTO:-0500
TZNAME:CDT
DTSTART:20160313T080000
END:DAYLIGHT
BEGIN:STANDARD
TZOFFSETFROM:-0500
TZOFFSETTO:-0600
TZNAME:CST
DTSTART:20161106T070000
END:STANDARD
BEGIN:DAYLIGHT
TZOFFSETFROM:-0600
TZOFFSETTO:-0500
TZNAME:CDT
DTSTART:20170312T080000
END:DAYLIGHT
BEGIN:STANDARD
TZOFFSETFROM:-0500
TZOFFSETTO:-0600
TZNAME:CST
DTSTART:20171105T070000
END:STANDARD
BEGIN:DAYLIGHT
TZOFFSETFROM:-0600
TZOFFSETTO:-0500
TZNAME:CDT
DTSTART:20180311T080000
END:DAYLIGHT
BEGIN:STANDARD
TZOFFSETFROM:-0500
TZOFFSETTO:-0600
TZNAME:CST
DTSTART:20181104T070000
END:STANDARD
END:VTIMEZONE
BEGIN:VEVENT
DTSTART;TZID=America/Winnipeg:20170331T170000
DTEND;TZID=America/Winnipeg:20170401T160000
DTSTAMP:20260419T170233
CREATED:20170223T120013Z
LAST-MODIFIED:20170331T192143Z
UID:49020-1490979600-1491062400@accesswinnipeg.com
SUMMARY:Boarder X Film Fest
DESCRIPTION:Watch two days of skateboarding\, surfing\, and snowboarding docs\, shorts\, and videos by local stars. \nFREE event* • Snacks available for purchase • Cash bar\nMore info at http://wag.ca/visit/events/specialevents/display\,event/972/boarder-x-film-fest \nFriday\, March 31\, 6-9pm\n• The Legend of Eddie Aikau\, 2013 (90 min)\, examines the legacy of the fearless big wave surfer and first-ever North Shore lifeguard. \n• The Little Things\, 2014 (47 min)\, features environmentally conscious snowboarders who are inspirational through their riding\, while bringing to the surface the importance of protecting and living in balance with our environment. \nSaturday\, April 1\, 1-5pm\n• Northern Grease\, 2013 (75 min)\, follows Tamo Campos\, John Muirhead\, and Jasper Snow Rosen as they travel in a vegetable oil fueled bus throughout British Columbia and Alberta\, on a mission to understand Canadian resource extraction projects. \n• Skateboarding in Pine Ridge\, 2015 (20 min)\, presented by Levi’s Skateboarding\, documents the impact a skate park in Pine Ridge\, South Dakota\, has had on its residents. \n• Red Riding Film Sequence (50 min) A series of local docs and films produced by Red Riding Media\, the largest archive of Winnipeg’s skateboarding media. \n*Does not include access to the galleries.
URL:https://accesswinnipeg.com/event/boarder-x-film-fest/
LOCATION:Winnipeg Art Gallery\, 300 Memorial Boulevard\, Winnipeg\, Manitoba\, R3C 1V1\, Canada
ATTACH;FMTTYPE=image/jpeg:https://accesswinnipeg.com/wp-content/uploads/2017/03/4962120e4e0b559e64b9b7b11a1339c4.jpg
END:VEVENT
BEGIN:VEVENT
DTSTART;TZID=America/Winnipeg:20170401T130000
DTEND;TZID=America/Winnipeg:20170401T130000
DTSTAMP:20260419T170233
CREATED:20161124T035208Z
LAST-MODIFIED:20170309T000005Z
UID:41879-1491051600-1491051600@accesswinnipeg.com
SUMMARY:Dirty Dancing (Touring)
DESCRIPTION:DIRTY DANCING – THE CLASSIC STORY ON STAGE is a record-breaking live theatre sensation\, exploding with heart-pounding music\, passionate romance and sensational dancing. London’s Sunday Express says “This crowd-pleasing stage adaptation hits the jackpot!” Featuring the hit songs\, “Hungry Eyes\,” “Hey Baby\,” “Do you Love Me?” and the heart stopping “(I’ve Had) The Time of My Life.” You’ll have the time of your life! Presented by Broadway Across Canada
URL:https://accesswinnipeg.com/event/dirty-dancing-touring-2/
LOCATION:Centennial Concert Hall\, 555 Main St\, Winnipeg\, Manitoba\, R3B 1C3\, Canada
ATTACH;FMTTYPE=image/jpeg:https://accesswinnipeg.com/wp-content/uploads/2017/02/f99697b6d1531cfa89b3772c31e1856c.jpg
END:VEVENT
BEGIN:VEVENT
DTSTART;TZID=America/Winnipeg:20170401T170000
DTEND;TZID=America/Winnipeg:20170401T170000
DTSTAMP:20260419T170233
CREATED:20170105T025129Z
LAST-MODIFIED:20170401T193646Z
UID:48114-1491066000-1491066000@accesswinnipeg.com
SUMMARY:Winnipeg Jets v Ottawa Senators
DESCRIPTION:Sale Dates and Times: \nPublic Onsale : Fri\, 9 Dec 2016 at 10:00 AM
URL:https://accesswinnipeg.com/event/winnipeg-jets-v-ottawa-senators/
LOCATION:MTS Centre\, 300 Portage Avenue \, Winnipeg\, Manitoba\, R3C 5S4\, Canada
ATTACH;FMTTYPE=image/jpeg:https://accesswinnipeg.com/wp-content/uploads/2017/04/82d764aa72ca37ed0a493f7606e8b86e.jpg
END:VEVENT
BEGIN:VEVENT
DTSTART;TZID=America/Winnipeg:20170401T190000
DTEND;TZID=America/Winnipeg:20170401T190000
DTSTAMP:20260419T170233
CREATED:20161124T035210Z
LAST-MODIFIED:20170309T000005Z
UID:41880-1491073200-1491073200@accesswinnipeg.com
SUMMARY:Dirty Dancing (Touring)
DESCRIPTION:DIRTY DANCING – THE CLASSIC STORY ON STAGE is a record-breaking live theatre sensation\, exploding with heart-pounding music\, passionate romance and sensational dancing. London’s Sunday Express says “This crowd-pleasing stage adaptation hits the jackpot!” Featuring the hit songs\, “Hungry Eyes\,” “Hey Baby\,” “Do you Love Me?” and the heart stopping “(I’ve Had) The Time of My Life.” You’ll have the time of your life! Presented by Broadway Across Canada
URL:https://accesswinnipeg.com/event/dirty-dancing-touring-3/
LOCATION:Centennial Concert Hall\, 555 Main St\, Winnipeg\, Manitoba\, R3B 1C3\, Canada
ATTACH;FMTTYPE=image/jpeg:https://accesswinnipeg.com/wp-content/uploads/2017/02/a3cbc2da43b5c01a5640a643f9b1141d.jpg
END:VEVENT
END:VCALENDAR