BEGIN:VCALENDAR
VERSION:2.0
PRODID:-//Access Winnipeg - ECPv6.15.20//NONSGML v1.0//EN
CALSCALE:GREGORIAN
METHOD:PUBLISH
X-ORIGINAL-URL:https://accesswinnipeg.com
X-WR-CALDESC:Events for Access Winnipeg
REFRESH-INTERVAL;VALUE=DURATION:PT1H
X-Robots-Tag:noindex
X-PUBLISHED-TTL:PT1H
BEGIN:VTIMEZONE
TZID:America/Winnipeg
BEGIN:DAYLIGHT
TZOFFSETFROM:-0600
TZOFFSETTO:-0500
TZNAME:CDT
DTSTART:20160313T080000
END:DAYLIGHT
BEGIN:STANDARD
TZOFFSETFROM:-0500
TZOFFSETTO:-0600
TZNAME:CST
DTSTART:20161106T070000
END:STANDARD
BEGIN:DAYLIGHT
TZOFFSETFROM:-0600
TZOFFSETTO:-0500
TZNAME:CDT
DTSTART:20170312T080000
END:DAYLIGHT
BEGIN:STANDARD
TZOFFSETFROM:-0500
TZOFFSETTO:-0600
TZNAME:CST
DTSTART:20171105T070000
END:STANDARD
BEGIN:DAYLIGHT
TZOFFSETFROM:-0600
TZOFFSETTO:-0500
TZNAME:CDT
DTSTART:20180311T080000
END:DAYLIGHT
BEGIN:STANDARD
TZOFFSETFROM:-0500
TZOFFSETTO:-0600
TZNAME:CST
DTSTART:20181104T070000
END:STANDARD
END:VTIMEZONE
BEGIN:VEVENT
DTSTART;TZID=America/Winnipeg:20170402T130000
DTEND;TZID=America/Winnipeg:20170402T130000
DTSTAMP:20260419T170233
CREATED:20161124T035210Z
LAST-MODIFIED:20170309T000005Z
UID:41881-1491138000-1491138000@accesswinnipeg.com
SUMMARY:Dirty Dancing (Touring)
DESCRIPTION:DIRTY DANCING – THE CLASSIC STORY ON STAGE is a record-breaking live theatre sensation\, exploding with heart-pounding music\, passionate romance and sensational dancing. London’s Sunday Express says “This crowd-pleasing stage adaptation hits the jackpot!” Featuring the hit songs\, “Hungry Eyes\,” “Hey Baby\,” “Do you Love Me?” and the heart stopping “(I’ve Had) The Time of My Life.” You’ll have the time of your life! Presented by Broadway Across Canada
URL:https://accesswinnipeg.com/event/dirty-dancing-touring-4/
LOCATION:Centennial Concert Hall\, 555 Main St\, Winnipeg\, Manitoba\, R3B 1C3\, Canada
ATTACH;FMTTYPE=image/jpeg:https://accesswinnipeg.com/wp-content/uploads/2017/03/316bbee56021b224d636d55aa6167e44.jpg
END:VEVENT
BEGIN:VEVENT
DTSTART;TZID=America/Winnipeg:20170402T183000
DTEND;TZID=America/Winnipeg:20170402T183000
DTSTAMP:20260419T170233
CREATED:20161124T035210Z
LAST-MODIFIED:20170309T000007Z
UID:41882-1491157800-1491157800@accesswinnipeg.com
SUMMARY:Dirty Dancing (Touring)
DESCRIPTION:DIRTY DANCING – THE CLASSIC STORY ON STAGE is a record-breaking live theatre sensation\, exploding with heart-pounding music\, passionate romance and sensational dancing. London’s Sunday Express says “This crowd-pleasing stage adaptation hits the jackpot!” Featuring the hit songs\, “Hungry Eyes\,” “Hey Baby\,” “Do you Love Me?” and the heart stopping “(I’ve Had) The Time of My Life.” You’ll have the time of your life! Presented by Broadway Across Canada
URL:https://accesswinnipeg.com/event/dirty-dancing-touring-5/
LOCATION:Centennial Concert Hall\, 555 Main St\, Winnipeg\, Manitoba\, R3B 1C3\, Canada
ATTACH;FMTTYPE=image/jpeg:https://accesswinnipeg.com/wp-content/uploads/2017/02/15efde03bac149314e79a9b37c75e72d.jpg
END:VEVENT
BEGIN:VEVENT
DTSTART;TZID=America/Winnipeg:20170402T183000
DTEND;TZID=America/Winnipeg:20170402T213000
DTSTAMP:20260419T170233
CREATED:20170211T103637Z
LAST-MODIFIED:20170403T200651Z
UID:48838-1491157800-1491168600@accesswinnipeg.com
SUMMARY:Weezer at MTS Centre
DESCRIPTION:Sale Dates and Times: \nPublic Onsale : Fri\, 20 Jan 2017 at 10:00 AM \nInternet Presale : Wed\, 18 Jan 2017 at 10:00 AM \nInternet Presale : Thu\, 19 Jan 2017 at 10:00 AM \nInternet Presale : Wed\, 18 Jan 2017 at 11:00 AM
URL:https://accesswinnipeg.com/event/weezer-at-mts-centre/
LOCATION:MTS Centre\, 300 Portage Ave\, Winnipeg\, Manitoba\, R3C 5S4\, Canada
ATTACH;FMTTYPE=image/jpeg:https://accesswinnipeg.com/wp-content/uploads/2017/03/d980ee3e2eb425ced50471045c41ddcf.jpg
END:VEVENT
BEGIN:VEVENT
DTSTART;TZID=America/Winnipeg:20170402T190000
DTEND;TZID=America/Winnipeg:20170402T190000
DTSTAMP:20260419T170233
CREATED:20161207T064252Z
LAST-MODIFIED:20170211T181540Z
UID:44628-1491159600-1491159600@accesswinnipeg.com
SUMMARY:Merle Haggards Strangers Featuring Ben & Noel Haggard
DESCRIPTION:MERLE HAGGARD’S STRANGERS\, FEATURING BEN & NOEL HAGGARD 7PM DOORS 8PM SHOW ALL AGES
URL:https://accesswinnipeg.com/event/merle-haggards-strangers-featuring-ben-noel-haggard/
LOCATION:Club Regent Event Centre\, 1425 Regent Avenue West\, Winnipeg\, MB\, R2C 3B2\, Canada
ATTACH;FMTTYPE=image/jpeg:https://accesswinnipeg.com/wp-content/uploads/2017/01/b1f623af9b612418112ffe08459b92c4.jpg
END:VEVENT
END:VCALENDAR