BEGIN:VCALENDAR
VERSION:2.0
PRODID:-//Access Winnipeg - ECPv6.15.20//NONSGML v1.0//EN
CALSCALE:GREGORIAN
METHOD:PUBLISH
X-WR-CALNAME:Access Winnipeg
X-ORIGINAL-URL:https://accesswinnipeg.com
X-WR-CALDESC:Events for Access Winnipeg
REFRESH-INTERVAL;VALUE=DURATION:PT1H
X-Robots-Tag:noindex
X-PUBLISHED-TTL:PT1H
BEGIN:VTIMEZONE
TZID:America/Winnipeg
BEGIN:DAYLIGHT
TZOFFSETFROM:-0600
TZOFFSETTO:-0500
TZNAME:CDT
DTSTART:20160313T080000
END:DAYLIGHT
BEGIN:STANDARD
TZOFFSETFROM:-0500
TZOFFSETTO:-0600
TZNAME:CST
DTSTART:20161106T070000
END:STANDARD
BEGIN:DAYLIGHT
TZOFFSETFROM:-0600
TZOFFSETTO:-0500
TZNAME:CDT
DTSTART:20170312T080000
END:DAYLIGHT
BEGIN:STANDARD
TZOFFSETFROM:-0500
TZOFFSETTO:-0600
TZNAME:CST
DTSTART:20171105T070000
END:STANDARD
BEGIN:DAYLIGHT
TZOFFSETFROM:-0600
TZOFFSETTO:-0500
TZNAME:CDT
DTSTART:20180311T080000
END:DAYLIGHT
BEGIN:STANDARD
TZOFFSETFROM:-0500
TZOFFSETTO:-0600
TZNAME:CST
DTSTART:20181104T070000
END:STANDARD
END:VTIMEZONE
BEGIN:VEVENT
DTSTART;TZID=America/Winnipeg:20170407T180000
DTEND;TZID=America/Winnipeg:20170407T210000
DTSTAMP:20260419T221324
CREATED:20170105T025132Z
LAST-MODIFIED:20170105T025132Z
UID:48126-1491588000-1491598800@accesswinnipeg.com
SUMMARY:Manitoba Moose vs. Tucson Roadrunners
DESCRIPTION:Manitoba Moose vs. Tucson Roadrunners
URL:https://accesswinnipeg.com/event/manitoba-moose-vs-tucson-roadrunners-2/
LOCATION:MTS Centre\, 300 Portage Ave\, Winnipeg\, Manitoba\, R3C 5S4\, Canada
ATTACH;FMTTYPE=image/jpeg:https://accesswinnipeg.com/wp-content/uploads/2017/01/40a58e2a0a49d5dab76384a22497f328-1.jpg
END:VEVENT
BEGIN:VEVENT
DTSTART;TZID=America/Winnipeg:20170407T180000
DTEND;TZID=America/Winnipeg:20170407T210000
DTSTAMP:20260419T221324
CREATED:20170105T025132Z
LAST-MODIFIED:20170407T205146Z
UID:48124-1491588000-1491598800@accesswinnipeg.com
SUMMARY:Manitoba Moose vs. Tucson Roadrunners
DESCRIPTION:Sale Dates and Times: \nPublic Onsale : Sat\, 17 Sep 2016 at 10:00 AM \nPresale Offer : Thu\, 15 Sep 2016 at 10:00 AM
URL:https://accesswinnipeg.com/event/manitoba-moose-vs-tucson-roadrunners/
LOCATION:MTS Centre\, 300 Portage Ave\, Winnipeg\, Manitoba\, R3C 5S4\, Canada
ATTACH;FMTTYPE=image/jpeg:https://accesswinnipeg.com/wp-content/uploads/2017/03/c17dedfcf6df0e685dd3575b88a38ee5.jpg
END:VEVENT
BEGIN:VEVENT
DTSTART;TZID=America/Winnipeg:20170407T190000
DTEND;TZID=America/Winnipeg:20170407T190000
DTSTAMP:20260419T221324
CREATED:20161124T035210Z
LAST-MODIFIED:20170309T000007Z
UID:41883-1491591600-1491591600@accesswinnipeg.com
SUMMARY:Air Canada Pops � South Pacific
DESCRIPTION:The full WSO teams up with Rainbow Stage to bring you South Pacific as never before! On an island during World War II\, love blooms between a young nurse and a secretive Frenchman who is being courted for a dangerous military mission. This unique collaboration brings new life to the classic Rodgers & Hammerstein musical to create a fun and lively concert experience you will not soon forget!
URL:https://accesswinnipeg.com/event/air-canada-pops-%ef%bf%bd-south-pacific/
LOCATION:Centennial Concert Hall\, 555 Main St\, Winnipeg\, Manitoba\, R3B 1C3\, Canada
ATTACH;FMTTYPE=image/jpeg:https://accesswinnipeg.com/wp-content/uploads/2017/02/50daf851a5e2ae3667a62c3e5ca28997.jpg
END:VEVENT
END:VCALENDAR