BEGIN:VCALENDAR
VERSION:2.0
PRODID:-//Access Winnipeg - ECPv6.15.20//NONSGML v1.0//EN
CALSCALE:GREGORIAN
METHOD:PUBLISH
X-WR-CALNAME:Access Winnipeg
X-ORIGINAL-URL:https://accesswinnipeg.com
X-WR-CALDESC:Events for Access Winnipeg
REFRESH-INTERVAL;VALUE=DURATION:PT1H
X-Robots-Tag:noindex
X-PUBLISHED-TTL:PT1H
BEGIN:VTIMEZONE
TZID:America/Winnipeg
BEGIN:DAYLIGHT
TZOFFSETFROM:-0600
TZOFFSETTO:-0500
TZNAME:CDT
DTSTART:20160313T080000
END:DAYLIGHT
BEGIN:STANDARD
TZOFFSETFROM:-0500
TZOFFSETTO:-0600
TZNAME:CST
DTSTART:20161106T070000
END:STANDARD
BEGIN:DAYLIGHT
TZOFFSETFROM:-0600
TZOFFSETTO:-0500
TZNAME:CDT
DTSTART:20170312T080000
END:DAYLIGHT
BEGIN:STANDARD
TZOFFSETFROM:-0500
TZOFFSETTO:-0600
TZNAME:CST
DTSTART:20171105T070000
END:STANDARD
BEGIN:DAYLIGHT
TZOFFSETFROM:-0600
TZOFFSETTO:-0500
TZNAME:CDT
DTSTART:20180311T080000
END:DAYLIGHT
BEGIN:STANDARD
TZOFFSETFROM:-0500
TZOFFSETTO:-0600
TZNAME:CST
DTSTART:20181104T070000
END:STANDARD
END:VTIMEZONE
BEGIN:VEVENT
DTSTART;TZID=America/Winnipeg:20170413T170000
DTEND;TZID=America/Winnipeg:20170413T200000
DTSTAMP:20260420T014628
CREATED:20161124T034916Z
LAST-MODIFIED:20170412T063648Z
UID:41820-1492102800-1492113600@accesswinnipeg.com
SUMMARY:Peppa Pig Live!
DESCRIPTION:Peppa Pig Live!\nPeppa’s Big Splash \nTHURSDAY\, APRIL 13\, 2017\nBurton Cummings Theatre\, Winnipeg\nAll Ages / Reserved Seating\nDoors 5:00PM / Show 6:00PM \nFacebook Presale: Wed\, Sept 14 at 10am – Thurs\, Sept 15 at 10pm\nPassword: RECORD\nOn Sale: Friday\, September 16 at 10AM\nGet Tickets: http://bit.ly/2c1sCGk \nTickets (incl. GST) $37.50 / $49.50 / Me + 3 4-Pack Tickets $110.00 + s/c \n– Peppa Pig Online –\nWebsite: http://www.peppapigliveus.com\nFacebook: https://www.facebook.com/PeppaPigLiveUS\nYouTube/VEVO: https://www.youtube.com/user/theofficialpeppa\nTwitter: https://twitter.com/peppapigus \nThe Peppa Pig stage show\, based on Entertainment One’s (eOne) top-rated TV series airing daily on Nick Jr.\, is one of the most successful family tours this year. It has sold 250\,000 tickets in the U.S. to date with 75 venues completely selling out. The fun-filled show brings the hit TV series to life on stage\, giving families the opportunity to engage with their favorite characters like never before for in an unforgettable first live theater experience.  \n“Peppa Pig’s Big Splash has been so successful because kids adore interacting with the characters on stage. Just like the incredibly popular TV series\, the live show is funny\, lighthearted and a delight for the whole family\,” said Jonathan Shank\, Executive Producer\, Red Light Management. \n“Peppa Pig’s Big Splash is everything fans love and expect from the TV show combined with the excitement of live theater\,” said Lib Campbell\, the actress who beat out 2\,000 people who auditioned to play the role of Peppa Pig live on stage. “Everyone gets the chance to jump in muddy puddles with Peppa and sing along with Polly Parrot. Fans at each show can be seen singing and dancing in the aisles.”\n“The live show features a lively blend of costumed characters and puppets that walk\, talk\, dance\, and jump up and down to give audiences a unique\, interactive theatrical experience from the moment we open the curtain\,” said Director Richard Lewis. “Peppa Pig’s Big Splash is a fully immersive musical production featuring a dozen familiar and original songs\, as well as a sing-a-long.” \nIn Peppa Pig’s Big Splash\, the nursery roof is leaking and Peppa and her friends need to fix it quickly. They set up a fair to raise money so Mr. Bull can do the repairs. There’s plenty of fun to be had as Peppa\, George\, Mummy and Daddy Pig\, along with Danny Dog\, Pedro Pony and Suzy Sheep work together to organize an exciting day out complete with a Champion Puddle Jumping Competition judged by Mr. Potato\, where everyone gets wet! An interactive experience full of singing\, dancing\, games\, and muddy puddles\, Peppa Pig’s Big Splash is a guaranteed oinktastic blast for the whole family. \nEpisodes of Peppa Pig currently air on the Nick Jr. channel\, in nearly 73 million households daily. \nStay up to date with Live Nation!\nhttps://www.facebook.com/livenationsaskatchewanandmanitoba\nhttps://twitter.com/livenationwest\nhttps://instagram.com/livenationskmb\nhttp://www.livenation.com
URL:https://accesswinnipeg.com/event/peppa-pig-live/
LOCATION:Burton Cummings Theatre\, 364 Smith Street\, Winnipeg\, Manitoba\, R3B 2H2\, Canada
ATTACH;FMTTYPE=image/jpeg:https://accesswinnipeg.com/wp-content/uploads/2017/04/9a2b2c939b17a2b3260d9aa909467081.jpg
END:VEVENT
END:VCALENDAR