BEGIN:VCALENDAR
VERSION:2.0
PRODID:-//Access Winnipeg - ECPv6.15.20//NONSGML v1.0//EN
CALSCALE:GREGORIAN
METHOD:PUBLISH
X-WR-CALNAME:Access Winnipeg
X-ORIGINAL-URL:https://accesswinnipeg.com
X-WR-CALDESC:Events for Access Winnipeg
REFRESH-INTERVAL;VALUE=DURATION:PT1H
X-Robots-Tag:noindex
X-PUBLISHED-TTL:PT1H
BEGIN:VTIMEZONE
TZID:America/Winnipeg
BEGIN:DAYLIGHT
TZOFFSETFROM:-0600
TZOFFSETTO:-0500
TZNAME:CDT
DTSTART:20160313T080000
END:DAYLIGHT
BEGIN:STANDARD
TZOFFSETFROM:-0500
TZOFFSETTO:-0600
TZNAME:CST
DTSTART:20161106T070000
END:STANDARD
BEGIN:DAYLIGHT
TZOFFSETFROM:-0600
TZOFFSETTO:-0500
TZNAME:CDT
DTSTART:20170312T080000
END:DAYLIGHT
BEGIN:STANDARD
TZOFFSETFROM:-0500
TZOFFSETTO:-0600
TZNAME:CST
DTSTART:20171105T070000
END:STANDARD
BEGIN:DAYLIGHT
TZOFFSETFROM:-0600
TZOFFSETTO:-0500
TZNAME:CDT
DTSTART:20180311T080000
END:DAYLIGHT
BEGIN:STANDARD
TZOFFSETFROM:-0500
TZOFFSETTO:-0600
TZNAME:CST
DTSTART:20181104T070000
END:STANDARD
END:VTIMEZONE
BEGIN:VEVENT
DTSTART;TZID=America/Winnipeg:20170415T190000
DTEND;TZID=America/Winnipeg:20170415T190000
DTSTAMP:20260421T004837
CREATED:20161214T075750Z
LAST-MODIFIED:20170414T070645Z
UID:46041-1492282800-1492282800@accesswinnipeg.com
SUMMARY:Brian Wilson presents Pet Sounds: The Final Performances
DESCRIPTION:Sale Dates and Times:\nVIP Package Presale : Wed\, 19 Oct 2016 at 10:00 AM\nVIP Package Public Onsale : Fri\, 21 Oct 2016 at 10:00 AM \nPublic Onsale : Fri\, 21 Oct 2016 at 10:00 AM
URL:https://accesswinnipeg.com/event/brian-wilson-presents-pet-sounds-the-final-performances/
LOCATION:Burton Cummings Theatre\, 364 Smith Street\, Winnipeg\, Manitoba\, R3B 2H2\, Canada
ATTACH;FMTTYPE=image/jpeg:https://accesswinnipeg.com/wp-content/uploads/2017/04/6f8a27f631f764b89f9e90fe5b4d185f.jpg
END:VEVENT
BEGIN:VEVENT
DTSTART;TZID=America/Winnipeg:20170415T190000
DTEND;TZID=America/Winnipeg:20170415T220000
DTSTAMP:20260421T004837
CREATED:20161124T034917Z
LAST-MODIFIED:20170414T070645Z
UID:41822-1492282800-1492293600@accesswinnipeg.com
SUMMARY:Brian Wilson- Pet Sounds 50th Anniversary at Burton Cummings
DESCRIPTION:Brian Wilson EXTENDS\nPET SOUNDS 50th ANNIVERSARY WORLD TOUR\nANNOUNCING NEW DATES FOR 2017! \nAPRIL 15th at Burton Cummings Theatre\, WINNIPEG\nTickets On Sale Friday\, October 21st at 10AM available at all Ticketmaster locations & Ticketmaster.ca \n41-NORTH AMERICAN SHOWS ADDED BY POPULAR DEMAND TO PET SOUNDS: THE FINAL PERFORMANCES \nWith one of the most in demand concert outings of the year\, music legend Brian Wilson is extending the final performance run of his Pet Sounds 50th Anniversary World Tour and announcing a slate of new North American show dates for 2017 to celebrate and perform the iconic album Pet Sounds for a final time. Currently on the road and performing his last shows of the year\, the tour will pick up again in the spring with an initial 41 new dates added to the Pet Sounds: The Final Performances tour run. VIP ticket presales begin today with general onsale beginning Friday. A full list of tour dates is below with up-to-date ticketing\, show information and more at http://www.BrianWilson.com. In addition\, fans everywhere can now purchase the autobiography “I Am Brian Wilson: A Memoir” (De Capo Press)\, available at retailers everywhere.
URL:https://accesswinnipeg.com/event/brian-wilson-pet-sounds-50th-anniversary-at-burton-cummings/
LOCATION:Burton Cummings Theatre\, 364 Smith Street\, Winnipeg\, Manitoba\, R3B 2H2\, Canada
ATTACH;FMTTYPE=image/jpeg:https://accesswinnipeg.com/wp-content/uploads/2017/04/657923d752a730d64610df49b784a069.jpg
END:VEVENT
END:VCALENDAR