BEGIN:VCALENDAR
VERSION:2.0
PRODID:-//Access Winnipeg - ECPv6.15.20//NONSGML v1.0//EN
CALSCALE:GREGORIAN
METHOD:PUBLISH
X-ORIGINAL-URL:https://accesswinnipeg.com
X-WR-CALDESC:Events for Access Winnipeg
REFRESH-INTERVAL;VALUE=DURATION:PT1H
X-Robots-Tag:noindex
X-PUBLISHED-TTL:PT1H
BEGIN:VTIMEZONE
TZID:America/Winnipeg
BEGIN:DAYLIGHT
TZOFFSETFROM:-0600
TZOFFSETTO:-0500
TZNAME:CDT
DTSTART:20160313T080000
END:DAYLIGHT
BEGIN:STANDARD
TZOFFSETFROM:-0500
TZOFFSETTO:-0600
TZNAME:CST
DTSTART:20161106T070000
END:STANDARD
BEGIN:DAYLIGHT
TZOFFSETFROM:-0600
TZOFFSETTO:-0500
TZNAME:CDT
DTSTART:20170312T080000
END:DAYLIGHT
BEGIN:STANDARD
TZOFFSETFROM:-0500
TZOFFSETTO:-0600
TZNAME:CST
DTSTART:20171105T070000
END:STANDARD
BEGIN:DAYLIGHT
TZOFFSETFROM:-0600
TZOFFSETTO:-0500
TZNAME:CDT
DTSTART:20180311T080000
END:DAYLIGHT
BEGIN:STANDARD
TZOFFSETFROM:-0500
TZOFFSETTO:-0600
TZNAME:CST
DTSTART:20181104T070000
END:STANDARD
END:VTIMEZONE
BEGIN:VEVENT
DTSTART;TZID=America/Winnipeg:20170507T130000
DTEND;TZID=America/Winnipeg:20170507T130000
DTSTAMP:20260420T025512
CREATED:20161124T034920Z
LAST-MODIFIED:20170414T071522Z
UID:41828-1494162000-1494162000@accesswinnipeg.com
SUMMARY:Stomp
DESCRIPTION:Stomp
URL:https://accesswinnipeg.com/event/stomp-3/
LOCATION:Burton Cummings Theatre\, 364 Smith Street\, Winnipeg\, Manitoba\, R3B 2H2\, Canada
ATTACH;FMTTYPE=image/jpeg:https://accesswinnipeg.com/wp-content/uploads/2017/04/2bc77db3a41b535984593e23288454a5.jpg
END:VEVENT
BEGIN:VEVENT
DTSTART;TZID=America/Winnipeg:20170507T130000
DTEND;TZID=America/Winnipeg:20170507T130000
DTSTAMP:20260420T025512
CREATED:20161124T035212Z
LAST-MODIFIED:20170309T003015Z
UID:41889-1494162000-1494162000@accesswinnipeg.com
SUMMARY:Fred Penner
DESCRIPTION:Once upon a time Fred Penner sang a childrens song about a cat coming back. Now the children are coming back\, except they are adults and they are bringing their own kids to hear the magic of Fred Penner. Fred has been entertaining audiences of ALL ages for over 40 years. And with the WSO\, the experience becomes extra special!
URL:https://accesswinnipeg.com/event/fred-penner/
LOCATION:Centennial Concert Hall\, 555 Main St\, Winnipeg\, Manitoba\, R3B 1C3\, Canada
ATTACH;FMTTYPE=image/jpeg:https://accesswinnipeg.com/wp-content/uploads/2017/02/95a740444cc8662589f55da356e8de2f.jpg
END:VEVENT
END:VCALENDAR