BEGIN:VCALENDAR
VERSION:2.0
PRODID:-//Access Winnipeg - ECPv6.15.20//NONSGML v1.0//EN
CALSCALE:GREGORIAN
METHOD:PUBLISH
X-ORIGINAL-URL:https://accesswinnipeg.com
X-WR-CALDESC:Events for Access Winnipeg
REFRESH-INTERVAL;VALUE=DURATION:PT1H
X-Robots-Tag:noindex
X-PUBLISHED-TTL:PT1H
BEGIN:VTIMEZONE
TZID:America/Winnipeg
BEGIN:DAYLIGHT
TZOFFSETFROM:-0600
TZOFFSETTO:-0500
TZNAME:CDT
DTSTART:20160313T080000
END:DAYLIGHT
BEGIN:STANDARD
TZOFFSETFROM:-0500
TZOFFSETTO:-0600
TZNAME:CST
DTSTART:20161106T070000
END:STANDARD
BEGIN:DAYLIGHT
TZOFFSETFROM:-0600
TZOFFSETTO:-0500
TZNAME:CDT
DTSTART:20170312T080000
END:DAYLIGHT
BEGIN:STANDARD
TZOFFSETFROM:-0500
TZOFFSETTO:-0600
TZNAME:CST
DTSTART:20171105T070000
END:STANDARD
BEGIN:DAYLIGHT
TZOFFSETFROM:-0600
TZOFFSETTO:-0500
TZNAME:CDT
DTSTART:20180311T080000
END:DAYLIGHT
BEGIN:STANDARD
TZOFFSETFROM:-0500
TZOFFSETTO:-0600
TZNAME:CST
DTSTART:20181104T070000
END:STANDARD
END:VTIMEZONE
BEGIN:VEVENT
DTSTART;TZID=America/Winnipeg:20170512T180000
DTEND;TZID=America/Winnipeg:20170512T180000
DTSTAMP:20260421T005824
CREATED:20161207T065749Z
LAST-MODIFIED:20170211T181549Z
UID:44631-1494612000-1494612000@accesswinnipeg.com
SUMMARY:Frank Mills
DESCRIPTION:Rocklands Presents An Evening with FRANK MILLS Mr. Music Box Dancer 6pm Doors 7pm Show
URL:https://accesswinnipeg.com/event/frank-mills/
LOCATION:Club Regent Event Centre\, 1425 Regent Avenue West\, Winnipeg\, MB\, R2C 3B2\, Canada
ATTACH;FMTTYPE=image/jpeg:https://accesswinnipeg.com/wp-content/uploads/2016/12/f1ea936f0ff17710952cd6a10f55a4e2.jpg
END:VEVENT
BEGIN:VEVENT
DTSTART;TZID=America/Winnipeg:20170512T180000
DTEND;TZID=America/Winnipeg:20170512T220000
DTSTAMP:20260421T005824
CREATED:20170105T025139Z
LAST-MODIFIED:20170414T220113Z
UID:48141-1494612000-1494626400@accesswinnipeg.com
SUMMARY:Dean Brody's Beautiful Freakshow Tour 2017
DESCRIPTION:Dean Brody\nBeautiful Freakshow Tour 2017\nWith special guests Madeline Merlo and the James Barker Band \nFRIDAY\, MAY 12\nMTS Centre\, Winnipeg\nAll Ages / Reserved\nDoors: 6:00PM / Show: 7:00PM \nFB Presale: Thursday\, November 3 at 10AM – 10PM\nPassword: CHILL\nPublic On Sale: Friday\, November 4 at 10AM\nGet Tickets: http://bit.ly/2f60Qsx \nTickets: $39.50\, $49.50\, $65.00 (Incl. GST) + s/c \n-Dean Brody Online-\nWebsite: http://www.deanbrody.com\nFacebook: https://www.facebook.com/deanbrody\nTwitter: https://twitter.com/deanbrody\nYouTube: https://www.youtube.com/deanbrodytv \nIn the midst of an exhilarating album launch\, Dean Brody brings his brand new album\, Beautiful Freakshow\, coast to coast through local media appearances\, and country radio listener events\, culminating in a special live performance in Toronto\, to kick-off the announcement of national tour dates\, beginning April 2017. \nTickets officially go on sale November 4\, 2016\, at http://www.livenation.com with pre-sale beginning November 2 and 3. VIP tickets will include premium seats\, a pre-show meet and greet\, photo opportunity\, a pre-show acoustic performance and more. \nOn the west coast dates\, 2015 CCMA Rising Star and reigning BCCMA Female Artist of the Year\, Madeline Merlo will perform in advance of Brody taking to the stage\, and on the Ontario dates\, newly Warner Nashville signed act High Valley will bring fans straight into the headliner. Fun loving\, Top 5 Canadian country radio act\, James Barker Band will be opening the action-packed show across Canada. \nThe past year saw Brody take home a JUNO Award for Country Album of the Year\, along with 4 CCMA Awards for the top selling digital Canadian country single of all-time\, “Bring Down the House”. Beautiful Freakshow is Brody’s sixth album\, and it’s one that takes risks and delves outside of the comfort zone of traditional country\, with songs such as the progressive title track\, featuring a rap vocal from Halifax native Shevy Price\, and the mellow reggae vibe invoked from “Beautiful Girl”. And yet\, the record manages to simultaneously stay true to what many fans have come to love and expect from Brody\, with traditional tracks destined to be classics\, such as\, “Time”\, “8th Day” and “Blueberry Sky”\, which features iconic country legend\, Vince Gill on the guitar. \nStay up to date with Live Nation!\nhttps://www.facebook.com/livenationsaskatchewanandmanitoba\nhttps://twitter.com/livenationwest\nhttps://instagram.com/livenationskmb/\nhttp://www.livenation.com
URL:https://accesswinnipeg.com/event/dean-brodys-beautiful-freakshow-tour-2017/
LOCATION:MTS Centre\, 300 Portage Ave\, Winnipeg\, Manitoba\, R3C 5S4\, Canada
ATTACH;FMTTYPE=image/jpeg:https://accesswinnipeg.com/wp-content/uploads/2017/03/44abddea624e90b6dd424f2f53955620.jpg
END:VEVENT
END:VCALENDAR