BEGIN:VCALENDAR
VERSION:2.0
PRODID:-//Access Winnipeg - ECPv6.15.20//NONSGML v1.0//EN
CALSCALE:GREGORIAN
METHOD:PUBLISH
X-ORIGINAL-URL:https://accesswinnipeg.com
X-WR-CALDESC:Events for Access Winnipeg
REFRESH-INTERVAL;VALUE=DURATION:PT1H
X-Robots-Tag:noindex
X-PUBLISHED-TTL:PT1H
BEGIN:VTIMEZONE
TZID:America/Winnipeg
BEGIN:DAYLIGHT
TZOFFSETFROM:-0600
TZOFFSETTO:-0500
TZNAME:CDT
DTSTART:20160313T080000
END:DAYLIGHT
BEGIN:STANDARD
TZOFFSETFROM:-0500
TZOFFSETTO:-0600
TZNAME:CST
DTSTART:20161106T070000
END:STANDARD
BEGIN:DAYLIGHT
TZOFFSETFROM:-0600
TZOFFSETTO:-0500
TZNAME:CDT
DTSTART:20170312T080000
END:DAYLIGHT
BEGIN:STANDARD
TZOFFSETFROM:-0500
TZOFFSETTO:-0600
TZNAME:CST
DTSTART:20171105T070000
END:STANDARD
BEGIN:DAYLIGHT
TZOFFSETFROM:-0600
TZOFFSETTO:-0500
TZNAME:CDT
DTSTART:20180311T080000
END:DAYLIGHT
BEGIN:STANDARD
TZOFFSETFROM:-0500
TZOFFSETTO:-0600
TZNAME:CST
DTSTART:20181104T070000
END:STANDARD
END:VTIMEZONE
BEGIN:VEVENT
DTSTART;TZID=America/Winnipeg:20170519T180000
DTEND;TZID=America/Winnipeg:20170519T225900
DTSTAMP:20260420T025509
CREATED:20170408T054544Z
LAST-MODIFIED:20170414T072133Z
UID:49882-1495216800-1495234740@accesswinnipeg.com
SUMMARY:Chris Hadfield’s Canada 150 Tour
DESCRIPTION:Chris Hadfield’s Canada 150 Tour \nFRIDAY\, MAY 19\nBurton Cummings Theatre\, Winnipeg\nAll Ages / Reserved Seating\nDoors 7:00PM / Show 8:00PM \nFacebook Presale: Thurs\, March 16 10am to 10pm\nPassword: MUSIC\nGeneral On Sale: Fri\, March 17 at 10am\nGet Tickets: http://bit.ly/2oS8zhb\nVIP packages available here: http://bit.ly/2lXRANv \nTickets (incl. GST) $45.00\, $59.50\, $79.50 + s/c \n– Chris Hadfield Online –\nWebsite: http://chrishadfield.ca/\nFacebook: https://www.facebook.com/AstronautChrisHadfield\nTwitter: https://twitter.com/Cmdr_Hadfield\nYouTube/VEVO: https://www.youtube.com/user/ColChrisHadfield/videos\nInstagram: https://www.instagram.com/colchrishadfield/ \nCanada’s first spaceship commander\, Colonel Chris Hadfield shares a selection of stories\, images\, songs and ideas that celebrate the 150th birthday of the nation he is so proud to call home. From his unique perspective\, Chris looks at the history and future of Canada through its people and the land itself. Performing songs like his fun-loving\, patriotic single “In Canada”\, to his evocative “Beyond the Terra” that looks away from the land to the skies\, Colonel Hadfield ties his presentation together with stories of great Canadians and tales from his incredible career. Suitable for fans big\, small\, and in-between\, Chris customizes his performance to each audience\, and leaves everyone with the sense that Canada truly is “out of this world”. \nStay up to date with Live Nation!\nhttps://www.facebook.com/livenationsaskatchewanandmanitoba\nhttps://twitter.com/livenationwest\nhttps://instagram.com/livenationskmb\nhttp://www.livenation.com
URL:https://accesswinnipeg.com/event/chris-hadfields-canada-150-tour/
LOCATION:Burton Cummings Theatre\, 364 Smith Street\, Winnipeg\, Manitoba\, R3B 2H2\, Canada
ATTACH;FMTTYPE=image/jpeg:https://accesswinnipeg.com/wp-content/uploads/2017/04/f0e7f67a7bcef434717525eee1928c4d.jpg
END:VEVENT
END:VCALENDAR