BEGIN:VCALENDAR
VERSION:2.0
PRODID:-//Access Winnipeg - ECPv6.15.20//NONSGML v1.0//EN
CALSCALE:GREGORIAN
METHOD:PUBLISH
X-WR-CALNAME:Access Winnipeg
X-ORIGINAL-URL:https://accesswinnipeg.com
X-WR-CALDESC:Events for Access Winnipeg
REFRESH-INTERVAL;VALUE=DURATION:PT1H
X-Robots-Tag:noindex
X-PUBLISHED-TTL:PT1H
BEGIN:VTIMEZONE
TZID:America/Winnipeg
BEGIN:DAYLIGHT
TZOFFSETFROM:-0600
TZOFFSETTO:-0500
TZNAME:CDT
DTSTART:20160313T080000
END:DAYLIGHT
BEGIN:STANDARD
TZOFFSETFROM:-0500
TZOFFSETTO:-0600
TZNAME:CST
DTSTART:20161106T070000
END:STANDARD
BEGIN:DAYLIGHT
TZOFFSETFROM:-0600
TZOFFSETTO:-0500
TZNAME:CDT
DTSTART:20170312T080000
END:DAYLIGHT
BEGIN:STANDARD
TZOFFSETFROM:-0500
TZOFFSETTO:-0600
TZNAME:CST
DTSTART:20171105T070000
END:STANDARD
BEGIN:DAYLIGHT
TZOFFSETFROM:-0600
TZOFFSETTO:-0500
TZNAME:CDT
DTSTART:20180311T080000
END:DAYLIGHT
BEGIN:STANDARD
TZOFFSETFROM:-0500
TZOFFSETTO:-0600
TZNAME:CST
DTSTART:20181104T070000
END:STANDARD
END:VTIMEZONE
BEGIN:VEVENT
DTSTART;TZID=America/Winnipeg:20170526T190000
DTEND;TZID=America/Winnipeg:20170526T190000
DTSTAMP:20260420T104318
CREATED:20161124T035214Z
LAST-MODIFIED:20170309T003015Z
UID:41890-1495825200-1495825200@accesswinnipeg.com
SUMMARY:Air Canada Pops - True North: The Canadian Songbook
DESCRIPTION:Multiple ECMA-nominated singer Eleanor McCain brings her unique and unmistakable style to the WSO with a sneak peek at True North: The Canadian Songbook\, her sixth studio album\, which is set for release in July 2017 to celebrate Canadas 150th birthday. The show celebrates iconic songs like Hallelujah\, A Case Of You\, Snowbird and Ordinary Day in new and imaginative orchestrations.
URL:https://accesswinnipeg.com/event/air-canada-pops-true-north-the-canadian-songbook/
LOCATION:Centennial Concert Hall\, 555 Main St\, Winnipeg\, Manitoba\, R3B 1C3\, Canada
ATTACH;FMTTYPE=image/jpeg:https://accesswinnipeg.com/wp-content/uploads/2017/02/1265c1aff240fa25e304a2d6008c5849.jpg
END:VEVENT
BEGIN:VEVENT
DTSTART;TZID=America/Winnipeg:20170526T190000
DTEND;TZID=America/Winnipeg:20170526T190000
DTSTAMP:20260420T104318
CREATED:20170210T181638Z
LAST-MODIFIED:20170211T181603Z
UID:48822-1495825200-1495825200@accesswinnipeg.com
SUMMARY:Thunder From Down Under
DESCRIPTION:AUSTRALIA’S THUNDER FROM DOWN UNDER Direct from Las Vegas 7pm Doors 8pm Show 18+ Only
URL:https://accesswinnipeg.com/event/thunder-from-down-under/
LOCATION:Club Regent Event Centre\, 1425 Regent Avenue West\, Winnipeg\, MB\, R2C 3B2\, Canada
END:VEVENT
END:VCALENDAR