BEGIN:VCALENDAR
VERSION:2.0
PRODID:-//Access Winnipeg - ECPv6.15.20//NONSGML v1.0//EN
CALSCALE:GREGORIAN
METHOD:PUBLISH
X-ORIGINAL-URL:https://accesswinnipeg.com
X-WR-CALDESC:Events for Access Winnipeg
REFRESH-INTERVAL;VALUE=DURATION:PT1H
X-Robots-Tag:noindex
X-PUBLISHED-TTL:PT1H
BEGIN:VTIMEZONE
TZID:America/Winnipeg
BEGIN:DAYLIGHT
TZOFFSETFROM:-0600
TZOFFSETTO:-0500
TZNAME:CDT
DTSTART:20160313T080000
END:DAYLIGHT
BEGIN:STANDARD
TZOFFSETFROM:-0500
TZOFFSETTO:-0600
TZNAME:CST
DTSTART:20161106T070000
END:STANDARD
BEGIN:DAYLIGHT
TZOFFSETFROM:-0600
TZOFFSETTO:-0500
TZNAME:CDT
DTSTART:20170312T080000
END:DAYLIGHT
BEGIN:STANDARD
TZOFFSETFROM:-0500
TZOFFSETTO:-0600
TZNAME:CST
DTSTART:20171105T070000
END:STANDARD
BEGIN:DAYLIGHT
TZOFFSETFROM:-0600
TZOFFSETTO:-0500
TZNAME:CDT
DTSTART:20180311T080000
END:DAYLIGHT
BEGIN:STANDARD
TZOFFSETFROM:-0500
TZOFFSETTO:-0600
TZNAME:CST
DTSTART:20181104T070000
END:STANDARD
END:VTIMEZONE
BEGIN:VEVENT
DTSTART;TZID=America/Winnipeg:20170611T083000
DTEND;TZID=America/Winnipeg:20170611T083000
DTSTAMP:20260425T192131
CREATED:20170608T133647Z
LAST-MODIFIED:20170610T141541Z
UID:50610-1497169800-1497169800@accesswinnipeg.com
SUMMARY:Shelley Shearer School of Dance Annual Performance - Show "A"
DESCRIPTION:Sale Dates and Times: \nPublic Onsale : Sat\, 6 May 2017 at 12:00 PM
URL:https://accesswinnipeg.com/event/shelley-shearer-school-of-dance-annual-performance-show-a/
LOCATION:Centennial Concert Hall\, 555 Main Street\, Winnipeg\, MB\, R3B 1C3\, Canada
ATTACH;FMTTYPE=image/jpeg:https://accesswinnipeg.com/wp-content/uploads/2017/06/58a2e70dd10d892b635565704c9f7855.jpg
END:VEVENT
BEGIN:VEVENT
DTSTART;TZID=America/Winnipeg:20170611T110000
DTEND;TZID=America/Winnipeg:20170611T160000
DTSTAMP:20260425T192131
CREATED:20170607T131623Z
LAST-MODIFIED:20170611T141531Z
UID:50590-1497178800-1497196800@accesswinnipeg.com
SUMMARY:HerbFest
DESCRIPTION:Join us for HERB FEST 2017 – SPRING INTO HERBS!\nSunday\, June 11 from 12:00 pm to 5:00 pm at the\nAssiniboine Park Conservatory Event Tent & Herb Garden \nLearn about herbs and how you can enjoy them in your home year-round!  There will be an herb sale\, baked goods sale\, guided tours of Herb Garden\, and guest speakers. \n12:30 – 1:00 pm | Melissa Makarenko\, Chef at Resto Gare\nMelissa will talk about how she uses herbs and offer tips for using herbs in every day cooking. Learn what herbs are easily accessible\, which herbs go well together\, and how to satisfy different flavour palates. \n1:30 – 2:00 pm | Dawn Kitching\, Natural Fragments\nDawn will be talking about how she uses herbs in her products. She’ll also share useful information about growing herbs\, their benefits\, and how to use them. \n2:30 – 3:00 pm | St. Mary’s Nursery\nFaery Gardens are all the rage! Watch a demonstration and learn how you can incorporate herbs into your own miniature garden landscape. \nHerb Fest is co-hosted by the Assiniboine Park Conservancy and Herb Society of Manitoba.
URL:https://accesswinnipeg.com/event/herbfest/
LOCATION:MB
ATTACH;FMTTYPE=image/jpeg:https://accesswinnipeg.com/wp-content/uploads/2017/06/2d1d98523b8b7dc17f609efd1f6dbd20.jpg
END:VEVENT
BEGIN:VEVENT
DTSTART;TZID=America/Winnipeg:20170611T131500
DTEND;TZID=America/Winnipeg:20170611T131500
DTSTAMP:20260425T192131
CREATED:20170608T133648Z
LAST-MODIFIED:20170610T141541Z
UID:50612-1497186900-1497186900@accesswinnipeg.com
SUMMARY:Shelley Shearer School of Dance Annual Performance - Show "B"
DESCRIPTION:Sale Dates and Times: \nPublic Onsale : Sat\, 6 May 2017 at 12:00 PM
URL:https://accesswinnipeg.com/event/shelley-shearer-school-of-dance-annual-performance-show-b/
LOCATION:Centennial Concert Hall\, 555 Main Street\, Winnipeg\, MB\, R3B 1C3\, Canada
ATTACH;FMTTYPE=image/jpeg:https://accesswinnipeg.com/wp-content/uploads/2017/06/cc8b4f98ad9e221b3c79fefedd7e7a0e.jpg
END:VEVENT
BEGIN:VEVENT
DTSTART;TZID=America/Winnipeg:20170611T180000
DTEND;TZID=America/Winnipeg:20170611T180000
DTSTAMP:20260425T192131
CREATED:20170608T133649Z
LAST-MODIFIED:20170610T141542Z
UID:50614-1497204000-1497204000@accesswinnipeg.com
SUMMARY:Shelley Shearer School of Dance Annual Performance - Show "C"
DESCRIPTION:Sale Dates and Times: \nPublic Onsale : Sat\, 6 May 2017 at 12:00 PM
URL:https://accesswinnipeg.com/event/shelley-shearer-school-of-dance-annual-performance-show-c/
LOCATION:Centennial Concert Hall\, 555 Main Street\, Winnipeg\, MB\, R3B 1C3\, Canada
ATTACH;FMTTYPE=image/jpeg:https://accesswinnipeg.com/wp-content/uploads/2017/06/e20ff03f5a7f6335be41483f0bca6a96.jpg
END:VEVENT
END:VCALENDAR