BEGIN:VCALENDAR
VERSION:2.0
PRODID:-//Access Winnipeg - ECPv6.15.20//NONSGML v1.0//EN
CALSCALE:GREGORIAN
METHOD:PUBLISH
X-WR-CALNAME:Access Winnipeg
X-ORIGINAL-URL:https://accesswinnipeg.com
X-WR-CALDESC:Events for Access Winnipeg
REFRESH-INTERVAL;VALUE=DURATION:PT1H
X-Robots-Tag:noindex
X-PUBLISHED-TTL:PT1H
BEGIN:VTIMEZONE
TZID:America/Winnipeg
BEGIN:DAYLIGHT
TZOFFSETFROM:-0600
TZOFFSETTO:-0500
TZNAME:CDT
DTSTART:20160313T080000
END:DAYLIGHT
BEGIN:STANDARD
TZOFFSETFROM:-0500
TZOFFSETTO:-0600
TZNAME:CST
DTSTART:20161106T070000
END:STANDARD
BEGIN:DAYLIGHT
TZOFFSETFROM:-0600
TZOFFSETTO:-0500
TZNAME:CDT
DTSTART:20170312T080000
END:DAYLIGHT
BEGIN:STANDARD
TZOFFSETFROM:-0500
TZOFFSETTO:-0600
TZNAME:CST
DTSTART:20171105T070000
END:STANDARD
BEGIN:DAYLIGHT
TZOFFSETFROM:-0600
TZOFFSETTO:-0500
TZNAME:CDT
DTSTART:20180311T080000
END:DAYLIGHT
BEGIN:STANDARD
TZOFFSETFROM:-0500
TZOFFSETTO:-0600
TZNAME:CST
DTSTART:20181104T070000
END:STANDARD
END:VTIMEZONE
BEGIN:VEVENT
DTSTART;TZID=America/Winnipeg:20170626T190000
DTEND;TZID=America/Winnipeg:20170626T190000
DTSTAMP:20260420T164652
CREATED:20170608T134554Z
LAST-MODIFIED:20170627T174722Z
UID:50646-1498503600-1498503600@accesswinnipeg.com
SUMMARY:Snake Oil Gets Twisted With Dee Snider From Twisted Sister
DESCRIPTION:Sale Dates and Times: \nPublic Onsale : Fri\, 21 Apr 2017 at 10:00 AM \nInternet Presale : Wed\, 19 Apr 2017 at 10:00 AM \nDee Snider & Snake Oil Meet and Greet : Wed\, 19 Apr 2017 at 10:00 AM
URL:https://accesswinnipeg.com/event/snake-oil-gets-twisted-with-dee-snider-from-twisted-sister/
LOCATION:Burton Cummings Theatre\, 364 Smith Street\, Winnipeg\, Manitoba\, R3B 2H2\, Canada
ATTACH;FMTTYPE=image/jpeg:https://accesswinnipeg.com/wp-content/uploads/2017/06/f62516cdaab7e9faecc8b569c97dba0a.jpg
END:VEVENT
END:VCALENDAR