BEGIN:VCALENDAR
VERSION:2.0
PRODID:-//Access Winnipeg - ECPv6.15.20//NONSGML v1.0//EN
CALSCALE:GREGORIAN
METHOD:PUBLISH
X-WR-CALNAME:Access Winnipeg
X-ORIGINAL-URL:https://accesswinnipeg.com
X-WR-CALDESC:Events for Access Winnipeg
REFRESH-INTERVAL;VALUE=DURATION:PT1H
X-Robots-Tag:noindex
X-PUBLISHED-TTL:PT1H
BEGIN:VTIMEZONE
TZID:America/Winnipeg
BEGIN:DAYLIGHT
TZOFFSETFROM:-0600
TZOFFSETTO:-0500
TZNAME:CDT
DTSTART:20160313T080000
END:DAYLIGHT
BEGIN:STANDARD
TZOFFSETFROM:-0500
TZOFFSETTO:-0600
TZNAME:CST
DTSTART:20161106T070000
END:STANDARD
BEGIN:DAYLIGHT
TZOFFSETFROM:-0600
TZOFFSETTO:-0500
TZNAME:CDT
DTSTART:20170312T080000
END:DAYLIGHT
BEGIN:STANDARD
TZOFFSETFROM:-0500
TZOFFSETTO:-0600
TZNAME:CST
DTSTART:20171105T070000
END:STANDARD
BEGIN:DAYLIGHT
TZOFFSETFROM:-0600
TZOFFSETTO:-0500
TZNAME:CDT
DTSTART:20180311T080000
END:DAYLIGHT
BEGIN:STANDARD
TZOFFSETFROM:-0500
TZOFFSETTO:-0600
TZNAME:CST
DTSTART:20181104T070000
END:STANDARD
END:VTIMEZONE
BEGIN:VEVENT
DTSTART;TZID=America/Winnipeg:20170628T140000
DTEND;TZID=America/Winnipeg:20170701T170000
DTSTAMP:20260420T164704
CREATED:20170623T164602Z
LAST-MODIFIED:20170624T170049Z
UID:50992-1498658400-1498928400@accesswinnipeg.com
SUMMARY:Art Express'd / art exprimé - A Canada 150 Signature Initiative
DESCRIPTION:Jessie Buchanan’s ART EXPRESS’D project\, Voices of the Landscape\, reflects the spiritual geography of the vast\, northern Canadian landscape\, found in both urban and natural spaces. She will explore the connections in each of the locations visited on the tour. From townscape to mountain and stream\, the mobile art studio itself will come to represent Canada in the north. Working with Jessie\, you will create acrylic paintings in response to questions: “How do you understand yourself as a Canadian?” and “Do you feel connected with your land and/or environment?” \nThe Winnipeg Art Gallery is celebrating Canada’s 150th anniversary with ART EXPRESS’D / ART EXPRIMÉ\, a coast-to-coast-to-coast adventure that is uniting our vast country in summer 2017. Three 20-foot shipping containers transformed into mobile art studios will traverse every province and territory via train\, truck\, and cargo ship\, stopping in at least 15 communities\, ultimately converging in Winnipeg\, the heart of the country. \nA nationwide call for submissions was made to find three contemporary artists to travel one of the three routes. Jessie Buchanan (North Route)\, Evin Collis (East Route)\, and Becky Thiessen (West Route) were selected from dozens of applicants to be part of this historic journey. Each artist will lead collaborative art-making projects inspiring the public to express their visions of Canada. Everyone is invited to contribute to the art produced! \nART EXPRESS’D / ART EXPRIMÉ highlights this country’s unique natural geography and its linguistic and cultural diversity\, while speaking to Canada’s deeply-rooted history of travel\, transport\, exploration\, and communication. The movement of people\, goods\, and information over great distances and challenging terrain continues to define Canada today. \nEvents in Whitehorse: \nWednesday June 28 – Workshop with Jessie 1:00pm – 4:00pm\, Old Fire Hall\nThursday June 29 – Workshops with Jessie 9:00am -12:00pm & 1:00pm – 4:00pm\, Old Fire Hall\nFriday June 30 – Workshop with Jessie 1:00pm – 4:00pm\, Old Fire Hall\nSaturday July 1 – Canada Day Community Mural and Build your own Shipping Container Activity with Jessie at Shipyard Park along the banks of the Yukon River and 2nd Avenue. 1:00pm – 6:00pm\nCanada Day Community Mural and Container Activities are open for all – drop by to help paint a community mural or to build and create your own mini-shipping container.
URL:https://accesswinnipeg.com/event/art-expressd-art-exprime-a-canada-150-signature-initiative/
LOCATION:Old Fire Hall\, 1105 Front Street\, Whitehorse\, YT\, Y1A 5G4\, Canada
ATTACH;FMTTYPE=image/jpeg:https://accesswinnipeg.com/wp-content/uploads/2017/06/718ab3511b93e33268129051ead8f825.jpg
END:VEVENT
BEGIN:VEVENT
DTSTART;TZID=America/Winnipeg:20170701T100000
DTEND;TZID=America/Winnipeg:20170701T223000
DTSTAMP:20260420T164704
CREATED:20170607T131548Z
LAST-MODIFIED:20170630T182143Z
UID:50588-1498903200-1498948200@accesswinnipeg.com
SUMMARY:Canada 150 at The Forks
DESCRIPTION:Visitors can expect tons of free\, family-friendly programming happening all day long on five stages across The Forks site. A pow wow and Indigenous storytelling will take place at the Oodena Celebration Circle\, the fast-flowing Assiniboine River will be the backdrop to the Port stage\, and the Festival Stage show begins at 5PM with 11 performers including headliner Whitehorse\, local up-and-comer Faouzia\, and our beloved Winnipeg Symphony Orchestra. A stunning fireworks spectacle by award-winning Archangel Fireworks will cap off the day of celebrations at 11PM.  \nLes visiteurs pourront profiter de multiples programmes familiaux offerts gratuitement toute la journée sur cinq scènes dispersées sur le site. Un pow-wow et la narration de récits autochtones débuteront dès le lever du soleil au Cercle de célébration Oodena. La rivière Assiniboine à fort courant servira de toile de fond pour la scène du port. Quant aux spectacles de la scène des festivals\, ils commenceront à 17 h et verront se succéder 11 interprètes\, dont Whitehorse en tête d’affiche\, la jeune artiste locale Faouzia et notre cher Orchestre symphonique de Winnipeg. De superbes feux d’artifice\, présentés par le fournisseur primé Archangel Fireworks\, clôtureront la journée à 23 h. \nPlaza Skatepark\nNoon – 5PM\nSkateboarding • Music • Art\nCheck out skate demos from SK8 Skates & Red Riding Media\, interact with art installations from Skate Betty & #Wish150\, music from DJ²\, DJ Zuki and DJ Hunnicutt.  \nPlanchodrome\nDe midi à 17 h\nPlanche • Musique • Art\nAssistez aux démonstrations de planche par SK8 Skates et Red Riding Media\, interagissez avec les installations artistiques de Skate Betty et #Wish150\, et profitez de la musique diffusée par DJ²\, DJ Zuki et DJ Hunnicutt.  \nFull line-up: http://www.theforks.com
URL:https://accesswinnipeg.com/event/canada-150-at-the-forks/
LOCATION:The Forks\, 123 Main Street\, Winnipeg\, Manitoba\, R3B 3H6\, Canada
ATTACH;FMTTYPE=image/jpeg:https://accesswinnipeg.com/wp-content/uploads/2017/06/e724fc9f7144cf7d829db76eaa4adefd.jpg
END:VEVENT
END:VCALENDAR