BEGIN:VCALENDAR
VERSION:2.0
PRODID:-//Access Winnipeg - ECPv6.15.20//NONSGML v1.0//EN
CALSCALE:GREGORIAN
METHOD:PUBLISH
X-ORIGINAL-URL:https://accesswinnipeg.com
X-WR-CALDESC:Events for Access Winnipeg
REFRESH-INTERVAL;VALUE=DURATION:PT1H
X-Robots-Tag:noindex
X-PUBLISHED-TTL:PT1H
BEGIN:VTIMEZONE
TZID:America/Winnipeg
BEGIN:DAYLIGHT
TZOFFSETFROM:-0600
TZOFFSETTO:-0500
TZNAME:CDT
DTSTART:20160313T080000
END:DAYLIGHT
BEGIN:STANDARD
TZOFFSETFROM:-0500
TZOFFSETTO:-0600
TZNAME:CST
DTSTART:20161106T070000
END:STANDARD
BEGIN:DAYLIGHT
TZOFFSETFROM:-0600
TZOFFSETTO:-0500
TZNAME:CDT
DTSTART:20170312T080000
END:DAYLIGHT
BEGIN:STANDARD
TZOFFSETFROM:-0500
TZOFFSETTO:-0600
TZNAME:CST
DTSTART:20171105T070000
END:STANDARD
BEGIN:DAYLIGHT
TZOFFSETFROM:-0600
TZOFFSETTO:-0500
TZNAME:CDT
DTSTART:20180311T080000
END:DAYLIGHT
BEGIN:STANDARD
TZOFFSETFROM:-0500
TZOFFSETTO:-0600
TZNAME:CST
DTSTART:20181104T070000
END:STANDARD
END:VTIMEZONE
BEGIN:VEVENT
DTSTART;TZID=America/Winnipeg:20170713T180000
DTEND;TZID=America/Winnipeg:20170713T200000
DTSTAMP:20260421T233110
CREATED:20170710T203106Z
LAST-MODIFIED:20170713T210116Z
UID:51290-1499968800-1499976000@accesswinnipeg.com
SUMMARY:The InClines at Assiniboine Park
DESCRIPTION:This Thursday\, July 13\, join on at the Lyric Theatre and enjoy some old-time country swooning courtesy of The InClines\, a Patsy Cline tribute band! Showtime at 7 pm. \nIt’s all part of the Casinos of Winnipeg Summer Entertainment Series at Assiniboine Park! Thank you to our sponsors the Johnston Group\, \, Investors Group\, OKE Inc\, Wawanesa Insurance – and of course\, Casinos of Winnipeg!
URL:https://accesswinnipeg.com/event/the-inclines-at-assiniboine-park/
LOCATION:Assiniboine Park & Zoo\, 2355 Corydon Ave\, Winnipeg\, MB\, R3P 2N6\, Canada
ATTACH;FMTTYPE=image/jpeg:https://accesswinnipeg.com/wp-content/uploads/2017/07/a1447f107dbaa6f551249962e91a7946.jpg
END:VEVENT
END:VCALENDAR