BEGIN:VCALENDAR
VERSION:2.0
PRODID:-//Access Winnipeg - ECPv6.15.20//NONSGML v1.0//EN
CALSCALE:GREGORIAN
METHOD:PUBLISH
X-WR-CALNAME:Access Winnipeg
X-ORIGINAL-URL:https://accesswinnipeg.com
X-WR-CALDESC:Events for Access Winnipeg
REFRESH-INTERVAL;VALUE=DURATION:PT1H
X-Robots-Tag:noindex
X-PUBLISHED-TTL:PT1H
BEGIN:VTIMEZONE
TZID:America/Winnipeg
BEGIN:DAYLIGHT
TZOFFSETFROM:-0600
TZOFFSETTO:-0500
TZNAME:CDT
DTSTART:20160313T080000
END:DAYLIGHT
BEGIN:STANDARD
TZOFFSETFROM:-0500
TZOFFSETTO:-0600
TZNAME:CST
DTSTART:20161106T070000
END:STANDARD
BEGIN:DAYLIGHT
TZOFFSETFROM:-0600
TZOFFSETTO:-0500
TZNAME:CDT
DTSTART:20170312T080000
END:DAYLIGHT
BEGIN:STANDARD
TZOFFSETFROM:-0500
TZOFFSETTO:-0600
TZNAME:CST
DTSTART:20171105T070000
END:STANDARD
BEGIN:DAYLIGHT
TZOFFSETFROM:-0600
TZOFFSETTO:-0500
TZNAME:CDT
DTSTART:20180311T080000
END:DAYLIGHT
BEGIN:STANDARD
TZOFFSETFROM:-0500
TZOFFSETTO:-0600
TZNAME:CST
DTSTART:20181104T070000
END:STANDARD
END:VTIMEZONE
BEGIN:VEVENT
DTSTART;TZID=America/Winnipeg:20170716T180000
DTEND;TZID=America/Winnipeg:20170716T200000
DTSTAMP:20260421T053620
CREATED:20170713T210116Z
LAST-MODIFIED:20170715T213639Z
UID:51346-1500228000-1500235200@accesswinnipeg.com
SUMMARY:Cecile Brown with Ego Spank at the Lyric Theatre
DESCRIPTION:Join us for Cecile Brown with Ego Spank at the Lyric Theatre as part of our Casinos of Winnipeg Summer Entertainment Series. Presented by Johnston Group\, supported by Investors Group\, Oldfield Kirby Esau Inc\, and Wawanesa Insurance.
URL:https://accesswinnipeg.com/event/cecile-brown-with-ego-spank-at-the-lyric-theatre/
LOCATION:Assiniboine Park & Zoo\, 2355 Corydon Ave\, Winnipeg\, MB\, R3P 2N6\, Canada
ATTACH;FMTTYPE=image/jpeg:https://accesswinnipeg.com/wp-content/uploads/2017/07/3b5ad1c6decd3a478d4067a20e1faf1f.jpg
END:VEVENT
END:VCALENDAR