BEGIN:VCALENDAR
VERSION:2.0
PRODID:-//Access Winnipeg - ECPv6.15.20//NONSGML v1.0//EN
CALSCALE:GREGORIAN
METHOD:PUBLISH
X-WR-CALNAME:Access Winnipeg
X-ORIGINAL-URL:https://accesswinnipeg.com
X-WR-CALDESC:Events for Access Winnipeg
REFRESH-INTERVAL;VALUE=DURATION:PT1H
X-Robots-Tag:noindex
X-PUBLISHED-TTL:PT1H
BEGIN:VTIMEZONE
TZID:America/Winnipeg
BEGIN:DAYLIGHT
TZOFFSETFROM:-0600
TZOFFSETTO:-0500
TZNAME:CDT
DTSTART:20160313T080000
END:DAYLIGHT
BEGIN:STANDARD
TZOFFSETFROM:-0500
TZOFFSETTO:-0600
TZNAME:CST
DTSTART:20161106T070000
END:STANDARD
BEGIN:DAYLIGHT
TZOFFSETFROM:-0600
TZOFFSETTO:-0500
TZNAME:CDT
DTSTART:20170312T080000
END:DAYLIGHT
BEGIN:STANDARD
TZOFFSETFROM:-0500
TZOFFSETTO:-0600
TZNAME:CST
DTSTART:20171105T070000
END:STANDARD
BEGIN:DAYLIGHT
TZOFFSETFROM:-0600
TZOFFSETTO:-0500
TZNAME:CDT
DTSTART:20180311T080000
END:DAYLIGHT
BEGIN:STANDARD
TZOFFSETFROM:-0500
TZOFFSETTO:-0600
TZNAME:CST
DTSTART:20181104T070000
END:STANDARD
END:VTIMEZONE
BEGIN:VEVENT
DTSTART;TZID=America/Winnipeg:20170722T183000
DTEND;TZID=America/Winnipeg:20170722T183000
DTSTAMP:20260421T082241
CREATED:20170308T153633Z
LAST-MODIFIED:20170414T220658Z
UID:49351-1500748200-1500748200@accesswinnipeg.com
SUMMARY:Ed Sheeran
DESCRIPTION:Sale Dates and Times: \nPublic Onsale : Fri\, 17 Mar 2017 at 10:00 AM \nEd Sheeran Presale : Mon\, 13 Mar 2017 at 10:00 AM \nVerified Fan : Tue\, 21 Mar 2017 at 01:00 PM \nFront Of The Line by American Express : Tue\, 14 Mar 2017 at 10:00 AM
URL:https://accesswinnipeg.com/event/ed-sheeran-2/
LOCATION:MTS Centre\, 300 Portage Ave\, Winnipeg\, Manitoba\, R3C 5S4\, Canada
ATTACH;FMTTYPE=image/jpeg:https://accesswinnipeg.com/wp-content/uploads/2017/04/fc85f5e096adc25a96828bada979dd9b.jpg
END:VEVENT
END:VCALENDAR