BEGIN:VCALENDAR
VERSION:2.0
PRODID:-//Access Winnipeg - ECPv6.15.20//NONSGML v1.0//EN
CALSCALE:GREGORIAN
METHOD:PUBLISH
X-ORIGINAL-URL:https://accesswinnipeg.com
X-WR-CALDESC:Events for Access Winnipeg
REFRESH-INTERVAL;VALUE=DURATION:PT1H
X-Robots-Tag:noindex
X-PUBLISHED-TTL:PT1H
BEGIN:VTIMEZONE
TZID:America/Winnipeg
BEGIN:DAYLIGHT
TZOFFSETFROM:-0600
TZOFFSETTO:-0500
TZNAME:CDT
DTSTART:20160313T080000
END:DAYLIGHT
BEGIN:STANDARD
TZOFFSETFROM:-0500
TZOFFSETTO:-0600
TZNAME:CST
DTSTART:20161106T070000
END:STANDARD
BEGIN:DAYLIGHT
TZOFFSETFROM:-0600
TZOFFSETTO:-0500
TZNAME:CDT
DTSTART:20170312T080000
END:DAYLIGHT
BEGIN:STANDARD
TZOFFSETFROM:-0500
TZOFFSETTO:-0600
TZNAME:CST
DTSTART:20171105T070000
END:STANDARD
BEGIN:DAYLIGHT
TZOFFSETFROM:-0600
TZOFFSETTO:-0500
TZNAME:CDT
DTSTART:20180311T080000
END:DAYLIGHT
BEGIN:STANDARD
TZOFFSETFROM:-0500
TZOFFSETTO:-0600
TZNAME:CST
DTSTART:20181104T070000
END:STANDARD
END:VTIMEZONE
BEGIN:VEVENT
DTSTART;TZID=America/Winnipeg:20170813T190000
DTEND;TZID=America/Winnipeg:20170813T225900
DTSTAMP:20260425T071508
CREATED:20170608T134513Z
LAST-MODIFIED:20170718T220700Z
UID:50623-1502650800-1502665140@accesswinnipeg.com
SUMMARY:Rodriguez
DESCRIPTION:Rodriguez\nWith guests  \nSUNDAY\, AUGUST 13\, 2017\nCentennial Concert Hall\, Winnipeg\, MB\nAll Ages / Reserved Seating\nDoors 7:00pm / Show 8:00pm \nFacebook Presale: Wed\, Mar 15 from 10am – Thur\, Mar 16 at 10pm\nPassword: MUSIC\nPublic On Sale: Friday\, March 17 at 10am\nGet tickets: http://bit.ly/2ngW02l \nTickets $55.00\, $75.00\, $115.00 (Incl. GST) + s/c \n-Rodriguez  Online-\nWebsite: http://www.rodriguez-music.com/\nFacebook: https://www.facebook.com/RodriguezMusic\nYouTube: https://www.youtube.com/channel/UCVOsXpKahDO_PDwednC8R4g\nRodriguez\, the legendary singer-songwriter known only by his surname\, is a self-taught guitarist. He began performing in bars and clubs around the city of Detroit in the 1960s\, as the city suffered postindustrial urban decay. It was there that he recorded two studio albums\, Cold Fact in 1969 and Coming from Reality in 1971 released on Sussex records. These recordings went unnoticed in the U.S. and Rodriguez eventually turned his efforts elsewhere\, earning a bachelor’s degree in philosophy from Wayne State University\, running for political office and working construction and factory jobs to support his family. \nIn the mid-1970s\, his music gained airplay in Australia and New Zealand. He has since toured there several times\, to play festivals\, arenas & theaters. He released “Rodriguez Rocks – Live In Australia “ in 2016 on Light in the Attic Records and has just completed a multi-city tour of Australia in November/December of 2016. \nIn the late 1990s\, South African fans finally sought him out\, leading to the unanticipated renaissance of his music career. Their story is told in the 2012 Oscar award-winning documentary\, Searching for Sugar Man\, directed by Malik Bendjelloul\, which has given Rodriguez a new measure of fame in the U.S. with his music and story now reaching audiences worldwide. The film has been aired multiple times on PBS and public TV worldwide and is available on DVD and streaming TV. \nRodriguez was unaware that he had reached legendary folk-rock super stardom status in South Africa\, where mistaken rumors circulated that he had perished. As it turns out\, South African anti-Apartheid activists and musicians alike were inspired by his counterculture lyrics. At the beginning of 2016 he went on a multi-city tour of South Africa\, often playing multiple nights in arenas. \nRodriguez now tours extensively in South Africa\, Australia\, Europe\, Canada and the U.S.\, where he takes thoughtful appreciation in greeting longtime fans\, and a new generation of listeners who find common ground in his music. His albums\, Cold Fact and Coming from Reality have been re-released on Light in the Attic Records and the Searching for Sugar Man soundtrack is available on Sony Legacy. International media attention\, awareness and accolades have since been bestowed upon both the documentary – Searching for Sugar Man and Rodriguez’s music. \nHe has perhaps one of the most unique true music business stories of fleeting fame finally realized.\nRodriguez is enjoying the collective heartfelt dream of a musician\, beating the odds and finding a place in music history. With a music career that has withstood the test of time; the story of Rodriguez is one of sweet success. \nRodriguez will be touring in the US and Canada in 2017.  \nStay up to date with Live Nation!\nhttps://www.facebook.com/livenationalberta\nhttps://twitter.com/livenationwest\nhttps://instagram.com/livenationab\nhttp://www.livenation.com
URL:https://accesswinnipeg.com/event/rodriguez/
LOCATION:Centennial Concert Hall\, 555 Main St\, Winnipeg\, Manitoba\, R3B 1C3\, Canada
ATTACH;FMTTYPE=image/jpeg:https://accesswinnipeg.com/wp-content/uploads/2017/06/75c344cd754298ffad908eb48251097b.jpg
END:VEVENT
END:VCALENDAR