BEGIN:VCALENDAR
VERSION:2.0
PRODID:-//Access Winnipeg - ECPv6.15.20//NONSGML v1.0//EN
CALSCALE:GREGORIAN
METHOD:PUBLISH
X-ORIGINAL-URL:https://accesswinnipeg.com
X-WR-CALDESC:Events for Access Winnipeg
REFRESH-INTERVAL;VALUE=DURATION:PT1H
X-Robots-Tag:noindex
X-PUBLISHED-TTL:PT1H
BEGIN:VTIMEZONE
TZID:America/Winnipeg
BEGIN:DAYLIGHT
TZOFFSETFROM:-0600
TZOFFSETTO:-0500
TZNAME:CDT
DTSTART:20160313T080000
END:DAYLIGHT
BEGIN:STANDARD
TZOFFSETFROM:-0500
TZOFFSETTO:-0600
TZNAME:CST
DTSTART:20161106T070000
END:STANDARD
BEGIN:DAYLIGHT
TZOFFSETFROM:-0600
TZOFFSETTO:-0500
TZNAME:CDT
DTSTART:20170312T080000
END:DAYLIGHT
BEGIN:STANDARD
TZOFFSETFROM:-0500
TZOFFSETTO:-0600
TZNAME:CST
DTSTART:20171105T070000
END:STANDARD
BEGIN:DAYLIGHT
TZOFFSETFROM:-0600
TZOFFSETTO:-0500
TZNAME:CDT
DTSTART:20180311T080000
END:DAYLIGHT
BEGIN:STANDARD
TZOFFSETFROM:-0500
TZOFFSETTO:-0600
TZNAME:CST
DTSTART:20181104T070000
END:STANDARD
END:VTIMEZONE
BEGIN:VEVENT
DTSTART;TZID=America/Winnipeg:20170917T180000
DTEND;TZID=America/Winnipeg:20170917T210000
DTSTAMP:20260423T105111
CREATED:20170608T134606Z
LAST-MODIFIED:20170718T222602Z
UID:50660-1505671200-1505682000@accesswinnipeg.com
SUMMARY:Daniel O'Donnel: Back Home Again Tour
DESCRIPTION:DANIEL O’DONNELL\nBack Home Again Tour \nSunday\, Sept 17\nCENTENNIAL CONCERT HALL\, Winnipeg\nAll Ages / Reserved Seating\nDoors: 6:00PM / Show: 7:00PM \nFacebook Presale: Wed\, May 24\, 10am to Thurs\, May 25\, 10pm\nPassword: RECORD\nPublic on Sale: Fri\, May 26\nGet Tickets: http://bit.ly/2qz3jD2 \nTickets: (Incl. GST) $39 / $59 / $85 / $115 + s/c  \n-DANIEL O’DONNELL Online-\nWebsite: https://www.danielodonnell.org\nFacebook: https://www.facebook.com/danielodonnellofficial \nStay up to date with Live Nation!\nhttps://www.facebook.com/livenationsaskatchewanandmanitoba\nhttps://twitter.com/livenationwest\nhttps://instagram.com/livenationskmb\nhttp://www.livenation.com
URL:https://accesswinnipeg.com/event/daniel-odonnel-back-home-again-tour/
LOCATION:Centennial Concert Hall\, 555 Main St\, Winnipeg\, Manitoba\, R3B 1C3\, Canada
ATTACH;FMTTYPE=image/jpeg:https://accesswinnipeg.com/wp-content/uploads/2017/07/dcc5f127246c932542b2cf2a14a65761.jpg
END:VEVENT
END:VCALENDAR