BEGIN:VCALENDAR
VERSION:2.0
PRODID:-//Access Winnipeg - ECPv6.15.20//NONSGML v1.0//EN
CALSCALE:GREGORIAN
METHOD:PUBLISH
X-ORIGINAL-URL:https://accesswinnipeg.com
X-WR-CALDESC:Events for Access Winnipeg
REFRESH-INTERVAL;VALUE=DURATION:PT1H
X-Robots-Tag:noindex
X-PUBLISHED-TTL:PT1H
BEGIN:VTIMEZONE
TZID:America/Winnipeg
BEGIN:DAYLIGHT
TZOFFSETFROM:-0600
TZOFFSETTO:-0500
TZNAME:CDT
DTSTART:20160313T080000
END:DAYLIGHT
BEGIN:STANDARD
TZOFFSETFROM:-0500
TZOFFSETTO:-0600
TZNAME:CST
DTSTART:20161106T070000
END:STANDARD
BEGIN:DAYLIGHT
TZOFFSETFROM:-0600
TZOFFSETTO:-0500
TZNAME:CDT
DTSTART:20170312T080000
END:DAYLIGHT
BEGIN:STANDARD
TZOFFSETFROM:-0500
TZOFFSETTO:-0600
TZNAME:CST
DTSTART:20171105T070000
END:STANDARD
BEGIN:DAYLIGHT
TZOFFSETFROM:-0600
TZOFFSETTO:-0500
TZNAME:CDT
DTSTART:20180311T080000
END:DAYLIGHT
BEGIN:STANDARD
TZOFFSETFROM:-0500
TZOFFSETTO:-0600
TZNAME:CST
DTSTART:20181104T070000
END:STANDARD
END:VTIMEZONE
BEGIN:VEVENT
DTSTART;TZID=America/Winnipeg:20171007T180000
DTEND;TZID=America/Winnipeg:20171007T210000
DTSTAMP:20260421T233028
CREATED:20170401T200633Z
LAST-MODIFIED:20170414T221523Z
UID:49753-1507399200-1507410000@accesswinnipeg.com
SUMMARY:Miranda Lambert: Highway Vagabond Tour
DESCRIPTION:Miranda Lambert\nHighway Vagabond Tour\nwith special guest\nBrandy Lambert \nSATURDAY\, OCTOBER 7\, 2017\nMTS Centre\, Winnipeg\nAll Ages / GA Pit/ Reserved Seating\nDoors: 6:00PM / Show: 7:00PM  \nFan Club Pre-Sale: April 4\nGet Tickets: http://bit.ly/HVWinipeg \nFacebook Presale: Thu\, April 6 at 10am – 10pm\nPassword: LIVE\nGeneral On sale: Friday\, April 7 at 10am\nGet Tickets: http://bit.ly/2nDYKnS \nTickets: $39.00\, $59.00\, $89.00 (Incl. GST) + s/c  \n-Miranda Lambert Online-\nWebsite: https://www.mirandalambert.com/\nFacebook: https://www.facebook.com/mirandalambert\nTwitter: https://twitter.com/mirandalambert\nInstagram: https://www.instagram.com/mirandalambert/\nYouTube: https: https://www.youtube.com/channel/UCJQplYDHQjYbmADXC-_y27Q \nMiranda Lambert has added seven dates in Western Canada to her upcoming Highway Vagabond Tour\, in support of her highly acclaimed double album The Weight Of These Wings. Tickets will go on sale Friday\, April 7 at 10am.  \nThe first single from the new album\, “Vice” swiftly climbed the charts at radio and has her fans and critics swooning alike. “Lambert is one of the best songwriters in the game\, and “Vice’s” gloomy heartbreak is masterfully done”\, as reported by USA Today. “It marks a shift in her sound\, the tune is laid bare against understated atmospherics and a howling electric guitar.   … It’s a gorgeous reminder that while Lambert may be sitting on country music’s throne\, her feet remain on the ground” adds Entertainment Weekly. \nKnown for her energetic\, fun as well as emotional live performances\, Miranda is ready to kick it up a notch in 2017 with new stories and new music.  Joining her on the Canadian Highway Vagabond Tour dates is special guest Brandy Clark.  \nStay up to date with Live Nation!\nhttps://www.facebook.com/livenationsaskatchewanandmanitoba\nhttps://twitter.com/livenationwest\nhttps://instagram.com/livenationskmb\nhttp://www.livenation.com
URL:https://accesswinnipeg.com/event/miranda-lambert-highway-vagabond-tour/
LOCATION:MTS Centre\, 300 Portage Ave\, Winnipeg\, Manitoba\, R3C 5S4\, Canada
ATTACH;FMTTYPE=image/jpeg:https://accesswinnipeg.com/wp-content/uploads/2017/04/9755ff25a9f30c4996be7b10760e527c.jpg
END:VEVENT
BEGIN:VEVENT
DTSTART;TZID=America/Winnipeg:20171007T190000
DTEND;TZID=America/Winnipeg:20171007T190000
DTSTAMP:20260421T233028
CREATED:20170412T072133Z
LAST-MODIFIED:20170716T222130Z
UID:49968-1507402800-1507402800@accesswinnipeg.com
SUMMARY:The New Pornographers
DESCRIPTION:Sale Dates and Times: \nPublic Onsale : Thu\, 13 Apr 2017 at 10:00 AM \nInternet Presale : Wed\, 12 Apr 2017 at 10:00 AM
URL:https://accesswinnipeg.com/event/the-new-pornographers/
LOCATION:Burton Cummings Theatre\, 364 Smith Street\, Winnipeg\, Manitoba\, R3B 2H2\, Canada
ATTACH;FMTTYPE=image/jpeg:https://accesswinnipeg.com/wp-content/uploads/2017/07/9e8db11fde9ddbe9d1d219fe5280df31.jpg
END:VEVENT
END:VCALENDAR