BEGIN:VCALENDAR
VERSION:2.0
PRODID:-//Access Winnipeg - ECPv6.15.20//NONSGML v1.0//EN
CALSCALE:GREGORIAN
METHOD:PUBLISH
X-ORIGINAL-URL:https://accesswinnipeg.com
X-WR-CALDESC:Events for Access Winnipeg
REFRESH-INTERVAL;VALUE=DURATION:PT1H
X-Robots-Tag:noindex
X-PUBLISHED-TTL:PT1H
BEGIN:VTIMEZONE
TZID:America/Winnipeg
BEGIN:DAYLIGHT
TZOFFSETFROM:-0600
TZOFFSETTO:-0500
TZNAME:CDT
DTSTART:20160313T080000
END:DAYLIGHT
BEGIN:STANDARD
TZOFFSETFROM:-0500
TZOFFSETTO:-0600
TZNAME:CST
DTSTART:20161106T070000
END:STANDARD
BEGIN:DAYLIGHT
TZOFFSETFROM:-0600
TZOFFSETTO:-0500
TZNAME:CDT
DTSTART:20170312T080000
END:DAYLIGHT
BEGIN:STANDARD
TZOFFSETFROM:-0500
TZOFFSETTO:-0600
TZNAME:CST
DTSTART:20171105T070000
END:STANDARD
BEGIN:DAYLIGHT
TZOFFSETFROM:-0600
TZOFFSETTO:-0500
TZNAME:CDT
DTSTART:20180311T080000
END:DAYLIGHT
BEGIN:STANDARD
TZOFFSETFROM:-0500
TZOFFSETTO:-0600
TZNAME:CST
DTSTART:20181104T070000
END:STANDARD
END:VTIMEZONE
BEGIN:VEVENT
DTSTART;TZID=America/Winnipeg:20171011T183000
DTEND;TZID=America/Winnipeg:20171011T183000
DTSTAMP:20260425T071502
CREATED:20170210T183634Z
LAST-MODIFIED:20170718T222602Z
UID:48829-1507746600-1507746600@accesswinnipeg.com
SUMMARY:Chris de Burgh "A Better World" Canadian Tour 2017
DESCRIPTION:Sale Dates and Times: \nPublic Onsale : Fri\, 10 Feb 2017 at 10:00 AM \nFan Club Presale : Wed\, 8 Feb 2017 at 10:00 AM \nVenue/Radio Presales : Thu\, 9 Feb 2017 at 10:00 AM
URL:https://accesswinnipeg.com/event/chris-de-burgh-a-better-world-canadian-tour-2017/
LOCATION:Centennial Concert Hall\, 555 Main St\, Winnipeg\, Manitoba\, R3B 1C3\, Canada
ATTACH;FMTTYPE=image/jpeg:https://accesswinnipeg.com/wp-content/uploads/2017/06/b2ee479a51c55bbbee4454ab21c7eea0.jpg
END:VEVENT
BEGIN:VEVENT
DTSTART;TZID=America/Winnipeg:20171011T190000
DTEND;TZID=America/Winnipeg:20171011T190000
DTSTAMP:20260425T071502
CREATED:20170711T211524Z
LAST-MODIFIED:20170716T222130Z
UID:51311-1507748400-1507748400@accesswinnipeg.com
SUMMARY:Winnipeg Folk Festival Presents Whitehorse With Guests
DESCRIPTION:Sale Dates and Times: \nPublic Onsale : Fri\, 14 Jul 2017 at 10:00 AM \nInternet Presale : Thu\, 13 Jul 2017 at 10:00 AM
URL:https://accesswinnipeg.com/event/winnipeg-folk-festival-presents-whitehorse-with-guests/
LOCATION:Burton Cummings Theatre\, 364 Smith Street\, Winnipeg\, Manitoba\, R3B 2H2\, Canada
ATTACH;FMTTYPE=image/jpeg:https://accesswinnipeg.com/wp-content/uploads/2017/07/08a3cc1d858e61bf28e999bb9c85979c.jpg
END:VEVENT
BEGIN:VEVENT
DTSTART;TZID=America/Winnipeg:20171011T190000
DTEND;TZID=America/Winnipeg:20171011T220000
DTSTAMP:20260425T071502
CREATED:20170711T211525Z
LAST-MODIFIED:20170716T222130Z
UID:51312-1507748400-1507759200@accesswinnipeg.com
SUMMARY:Whitehorse pres. by Winnipeg Folk Fest & Burton Cummings Theatre
DESCRIPTION:Whitehorse will be in town on October 11\, 2017! \nPresale Thursday\, July 13 from 10 AM – 10 PM\nPresale password: PANTHER \nTickets on sale Friday\, July 14!\nDoors 7:00 PM\, Show 8:00 PM.\nAll ages\, licensed. Ticketed seating.\n—\nGlam and sleaze\, desert grit and subway rats\, scum-bags\, hot messes and cold shoulders: welcome to the world of Whitehorse. \nWhitehorse’s brazen sonic breadth encompasses psychedelic surf\, arid border rock\, lo-fi ingenuity and icy 80’s sparseness. New Album\, Panther In The Dollhouse\, brings a twist to Whitehorse’s studio approach with the addition of beats and bleeps from NYC hip-hop production duo Like minds (Kanye West\, Snoop Dogg). But while each new album sees the duo’s sound evolve\, the essence of Whitehorse’s musical identity remains their dizzying guitar playing and vocal chemistry.
URL:https://accesswinnipeg.com/event/whitehorse-pres-by-winnipeg-folk-fest-burton-cummings-theatre/
LOCATION:Burton Cummings Theatre\, 364 Smith Street\, Winnipeg\, Manitoba\, R3B 2H2\, Canada
ATTACH;FMTTYPE=image/jpeg:https://accesswinnipeg.com/wp-content/uploads/2017/07/c509ab14af33c6d72dfd3e74fec594cb.jpg
END:VEVENT
END:VCALENDAR