BEGIN:VCALENDAR
VERSION:2.0
PRODID:-//Access Winnipeg - ECPv6.15.20//NONSGML v1.0//EN
CALSCALE:GREGORIAN
METHOD:PUBLISH
X-ORIGINAL-URL:https://accesswinnipeg.com
X-WR-CALDESC:Events for Access Winnipeg
REFRESH-INTERVAL;VALUE=DURATION:PT1H
X-Robots-Tag:noindex
X-PUBLISHED-TTL:PT1H
BEGIN:VTIMEZONE
TZID:America/Winnipeg
BEGIN:DAYLIGHT
TZOFFSETFROM:-0600
TZOFFSETTO:-0500
TZNAME:CDT
DTSTART:20160313T080000
END:DAYLIGHT
BEGIN:STANDARD
TZOFFSETFROM:-0500
TZOFFSETTO:-0600
TZNAME:CST
DTSTART:20161106T070000
END:STANDARD
BEGIN:DAYLIGHT
TZOFFSETFROM:-0600
TZOFFSETTO:-0500
TZNAME:CDT
DTSTART:20170312T080000
END:DAYLIGHT
BEGIN:STANDARD
TZOFFSETFROM:-0500
TZOFFSETTO:-0600
TZNAME:CST
DTSTART:20171105T070000
END:STANDARD
BEGIN:DAYLIGHT
TZOFFSETFROM:-0600
TZOFFSETTO:-0500
TZNAME:CDT
DTSTART:20180311T080000
END:DAYLIGHT
BEGIN:STANDARD
TZOFFSETFROM:-0500
TZOFFSETTO:-0600
TZNAME:CST
DTSTART:20181104T070000
END:STANDARD
END:VTIMEZONE
BEGIN:VEVENT
DTSTART;TZID=America/Winnipeg:20171217T150000
DTEND;TZID=America/Winnipeg:20171217T150000
DTSTAMP:20260425T100526
CREATED:20170608T134635Z
LAST-MODIFIED:20170716T224203Z
UID:50678-1513522800-1513522800@accesswinnipeg.com
SUMMARY:PJ Masks LIVE! Time To Be A Hero
DESCRIPTION:Children under 1 years ikd di bit require a ticket to sit on a parent’s lap. \nSale Dates and Times: \nPublic Onsale : Fri\, 9 Jun 2017 at 10:00 AM \nTicketmaster Presale : Tue\, 6 Jun 2017 at 09:00 AM \nVIP Meet and Greet : Tue\, 6 Jun 2017 at 10:00 AM \nPresale Offers : Tue\, 6 Jun 2017 at 10:00 AM
URL:https://accesswinnipeg.com/event/pj-masks-live-time-to-be-a-hero/
LOCATION:Burton Cummings Theatre\, 364 Smith Street\, Winnipeg\, Manitoba\, R3B 2H2\, Canada
ATTACH;FMTTYPE=image/jpeg:https://accesswinnipeg.com/wp-content/uploads/2017/07/70b8538f85bf17e02fbded8a13f3131a.jpg
END:VEVENT
END:VCALENDAR