BEGIN:VCALENDAR
VERSION:2.0
PRODID:-//Access Winnipeg - ECPv6.15.20//NONSGML v1.0//EN
CALSCALE:GREGORIAN
METHOD:PUBLISH
X-WR-CALNAME:Access Winnipeg
X-ORIGINAL-URL:https://accesswinnipeg.com
X-WR-CALDESC:Events for Access Winnipeg
REFRESH-INTERVAL;VALUE=DURATION:PT1H
X-Robots-Tag:noindex
X-PUBLISHED-TTL:PT1H
BEGIN:VTIMEZONE
TZID:America/Winnipeg
BEGIN:DAYLIGHT
TZOFFSETFROM:-0600
TZOFFSETTO:-0500
TZNAME:CDT
DTSTART:20180311T080000
END:DAYLIGHT
BEGIN:STANDARD
TZOFFSETFROM:-0500
TZOFFSETTO:-0600
TZNAME:CST
DTSTART:20181104T070000
END:STANDARD
BEGIN:DAYLIGHT
TZOFFSETFROM:-0600
TZOFFSETTO:-0500
TZNAME:CDT
DTSTART:20190310T080000
END:DAYLIGHT
BEGIN:STANDARD
TZOFFSETFROM:-0500
TZOFFSETTO:-0600
TZNAME:CST
DTSTART:20191103T070000
END:STANDARD
BEGIN:DAYLIGHT
TZOFFSETFROM:-0600
TZOFFSETTO:-0500
TZNAME:CDT
DTSTART:20200308T080000
END:DAYLIGHT
BEGIN:STANDARD
TZOFFSETFROM:-0500
TZOFFSETTO:-0600
TZNAME:CST
DTSTART:20201101T070000
END:STANDARD
END:VTIMEZONE
BEGIN:VEVENT
DTSTART;VALUE=DATE:20190419
DTEND;VALUE=DATE:20190422
DTSTAMP:20260421T233016
CREATED:20190412T015006Z
LAST-MODIFIED:20190421T021945Z
UID:63358-1555632000-1555891199@accesswinnipeg.com
SUMMARY:Lott Thunder Revivals Easter Fellowship Convention
DESCRIPTION:Celebrating 50 years! https://www.facebook.com/lottthunderrevivals/
URL:https://accesswinnipeg.com/event/lott-thunder-revivals-easter-fellowship-convention/
LOCATION:MB
CATEGORIES:Conference
END:VEVENT
BEGIN:VEVENT
DTSTART;TZID=America/Winnipeg:20190421T000000
DTEND;TZID=America/Winnipeg:20190422T000000
DTSTAMP:20260421T233016
CREATED:20190422T014948Z
LAST-MODIFIED:20190422T014948Z
UID:63558-1555804800-1555891200@accesswinnipeg.com
SUMMARY:Kinky Boots
DESCRIPTION:Venue: Centennial Concert Hall	 555 Main Street	 Winnipeg
URL:https://accesswinnipeg.com/event/kinky-boots-12/
LOCATION:MB
CATEGORIES:Music
END:VEVENT
BEGIN:VEVENT
DTSTART;TZID=America/Winnipeg:20190421T000000
DTEND;TZID=America/Winnipeg:20190422T000000
DTSTAMP:20260421T233016
CREATED:20190422T014948Z
LAST-MODIFIED:20190422T014948Z
UID:63554-1555804800-1555891200@accesswinnipeg.com
SUMMARY:Leo Gosselin\,Steve Kiz
DESCRIPTION:Venue: Palm Lounge	 222 Broadway	 Winnipeg
URL:https://accesswinnipeg.com/event/leo-gosselinsteve-kiz/
LOCATION:MB
CATEGORIES:Music
END:VEVENT
BEGIN:VEVENT
DTSTART;TZID=America/Winnipeg:20190421T000000
DTEND;TZID=America/Winnipeg:20190422T000000
DTSTAMP:20260421T233016
CREATED:20190422T014948Z
LAST-MODIFIED:20190422T014948Z
UID:63555-1555804800-1555891200@accesswinnipeg.com
SUMMARY:Marc Arnold
DESCRIPTION:Venue: Palm Lounge	 222 Broadway	 Winnipeg
URL:https://accesswinnipeg.com/event/marc-arnold/
LOCATION:MB
CATEGORIES:Music
END:VEVENT
BEGIN:VEVENT
DTSTART;TZID=America/Winnipeg:20190421T000000
DTEND;TZID=America/Winnipeg:20190422T000000
DTSTAMP:20260421T233016
CREATED:20190422T014948Z
LAST-MODIFIED:20190422T014948Z
UID:63556-1555804800-1555891200@accesswinnipeg.com
SUMMARY:Open Mic
DESCRIPTION:Venue: Bulldog Pizza	 1364 Main Street	 Winnipeg
URL:https://accesswinnipeg.com/event/open-mic-75/
LOCATION:MB
CATEGORIES:Music
END:VEVENT
BEGIN:VEVENT
DTSTART;TZID=America/Winnipeg:20190421T000000
DTEND;TZID=America/Winnipeg:20190422T000000
DTSTAMP:20260421T233016
CREATED:20190422T014948Z
LAST-MODIFIED:20190422T014948Z
UID:63557-1555804800-1555891200@accesswinnipeg.com
SUMMARY:Open Mic
DESCRIPTION:Venue: Winnipeg South Osborne Legion	 436 Osborne Street	 Winnipeg
URL:https://accesswinnipeg.com/event/open-mic-76/
LOCATION:MB
CATEGORIES:Music
END:VEVENT
BEGIN:VEVENT
DTSTART;TZID=America/Winnipeg:20190421T000000
DTEND;TZID=America/Winnipeg:20190422T000000
DTSTAMP:20260421T233016
CREATED:20190422T014949Z
LAST-MODIFIED:20190422T014949Z
UID:63559-1555804800-1555891200@accesswinnipeg.com
SUMMARY:Kinky Boots
DESCRIPTION:Venue: Centennial Concert Hall	 555 Main Street	 Winnipeg
URL:https://accesswinnipeg.com/event/kinky-boots-13/
LOCATION:MB
CATEGORIES:Music
END:VEVENT
BEGIN:VEVENT
DTSTART;TZID=America/Winnipeg:20190421T000000
DTEND;TZID=America/Winnipeg:20190422T000000
DTSTAMP:20260421T233016
CREATED:20190422T014949Z
LAST-MODIFIED:20190422T014949Z
UID:63560-1555804800-1555891200@accesswinnipeg.com
SUMMARY:A Punk Rock Easter Sunday All Ages Matinee: Henchman\,SAWCHUK\,The Debris Section
DESCRIPTION:Venue: Bulldog Pizza	 1364 Main St	 Winnipeg $7 / $5 for under 18
URL:https://accesswinnipeg.com/event/a-punk-rock-easter-sunday-all-ages-matinee-henchmansawchukthe-debris-section/
LOCATION:MB
CATEGORIES:Music
END:VEVENT
BEGIN:VEVENT
DTSTART;TZID=America/Winnipeg:20190421T140000
DTEND;TZID=America/Winnipeg:20190421T163000
DTSTAMP:20260421T233016
CREATED:20181031T185816Z
LAST-MODIFIED:20190121T191303Z
UID:59990-1555855200-1555864200@accesswinnipeg.com
SUMMARY:KINKY BOOTS
DESCRIPTION:KINKY BOOTS\, winner of 6 Tony Awards including Best Musical comes to Winnipeg\, April 16 – 21\, 2019 for 8 performances at Centennial Concert Hall. Tickets go on sale Sat\, Nov 3\, 10am at www.centennialconcerthall.com and at the box office\, 204-949-3999. Ticket prices vary in range depending on performance and seat location\, and start at $35.00 plus applicable service fees. Group orders of 15 or more are available by calling 204.926.5805.  \nKINKY BOOTS is Broadway’s huge-hearted\, high-heeled hit! With songs by Grammy® and Tony® winning pop icon Cyndi Lauper\, this joyous musical celebration is about the friendships we discover\, and the belief that you can change the world when you change your mind. Inspired by true events\, KINKY BOOTS takes you from a gentlemen’s shoe factory in Northampton to the glamorous catwalks of Milan.  \nCharlie Price is struggling to live up to his father’s expectations and continue the family business of Price & Son. With the factory’s future hanging in the balance\, help arrives in the unlikely but spectacular form of Lola\, a fabulous performer in need of some sturdy new stilettos.  \nWith direction and choreography by two-time Tony Award-winner Jerry Mitchell (Legally Blonde\, Hairspray) and a book by Broadway legend and four-time Tony Award-winner Harvey Fierstein (La Cage Aux Folles)\, KINKY BOOTS is the winner of six Tony Awards including Best Musical\, Best Score and Best Choreography.  \nTake a step in the right direction and discover that sometimes the best way to fit in is to stand out. “There is no show hotter than KINKY BOOTS!” – CBS News \nPresented by Canadian Footwear and Showtime Productions Inc
URL:https://accesswinnipeg.com/event/kinky-boots-2/
LOCATION:Centennial Concert Hall\, 555 Main Street\, Winnipeg\, Manitoba\, R3B 1C3\, Canada
CATEGORIES:Concerts
ATTACH;FMTTYPE=image/jpeg:https://accesswinnipeg.com/wp-content/uploads/2018/10/KINKY-BOOTS-7.jpg
END:VEVENT
BEGIN:VEVENT
DTSTART;TZID=America/Winnipeg:20190421T193000
DTEND;TZID=America/Winnipeg:20190421T220000
DTSTAMP:20260421T233016
CREATED:20181031T185919Z
LAST-MODIFIED:20190121T191246Z
UID:59993-1555875000-1555884000@accesswinnipeg.com
SUMMARY:KINKY BOOTS
DESCRIPTION:KINKY BOOTS\, winner of 6 Tony Awards including Best Musical comes to Winnipeg\, April 16 – 21\, 2019 for 8 performances at Centennial Concert Hall. Tickets go on sale Sat\, Nov 3\, 10am at www.centennialconcerthall.com and at the box office\, 204-949-3999. Ticket prices vary in range depending on performance and seat location\, and start at $35.00 plus applicable service fees. Group orders of 15 or more are available by calling 204.926.5805.  \nKINKY BOOTS is Broadway’s huge-hearted\, high-heeled hit! With songs by Grammy® and Tony® winning pop icon Cyndi Lauper\, this joyous musical celebration is about the friendships we discover\, and the belief that you can change the world when you change your mind. Inspired by true events\, KINKY BOOTS takes you from a gentlemen’s shoe factory in Northampton to the glamorous catwalks of Milan.  \nCharlie Price is struggling to live up to his father’s expectations and continue the family business of Price & Son. With the factory’s future hanging in the balance\, help arrives in the unlikely but spectacular form of Lola\, a fabulous performer in need of some sturdy new stilettos.  \nWith direction and choreography by two-time Tony Award-winner Jerry Mitchell (Legally Blonde\, Hairspray) and a book by Broadway legend and four-time Tony Award-winner Harvey Fierstein (La Cage Aux Folles)\, KINKY BOOTS is the winner of six Tony Awards including Best Musical\, Best Score and Best Choreography.  \nTake a step in the right direction and discover that sometimes the best way to fit in is to stand out. “There is no show hotter than KINKY BOOTS!” – CBS News \nPresented by Canadian Footwear and Showtime Productions Inc
URL:https://accesswinnipeg.com/event/kinky-boots/
LOCATION:Centennial Concert Hall\, 555 Main Street\, Winnipeg\, Manitoba\, R3B 1C3\, Canada
CATEGORIES:Concerts
ATTACH;FMTTYPE=image/jpeg:https://accesswinnipeg.com/wp-content/uploads/2018/10/KINKY-BOOTS-8.jpg
END:VEVENT
END:VCALENDAR