BEGIN:VCALENDAR
VERSION:2.0
PRODID:-//Access Winnipeg - ECPv6.15.20//NONSGML v1.0//EN
CALSCALE:GREGORIAN
METHOD:PUBLISH
X-ORIGINAL-URL:https://accesswinnipeg.com
X-WR-CALDESC:Events for Access Winnipeg
REFRESH-INTERVAL;VALUE=DURATION:PT1H
X-Robots-Tag:noindex
X-PUBLISHED-TTL:PT1H
BEGIN:VTIMEZONE
TZID:America/Winnipeg
BEGIN:DAYLIGHT
TZOFFSETFROM:-0600
TZOFFSETTO:-0500
TZNAME:CDT
DTSTART:20180311T080000
END:DAYLIGHT
BEGIN:STANDARD
TZOFFSETFROM:-0500
TZOFFSETTO:-0600
TZNAME:CST
DTSTART:20181104T070000
END:STANDARD
BEGIN:DAYLIGHT
TZOFFSETFROM:-0600
TZOFFSETTO:-0500
TZNAME:CDT
DTSTART:20190310T080000
END:DAYLIGHT
BEGIN:STANDARD
TZOFFSETFROM:-0500
TZOFFSETTO:-0600
TZNAME:CST
DTSTART:20191103T070000
END:STANDARD
BEGIN:DAYLIGHT
TZOFFSETFROM:-0600
TZOFFSETTO:-0500
TZNAME:CDT
DTSTART:20200308T080000
END:DAYLIGHT
BEGIN:STANDARD
TZOFFSETFROM:-0500
TZOFFSETTO:-0600
TZNAME:CST
DTSTART:20201101T070000
END:STANDARD
END:VTIMEZONE
BEGIN:VEVENT
DTSTART;VALUE=DATE:20190422
DTEND;VALUE=DATE:20190429
DTSTAMP:20260424T052101
CREATED:20190204T204943Z
LAST-MODIFIED:20190428T023440Z
UID:62038-1555891200-1556495999@accesswinnipeg.com
SUMMARY:Canadian National Dance Championships
DESCRIPTION:CDNC is the only dance competition in Canada that qualifies Canadian dancers to represent Canada at the prestigious World Championships. CNDC offers a stress free\, well-organized dance competition with wonderful awards and a fun and encouraging dance competition for dancers of all ages and levels. \nhttp://www.cdo-online.org/tourdates
URL:https://accesswinnipeg.com/event/canadian-national-dance-championships/
LOCATION:MB
CATEGORIES:Conference
END:VEVENT
BEGIN:VEVENT
DTSTART;TZID=America/Winnipeg:20190423T000000
DTEND;TZID=America/Winnipeg:20190424T000000
DTSTAMP:20260424T052101
CREATED:20190422T014949Z
LAST-MODIFIED:20190424T014947Z
UID:63563-1555977600-1556064000@accesswinnipeg.com
SUMMARY:WIDMORE\,Hawking\,Tama Hills\,Prinport
DESCRIPTION:Venue: Park Theatre	 698 Osborne Street	 Winnipeg
URL:https://accesswinnipeg.com/event/widmorehawkingtama-hillsprinport/
LOCATION:MB
CATEGORIES:Music
END:VEVENT
BEGIN:VEVENT
DTSTART;TZID=America/Winnipeg:20190423T000000
DTEND;TZID=America/Winnipeg:20190424T000000
DTSTAMP:20260424T052101
CREATED:20190422T014949Z
LAST-MODIFIED:20190424T014947Z
UID:63564-1555977600-1556064000@accesswinnipeg.com
SUMMARY:Metric\,July Talk
DESCRIPTION:Venue: Bell MTS Place	 260 Hargrave Street	 Winnipeg
URL:https://accesswinnipeg.com/event/metricjuly-talk/
LOCATION:MB
CATEGORIES:Music
END:VEVENT
BEGIN:VEVENT
DTSTART;TZID=America/Winnipeg:20190423T000000
DTEND;TZID=America/Winnipeg:20190424T000000
DTSTAMP:20260424T052101
CREATED:20190422T014949Z
LAST-MODIFIED:20190424T014947Z
UID:63565-1555977600-1556064000@accesswinnipeg.com
SUMMARY:Hot Garbage\,Jamboree\,Cheap Heat
DESCRIPTION:Venue: The Handsome Daughter	 61 Sherbrook Street	 Winnipeg Promoters: Real Love Winnipeg
URL:https://accesswinnipeg.com/event/hot-garbagejamboreecheap-heat/
LOCATION:MB
CATEGORIES:Music
END:VEVENT
BEGIN:VEVENT
DTSTART;TZID=America/Winnipeg:20190423T000000
DTEND;TZID=America/Winnipeg:20190424T000000
DTSTAMP:20260424T052101
CREATED:20190423T014946Z
LAST-MODIFIED:20190424T014947Z
UID:63571-1555977600-1556064000@accesswinnipeg.com
SUMMARY:The Village Idiots Open Mic: Kevin Hogg
DESCRIPTION:Venue: Sonix Bar & Grill	 423 McMillan Ave.	 Winnipeg Promoters: The Village Idiots Every Tuesday we’re at Sonix Bar & Grill for Open Mic hosted by Kevin Hogg from Bright Righteous. Bring an instrument\, use Kevin’s guitar or simply come down and enjoy the free music. All skill levels welcome and a safe place for all :) 
URL:https://accesswinnipeg.com/event/the-village-idiots-open-mic-kevin-hogg-23/
LOCATION:MB
CATEGORIES:Music
END:VEVENT
BEGIN:VEVENT
DTSTART;TZID=America/Winnipeg:20190423T000000
DTEND;TZID=America/Winnipeg:20190424T000000
DTSTAMP:20260424T052101
CREATED:20190423T014946Z
LAST-MODIFIED:20190424T014947Z
UID:63573-1555977600-1556064000@accesswinnipeg.com
SUMMARY:Corin Raymond
DESCRIPTION:Venue: Times Change(d) High & Lonesome Club	 234 Main Street	 Winnipeg The uncrowned King of Kensington returns for two unmissable nights! Featuring such classic tunes as 3000 Miles\, That’s Life\, Hard on Things\, Don’t Spend It Honey\, something by Doug Norquay\, and There Will Always Be A Small Time
URL:https://accesswinnipeg.com/event/corin-raymond/
LOCATION:MB
CATEGORIES:Music
END:VEVENT
BEGIN:VEVENT
DTSTART;TZID=America/Winnipeg:20190423T000000
DTEND;TZID=America/Winnipeg:20190424T000000
DTSTAMP:20260424T052101
CREATED:20190423T014947Z
LAST-MODIFIED:20190424T014947Z
UID:63575-1555977600-1556064000@accesswinnipeg.com
SUMMARY:Kyle McKiernan
DESCRIPTION:Venue: Palm Lounge	 222 Broadway	 Winnipeg
URL:https://accesswinnipeg.com/event/kyle-mckiernan-16/
LOCATION:MB
CATEGORIES:Music
END:VEVENT
BEGIN:VEVENT
DTSTART;VALUE=DATE:20190423
DTEND;VALUE=DATE:20190426
DTSTAMP:20260424T052101
CREATED:20190206T204946Z
LAST-MODIFIED:20190425T023441Z
UID:62077-1555977600-1556236799@accesswinnipeg.com
SUMMARY:C-45 Quality Summit
DESCRIPTION:C-45 Quality Summit will bring leaders of the Canadian Cannabis industry together as they work to establish the Canadian Cannabis industry as a world leader in quality and innovation. https://www.c45quality.com/
URL:https://accesswinnipeg.com/event/c-45-quality-summit/
LOCATION:MB
CATEGORIES:Conference
END:VEVENT
BEGIN:VEVENT
DTSTART;TZID=America/Winnipeg:20190423T184500
DTEND;TZID=America/Winnipeg:20190423T184500
DTSTAMP:20260424T052101
CREATED:20190123T193454Z
LAST-MODIFIED:20190423T201950Z
UID:61688-1556045100-1556045100@accesswinnipeg.com
SUMMARY:Metric with July Talk
DESCRIPTION:
URL:https://accesswinnipeg.com/event/metric-with-july-talk/
LOCATION:Bell MTS Place\, 300 Portage Avenue\, Winnipeg\, Manitoba\, R3C 5S4\, Canada
END:VEVENT
END:VCALENDAR