BEGIN:VCALENDAR
VERSION:2.0
PRODID:-//Access Winnipeg - ECPv6.15.20//NONSGML v1.0//EN
CALSCALE:GREGORIAN
METHOD:PUBLISH
X-WR-CALNAME:Access Winnipeg
X-ORIGINAL-URL:https://accesswinnipeg.com
X-WR-CALDESC:Events for Access Winnipeg
REFRESH-INTERVAL;VALUE=DURATION:PT1H
X-Robots-Tag:noindex
X-PUBLISHED-TTL:PT1H
BEGIN:VTIMEZONE
TZID:America/Winnipeg
BEGIN:DAYLIGHT
TZOFFSETFROM:-0600
TZOFFSETTO:-0500
TZNAME:CDT
DTSTART:20210314T080000
END:DAYLIGHT
BEGIN:STANDARD
TZOFFSETFROM:-0500
TZOFFSETTO:-0600
TZNAME:CST
DTSTART:20211107T070000
END:STANDARD
BEGIN:DAYLIGHT
TZOFFSETFROM:-0600
TZOFFSETTO:-0500
TZNAME:CDT
DTSTART:20220313T080000
END:DAYLIGHT
BEGIN:STANDARD
TZOFFSETFROM:-0500
TZOFFSETTO:-0600
TZNAME:CST
DTSTART:20221106T070000
END:STANDARD
BEGIN:DAYLIGHT
TZOFFSETFROM:-0600
TZOFFSETTO:-0500
TZNAME:CDT
DTSTART:20230312T080000
END:DAYLIGHT
BEGIN:STANDARD
TZOFFSETFROM:-0500
TZOFFSETTO:-0600
TZNAME:CST
DTSTART:20231105T070000
END:STANDARD
END:VTIMEZONE
BEGIN:VEVENT
DTSTART;TZID=America/Winnipeg:20220422T200000
DTEND;TZID=America/Winnipeg:20221202T010000
DTSTAMP:20260422T005809
CREATED:20211013T152145Z
LAST-MODIFIED:20211017T153710Z
UID:87169-1650657600-1669942800@accesswinnipeg.com
SUMMARY:Shannon & Scott's Wedding SHOW-CIAL
DESCRIPTION:Shannon & Scott’s Wedding Social\n\n\nShannon & Scott’s Wedding Social \nSATURDAY\, MAY 8TH\, 2021 \nDoors: 8 pm \nPark Theatre \n \nThis isn’t just your ordinary wedding social. Live music\, a rotating set of DJs\, live records\, lattes\, cocktails\, snacks\, and great prizes to keep your booty shaking until the lights turn on. \n \nMusic: \n– Live band\, bringing the danceable rock ‘n’ roll to kick off the night  \n– Punk/post punk \n– 80’s dance music \n– Hip Hop/Nothing But The 90’s/Club Rap \n– Reggae\, Soca\, Dancehall\, Reggaeton \n– Readymix/ Indie Dance \n– Electronic/Dubstep/Drum’n’Bass/Psychedelic \n \nPrizes: \n– 55″ flatscreen TV \n– Jets Prize Pack \n–  Kitchen Essentials \n– Fitness Prize Pack \n– Spa Prize Pack \n– Date Night \n– Wellness Prize Pack \n– More Special Prizes to be Unveiled!
URL:https://accesswinnipeg.com/event/shannon-scotts-wedding-show-cial/
LOCATION:MB
CATEGORIES:Events
ATTACH;FMTTYPE=image/jpeg:https://accesswinnipeg.com/wp-content/uploads/2021/10/d940d61543276d1feacca2761e2002cf.jpg
END:VEVENT
BEGIN:VEVENT
DTSTART;TZID=America/Winnipeg:20220506T193000
DTEND;TZID=America/Winnipeg:20220506T223000
DTSTAMP:20260422T005809
CREATED:20220329T214638Z
LAST-MODIFIED:20220503T225224Z
UID:89104-1651865400-1651876200@accesswinnipeg.com
SUMMARY:Hypocrisy | Carach Angren | The Agonist |Hideous Divinity
DESCRIPTION:Ninjacat Productions and the Park Theatre Presents\n\n\nHypocrisy | Carach Angren | The Agonist |Hideous Divinity \nFriday\, May 6th \n$35 plus fees
URL:https://accesswinnipeg.com/event/hypocrisy-carach-angren-the-agonist-hideous-divinity/
LOCATION:The Park Theatre\, 698 Osborne Street\, Winnipeg\, MB\, R3L 2B9\, Canada
ATTACH;FMTTYPE=image/jpeg:https://accesswinnipeg.com/wp-content/uploads/2022/03/647a82e323f86ddc340fadacc8bef4a5.jpg
END:VEVENT
BEGIN:VEVENT
DTSTART;TZID=America/Winnipeg:20220506T200000
DTEND;TZID=America/Winnipeg:20220506T223000
DTSTAMP:20260422T005809
CREATED:20220315T171632Z
LAST-MODIFIED:20220503T182115Z
UID:88985-1651867200-1651876200@accesswinnipeg.com
SUMMARY:The Arrogant Worms
DESCRIPTION:The Arrogant Worms at the West End Cultural Centre – Friday\, May 6th at 8:00pm\n\n\nThe year was 1991.  Presumably\, some significant world events occurred.  The world truly changed in the fall however\, when something truly magnificent happened in Kingston\, Ontario\, Canada. A beacon of hope was lit and has shone brightly ever since – The Arrogant Worms. The Arrogant Worms began as a comedy troupe performing songs and sketches on campus radio. The early feedback on the live shows was clear:  lose the sketches.  So the songs endured and they all remain because the band hates to throw anything out. \nThe songs were written to make fun of a big dumb world. Luckily\, the world is still dumb and The Arrogant Worms (Mike McCormick\, Chris Patterson and Trevor Strong) still have plenty to sing about. The shows are fast\, furious and family friendly. The wit is quick\, the satire is biting and the musicianship is second to none. Their appeal has earned them fans from kids to parents to grandparents to Princess Leia. \nThe Arrogant Worms have sold more than 160\,000 copies of their 13 albums.  Their most recent offering is SPACE\, a collection of 16 new songs released in 2014 that bravely tackles the hard issues like Local Politicians\, Yoga Pants and Uncomfortable Chairs.  The band has played on three continents to crowds as large as 100\,000 and were recognized in 2003 as the Touring Act of the Year by the Canadian Arts Presenters Association. The Worms have entertained at corporate functions\, sung anthems at sporting events and emceed at major festivals. Their songs are in school lesson plans\, in textbooks and even played on the Space Shuttle. On earth or in space\, everyone digs these Worms. \nThe Arrogant Worms are as comfortable on the radio or on camera as they are on stage. Their energy and showmanship were captured on the DVD of their concert with the renowned Edmonton Symphony Orchestra. The DVD also features appearances by Worm pals figure skating champion Kurt Browning\, astronaut Chris Hadfield and actors Tom Cavanaugh (Ed\, Love Monkey) and Nathan Fillion (Castle\, Firefly). \nIn recent years the Worms have been pleased to donate their time and talent to the cause of literacy in Canada through Frontier College and were twice awarded the Peter Gzowski Award for their efforts. \nSo nearly a quarter century after they began\, The Arrogant Worms continue to provide tuneful and silly escapism for everyone who needs it. And if you think you don’t need it\, well you’re wrong. You do. The Arrogant Worms know what’s best for you and what’s best for you is The Arrogant Worms. \n—– \nThe West End Cultural Centre will continue to require that patrons wear facemasks and show proof of vaccination for all events in the venue. \nWe will continue to evaluate this policy as circumstances evolve.
URL:https://accesswinnipeg.com/event/the-arrogant-worms/
LOCATION:West End Cultural Centre\, 586 Ellice Ave\, Winnipeg\, MB\, R3B1Z8\, Canada
CATEGORIES:Events
ATTACH;FMTTYPE=image/jpeg:https://accesswinnipeg.com/wp-content/uploads/2022/03/b05a7234143c6174ffc2f56248537c8c.jpg
END:VEVENT
BEGIN:VEVENT
DTSTART;TZID=America/Winnipeg:20220506T213000
DTEND;TZID=America/Winnipeg:20220507T000000
DTSTAMP:20260422T005809
CREATED:20220405T200202Z
LAST-MODIFIED:20220503T203617Z
UID:89200-1651872600-1651881600@accesswinnipeg.com
SUMMARY:Del Barber
DESCRIPTION:Del Barber is\, simply\, a world-class songwriter. Please join all of us at the Times Change(d) as we celebrate a genuine homegrown hero!\n\n\nAs the follow up to his 2020 Juno-nominated album Easy Keeper\, Stray Dogs finds Del Barber bridging his past and present. Conceived during pandemic isolation at his rural Manitoba home\, the eight songs on Stray Dogs are drawn mainly from Del’s large stock of previously unfinished demos\, given renewed focus and polish by his longtime band and producer Scott Franchuk.  \n \nParing things down to the bone\, the acoustic-based Stray Dogs captures the essence of Del’s art\, of which Rolling Stone wrote\, “Like John Prine (one of his primary influences)\, Barber writes the types of songs his characters might listen to themselves.”  \n \nFrom the first single “Meantime”—a show of support to his favourite venue in Winnipeg—to the heart-swelling closer “Just A Little Heat\,” written with his father\, Stray Dogs is a powerful reflection of the resilience we have all displayed over the past year. It also shows how Del has emerged even stronger\, and how he truly deserves a place among Canada’s most celebrated singer-songwriters.
URL:https://accesswinnipeg.com/event/del-barber/
LOCATION:Times Change(d) High & Lonesome Club\, 234 Main St.\, Winnipeg\, MB\, R3C1A8\, Canada
ATTACH;FMTTYPE=image/jpeg:https://accesswinnipeg.com/wp-content/uploads/2022/04/25965820313741bd11dd48b78af86858.jpg
END:VEVENT
END:VCALENDAR