BEGIN:VCALENDAR
VERSION:2.0
PRODID:-//Access Winnipeg - ECPv6.15.20//NONSGML v1.0//EN
CALSCALE:GREGORIAN
METHOD:PUBLISH
X-WR-CALNAME:Access Winnipeg
X-ORIGINAL-URL:https://accesswinnipeg.com
X-WR-CALDESC:Events for Access Winnipeg
REFRESH-INTERVAL;VALUE=DURATION:PT1H
X-Robots-Tag:noindex
X-PUBLISHED-TTL:PT1H
BEGIN:VTIMEZONE
TZID:America/Winnipeg
BEGIN:DAYLIGHT
TZOFFSETFROM:-0600
TZOFFSETTO:-0500
TZNAME:CDT
DTSTART:20210314T080000
END:DAYLIGHT
BEGIN:STANDARD
TZOFFSETFROM:-0500
TZOFFSETTO:-0600
TZNAME:CST
DTSTART:20211107T070000
END:STANDARD
BEGIN:DAYLIGHT
TZOFFSETFROM:-0600
TZOFFSETTO:-0500
TZNAME:CDT
DTSTART:20220313T080000
END:DAYLIGHT
BEGIN:STANDARD
TZOFFSETFROM:-0500
TZOFFSETTO:-0600
TZNAME:CST
DTSTART:20221106T070000
END:STANDARD
BEGIN:DAYLIGHT
TZOFFSETFROM:-0600
TZOFFSETTO:-0500
TZNAME:CDT
DTSTART:20230312T080000
END:DAYLIGHT
BEGIN:STANDARD
TZOFFSETFROM:-0500
TZOFFSETTO:-0600
TZNAME:CST
DTSTART:20231105T070000
END:STANDARD
END:VTIMEZONE
BEGIN:VEVENT
DTSTART;TZID=America/Winnipeg:20220422T200000
DTEND;TZID=America/Winnipeg:20221202T010000
DTSTAMP:20260422T204946
CREATED:20211013T152145Z
LAST-MODIFIED:20211017T153710Z
UID:87169-1650657600-1669942800@accesswinnipeg.com
SUMMARY:Shannon & Scott's Wedding SHOW-CIAL
DESCRIPTION:Shannon & Scott’s Wedding Social\n\n\nShannon & Scott’s Wedding Social \nSATURDAY\, MAY 8TH\, 2021 \nDoors: 8 pm \nPark Theatre \n \nThis isn’t just your ordinary wedding social. Live music\, a rotating set of DJs\, live records\, lattes\, cocktails\, snacks\, and great prizes to keep your booty shaking until the lights turn on. \n \nMusic: \n– Live band\, bringing the danceable rock ‘n’ roll to kick off the night  \n– Punk/post punk \n– 80’s dance music \n– Hip Hop/Nothing But The 90’s/Club Rap \n– Reggae\, Soca\, Dancehall\, Reggaeton \n– Readymix/ Indie Dance \n– Electronic/Dubstep/Drum’n’Bass/Psychedelic \n \nPrizes: \n– 55″ flatscreen TV \n– Jets Prize Pack \n–  Kitchen Essentials \n– Fitness Prize Pack \n– Spa Prize Pack \n– Date Night \n– Wellness Prize Pack \n– More Special Prizes to be Unveiled!
URL:https://accesswinnipeg.com/event/shannon-scotts-wedding-show-cial/
LOCATION:MB
CATEGORIES:Events
ATTACH;FMTTYPE=image/jpeg:https://accesswinnipeg.com/wp-content/uploads/2021/10/d940d61543276d1feacca2761e2002cf.jpg
END:VEVENT
BEGIN:VEVENT
DTSTART;TZID=America/Winnipeg:20220507T200000
DTEND;TZID=America/Winnipeg:20220507T230000
DTSTAMP:20260422T204946
CREATED:20211013T152152Z
LAST-MODIFIED:20220503T225213Z
UID:87171-1651953600-1651964400@accesswinnipeg.com
SUMMARY:Local Jukebox Volume 3
DESCRIPTION:It’s that time of year again where the bands go head to head and take on each other’s songs.\n\n\nIt’s that time of year again where the bands go head to head and take on each other’s songs. It’s a don’t miss kinda show as you will never hear this happen again. We have an all-star lineup of talent and it’s going to be an unforgettable night. \n \nJD Edwards band Vs Alex Maher \nRonnie Ladobruk and the Electrics Vs Romi Mayes \nKieran West Vs Sophie Stevens \n \nAlso\, we will have Sarah Maureen selling her art again in the lobby. \nand Kevin Harrison Repay Kevin Maretz from The Village Idiots hosting the night. \nIt will be my birthday as well if ppl would like to help me celebrate.
URL:https://accesswinnipeg.com/event/local-jukebox-volume-3/
LOCATION:MB
CATEGORIES:Events
ATTACH;FMTTYPE=image/jpeg:https://accesswinnipeg.com/wp-content/uploads/2021/11/15b8a147667e7473395e3923d3054b3e.jpg
END:VEVENT
BEGIN:VEVENT
DTSTART;TZID=America/Winnipeg:20220507T200000
DTEND;TZID=America/Winnipeg:20220507T230000
DTSTAMP:20260422T204946
CREATED:20220208T163652Z
LAST-MODIFIED:20220503T182115Z
UID:88669-1651953600-1651964400@accesswinnipeg.com
SUMMARY:Apollo Suns with  Zrada and The Remedies
DESCRIPTION:Apollo Suns with Zrada and The Remedies – Saturday\, May 7th at 8:00pm\n\n\nBorn from the fusing of nine Winnipeg\, Canada based musicians\, Apollo Suns have created a refreshing and innovative sound and live performance combining instrumental\, jazz\, rock and psychedelic music. They were awarded “Instrumental Artist of the Year” at the 2018 and 2020 Western Canadian Music Awards. \nApollo Suns began in 2016 following the deconstruction of Ed Durocher (Guitar) and Dave Guenette’s (bass) previous band Electric Soul. Over the years the band has seen a large rotation of some very talented and have now solidified the core group of Glenn Radley (Drums)\, Erika Einarson (Percussion)\, Niall Cade (Tenor Sax)\, Bryn Herperger (Bass)\, Garrett Malenko (Trumpet)\, Benjamin James Hill (Trombone)\, Aaron Bartel (Bari Sax) and Anatol Rennie (Keyboards/Synths).  \nWith each Anatol\, Aaron\, Glenn\, Bryn\, Niall\, and Erika having studied music at the U of M and CMU along with their previous bands including other genre-bending acts such as The Dirty Catfish Brass Band\, Super Duty Tough Work\, Moses Mayes and Sapphire Empire; there has been no lack of musical creativity amongst the band. Apollo Suns constantly challenge themselves in their writing by constructing jazz influenced songs with the end goal of maintaining an overall accessible and catchy track for listeners of all backgrounds. \nTheir debut EP\, Each Day a Different Sun\, was released April 2017 followed by a Western Canadian tour in support of the release. They have since been through Western Canada twice and Eastern Canada once. The album spent seven weeks on the Earshot! National Top 50 charts with its top position at #15. \nApollo Suns released their sophomore EP\, Dawn Offerings\, in late April of 2019 with two sold out shows in their hometown of Winnipeg\, MB. The release was followed by multiple tours and festival showcases across Canada to support the album. The album reached number #7 on the Earshot! National Top 50 charts.  \nHaving recently signed with USA based record label COLOR RED they will be releasing their third EP\, A Relationship of Force\, in late 2021 and supporting the album with a robust North American tour itinerary in 2022/23. \nSome of their most notable shows include support slots for The Comet is Coming\, The Brooks\, Anomalie\, Mariachi Ghost\, Five Alarm Funk\, Kobo Town\,  and Bend Sinister; as well as showcases at Canadian Music Week\, Winnipeg International Jazz Fest\, Big Fun Festival\, Ness Creek Festival\, Festival Du Voyageur and Winnipeg Fringe Festival. \nApollo Suns are an exciting band out of Winnipeg who are not afraid to walk a fine line and pave their own musical path to success and into the hearts of music fans all over Canada and soon internationally. With the recent signing to Cielo Talent Agency (Western USA) and Loose Leaf Agency (Eastern USA). They will be working closely with the band to book\, schedule and execute tour dates in the USA. \n—– \nCOVID-19 Protocols \nThe West End Cultural Centre will continue to require that patrons wear facemasks and show proof of vaccination for all events in the venue. \nWe will continue to evaluate this policy as circumstances evolve.
URL:https://accesswinnipeg.com/event/apollo-suns-with-zrada-and-the-remedies/
LOCATION:West End Cultural Centre\, 586 Ellice Ave\, Winnipeg\, MB\, R3B1Z8\, Canada
CATEGORIES:Events
ATTACH;FMTTYPE=image/jpeg:https://accesswinnipeg.com/wp-content/uploads/2022/02/1663d23072ce07855a2aae02bec8ca8c.jpg
END:VEVENT
BEGIN:VEVENT
DTSTART;TZID=America/Winnipeg:20220507T213000
DTEND;TZID=America/Winnipeg:20220508T000000
DTSTAMP:20260422T204946
CREATED:20220412T201110Z
LAST-MODIFIED:20220503T203617Z
UID:89225-1651959000-1651968000@accesswinnipeg.com
SUMMARY:Stanley County Cutups
DESCRIPTION:Hard drivin’ banjo solos\, four part harmony singing\, blues infused mandolin breaks and hair-raising fiddle tunes: all the bluegrass bases!\n\n\nFrom hard drivin’ banjo solos to four part harmony singing\, blues infused mandolin breaks and hair-raising fiddle tunes\, this quintet covers all the bluegrass bases. Some nights\, when the moon is just so\, you can even hear the wail of a lonesome dobro. \nThis group has been playing together in different capacities for close to 20 years and their performances have been described as “more than fine” and “refilling my folk music cup” by audience members. The Cutups include Jess Reimer on bass\, Jeremy Hamm on mandolin and fiddle\, banjo/dobro player Tim Osmond\, fiddler Jeremy Penner and guitarist T.J. Blair. All sing two\, three and four part harmonies in a bluegrass style over original compositions and traditional numbers. \nThis group of veteran pickers have been involved in many different projects over the years\, and to hear them come together to perform as a bluegrass band is sure to lure fans of The Stanley Brothers\, Jim & Jesse McReynolds\, Bill Monroe\, Hazel Dickens and others from the bluegrass canon.
URL:https://accesswinnipeg.com/event/stanley-county-cutups/
LOCATION:Times Change(d) High & Lonesome Club\, 234 Main St.\, Winnipeg\, MB\, R3C1A8\, Canada
ATTACH;FMTTYPE=image/jpeg:https://accesswinnipeg.com/wp-content/uploads/2022/04/1cadefc8625d4f83240a2593d604df27.jpg
END:VEVENT
END:VCALENDAR