BEGIN:VCALENDAR
VERSION:2.0
PRODID:-//Access Winnipeg - ECPv6.15.20//NONSGML v1.0//EN
CALSCALE:GREGORIAN
METHOD:PUBLISH
X-WR-CALNAME:Access Winnipeg
X-ORIGINAL-URL:https://accesswinnipeg.com
X-WR-CALDESC:Events for Access Winnipeg
REFRESH-INTERVAL;VALUE=DURATION:PT1H
X-Robots-Tag:noindex
X-PUBLISHED-TTL:PT1H
BEGIN:VTIMEZONE
TZID:America/Winnipeg
BEGIN:DAYLIGHT
TZOFFSETFROM:-0600
TZOFFSETTO:-0500
TZNAME:CDT
DTSTART:20210314T080000
END:DAYLIGHT
BEGIN:STANDARD
TZOFFSETFROM:-0500
TZOFFSETTO:-0600
TZNAME:CST
DTSTART:20211107T070000
END:STANDARD
BEGIN:DAYLIGHT
TZOFFSETFROM:-0600
TZOFFSETTO:-0500
TZNAME:CDT
DTSTART:20220313T080000
END:DAYLIGHT
BEGIN:STANDARD
TZOFFSETFROM:-0500
TZOFFSETTO:-0600
TZNAME:CST
DTSTART:20221106T070000
END:STANDARD
BEGIN:DAYLIGHT
TZOFFSETFROM:-0600
TZOFFSETTO:-0500
TZNAME:CDT
DTSTART:20230312T080000
END:DAYLIGHT
BEGIN:STANDARD
TZOFFSETFROM:-0500
TZOFFSETTO:-0600
TZNAME:CST
DTSTART:20231105T070000
END:STANDARD
END:VTIMEZONE
BEGIN:VEVENT
DTSTART;TZID=America/Winnipeg:20220422T200000
DTEND;TZID=America/Winnipeg:20221202T010000
DTSTAMP:20260423T104112
CREATED:20211013T152145Z
LAST-MODIFIED:20211017T153710Z
UID:87169-1650657600-1669942800@accesswinnipeg.com
SUMMARY:Shannon & Scott's Wedding SHOW-CIAL
DESCRIPTION:Shannon & Scott’s Wedding Social\n\n\nShannon & Scott’s Wedding Social \nSATURDAY\, MAY 8TH\, 2021 \nDoors: 8 pm \nPark Theatre \n \nThis isn’t just your ordinary wedding social. Live music\, a rotating set of DJs\, live records\, lattes\, cocktails\, snacks\, and great prizes to keep your booty shaking until the lights turn on. \n \nMusic: \n– Live band\, bringing the danceable rock ‘n’ roll to kick off the night  \n– Punk/post punk \n– 80’s dance music \n– Hip Hop/Nothing But The 90’s/Club Rap \n– Reggae\, Soca\, Dancehall\, Reggaeton \n– Readymix/ Indie Dance \n– Electronic/Dubstep/Drum’n’Bass/Psychedelic \n \nPrizes: \n– 55″ flatscreen TV \n– Jets Prize Pack \n–  Kitchen Essentials \n– Fitness Prize Pack \n– Spa Prize Pack \n– Date Night \n– Wellness Prize Pack \n– More Special Prizes to be Unveiled!
URL:https://accesswinnipeg.com/event/shannon-scotts-wedding-show-cial/
LOCATION:MB
CATEGORIES:Events
ATTACH;FMTTYPE=image/jpeg:https://accesswinnipeg.com/wp-content/uploads/2021/10/d940d61543276d1feacca2761e2002cf.jpg
END:VEVENT
BEGIN:VEVENT
DTSTART;TZID=America/Winnipeg:20220513T183000
DTEND;TZID=America/Winnipeg:20220513T235900
DTSTAMP:20260423T104112
CREATED:20220329T214724Z
LAST-MODIFIED:20220510T225225Z
UID:89112-1652466600-1652486340@accesswinnipeg.com
SUMMARY:Manitoba Metal Fest  2022
DESCRIPTION:Manitoba Metalfest 2022\n\n\nNinjacat Productions Proudly Presents \nin Partnership with the Park Theatre \nManitoba MetalFEST 2022 \nFriday May 13\,  2022 \nRazor  \nExciter \nStriker \nOutre Tombe \nZombie Assault \nEntity  \nRegurgitated Guts \n \nSaturday\, May 14\, 2022 \nKataklysm \nCryptopsy \nSunless \nInhumed \nMurder Capital \nPerlocution \nHopscotchbattlescars \n___________ \nTickets $ 30 plus fees in advance\, or $50 plus Fees for both Nights \nProudly sponsored by Factor\, Sookrams Brewing Co\, UMFM\, and Long & McQuade
URL:https://accesswinnipeg.com/event/manitoba-metal-fest-2022/
LOCATION:The Park Theatre\, 698 Osborne Street\, Winnipeg\, MB\, R3L 2B9\, Canada
ATTACH;FMTTYPE=image/jpeg:https://accesswinnipeg.com/wp-content/uploads/2022/03/e8c1ffe1d01f570092e681b128d4800f.jpg
END:VEVENT
BEGIN:VEVENT
DTSTART;TZID=America/Winnipeg:20220513T213000
DTEND;TZID=America/Winnipeg:20220514T003000
DTSTAMP:20260423T104112
CREATED:20220412T201119Z
LAST-MODIFIED:20220510T205157Z
UID:89228-1652477400-1652488200@accesswinnipeg.com
SUMMARY:Prairie Joggers\, Fontine\, The Haileys
DESCRIPTION:Prairie Joggers sneaking in one last show at our favorite local venue before heading west for a month long tour! Plus Fontine\, The Haileys.
URL:https://accesswinnipeg.com/event/prairie-joggers-fontine-the-haileys/
LOCATION:Times Change(d) High & Lonesome Club\, 234 Main St.\, Winnipeg\, MB\, R3C1A8\, Canada
ATTACH;FMTTYPE=image/jpeg:https://accesswinnipeg.com/wp-content/uploads/2022/04/557d34f58dca900c7d64b4d3fb8a41a3.jpg
END:VEVENT
END:VCALENDAR