BEGIN:VCALENDAR
VERSION:2.0
PRODID:-//Access Winnipeg - ECPv6.15.20//NONSGML v1.0//EN
CALSCALE:GREGORIAN
METHOD:PUBLISH
X-WR-CALNAME:Access Winnipeg
X-ORIGINAL-URL:https://accesswinnipeg.com
X-WR-CALDESC:Events for Access Winnipeg
REFRESH-INTERVAL;VALUE=DURATION:PT1H
X-Robots-Tag:noindex
X-PUBLISHED-TTL:PT1H
BEGIN:VTIMEZONE
TZID:America/Winnipeg
BEGIN:DAYLIGHT
TZOFFSETFROM:-0600
TZOFFSETTO:-0500
TZNAME:CDT
DTSTART:20210314T080000
END:DAYLIGHT
BEGIN:STANDARD
TZOFFSETFROM:-0500
TZOFFSETTO:-0600
TZNAME:CST
DTSTART:20211107T070000
END:STANDARD
BEGIN:DAYLIGHT
TZOFFSETFROM:-0600
TZOFFSETTO:-0500
TZNAME:CDT
DTSTART:20220313T080000
END:DAYLIGHT
BEGIN:STANDARD
TZOFFSETFROM:-0500
TZOFFSETTO:-0600
TZNAME:CST
DTSTART:20221106T070000
END:STANDARD
BEGIN:DAYLIGHT
TZOFFSETFROM:-0600
TZOFFSETTO:-0500
TZNAME:CDT
DTSTART:20230312T080000
END:DAYLIGHT
BEGIN:STANDARD
TZOFFSETFROM:-0500
TZOFFSETTO:-0600
TZNAME:CST
DTSTART:20231105T070000
END:STANDARD
END:VTIMEZONE
BEGIN:VEVENT
DTSTART;TZID=America/Winnipeg:20220422T200000
DTEND;TZID=America/Winnipeg:20221202T010000
DTSTAMP:20260423T103334
CREATED:20211013T152145Z
LAST-MODIFIED:20211017T153710Z
UID:87169-1650657600-1669942800@accesswinnipeg.com
SUMMARY:Shannon & Scott's Wedding SHOW-CIAL
DESCRIPTION:Shannon & Scott’s Wedding Social\n\n\nShannon & Scott’s Wedding Social \nSATURDAY\, MAY 8TH\, 2021 \nDoors: 8 pm \nPark Theatre \n \nThis isn’t just your ordinary wedding social. Live music\, a rotating set of DJs\, live records\, lattes\, cocktails\, snacks\, and great prizes to keep your booty shaking until the lights turn on. \n \nMusic: \n– Live band\, bringing the danceable rock ‘n’ roll to kick off the night  \n– Punk/post punk \n– 80’s dance music \n– Hip Hop/Nothing But The 90’s/Club Rap \n– Reggae\, Soca\, Dancehall\, Reggaeton \n– Readymix/ Indie Dance \n– Electronic/Dubstep/Drum’n’Bass/Psychedelic \n \nPrizes: \n– 55″ flatscreen TV \n– Jets Prize Pack \n–  Kitchen Essentials \n– Fitness Prize Pack \n– Spa Prize Pack \n– Date Night \n– Wellness Prize Pack \n– More Special Prizes to be Unveiled!
URL:https://accesswinnipeg.com/event/shannon-scotts-wedding-show-cial/
LOCATION:MB
CATEGORIES:Events
ATTACH;FMTTYPE=image/jpeg:https://accesswinnipeg.com/wp-content/uploads/2021/10/d940d61543276d1feacca2761e2002cf.jpg
END:VEVENT
BEGIN:VEVENT
DTSTART;TZID=America/Winnipeg:20220520T190000
DTEND;TZID=America/Winnipeg:20220521T010000
DTSTAMP:20260423T103334
CREATED:20220426T203618Z
LAST-MODIFIED:20220517T205114Z
UID:90110-1653073200-1653094800@accesswinnipeg.com
SUMMARY:NOLA Night - Dirty Catfish Brass Band (sponsored by Torque Brewing)
DESCRIPTION:World-class 8-piece brass band playing the music of New Orleans in a funky downtown honky-tonk. What more do you need to know?\n\n\nThe Dirty Catfish Brass Band bring New Orleans Night back to the Times Change(d)! Early and late shows! 10pm show features an opening set by Noah Derksen.
URL:https://accesswinnipeg.com/event/nola-night-dirty-catfish-brass-band-sponsored-by-torque-brewing-2/
LOCATION:Times Change(d) High & Lonesome Club\, 234 Main St.\, Winnipeg\, MB\, R3C1A8\, Canada
ATTACH;FMTTYPE=image/jpeg:https://accesswinnipeg.com/wp-content/uploads/2022/04/3e7ceca974351924098764c18da30317.jpg
END:VEVENT
BEGIN:VEVENT
DTSTART;TZID=America/Winnipeg:20220521T200000
DTEND;TZID=America/Winnipeg:20220521T230000
DTSTAMP:20260423T103334
CREATED:20211207T174001Z
LAST-MODIFIED:20220517T225311Z
UID:88046-1653163200-1653174000@accesswinnipeg.com
SUMMARY:Future Islands
DESCRIPTION:Live Nation is excited to present Future Islands\nW/ Oh. Rose\nMay 21st. 2022\nPark Theatre\nDoors 7 pm\nShow 8 pm
URL:https://accesswinnipeg.com/event/future-islands-2/
LOCATION:MB
ATTACH;FMTTYPE=image/jpeg:https://accesswinnipeg.com/wp-content/uploads/2022/04/6babe4aba1aec4a1f3a1edc1ed36ade3.jpg
END:VEVENT
BEGIN:VEVENT
DTSTART;TZID=America/Winnipeg:20220521T213000
DTEND;TZID=America/Winnipeg:20220522T003000
DTSTAMP:20260423T103334
CREATED:20220517T205114Z
LAST-MODIFIED:20220517T205114Z
UID:90825-1653168600-1653179400@accesswinnipeg.com
SUMMARY:Gabriela Ocejo Band\, Ultra Mega
DESCRIPTION:What a sweet double bill! The Gabriela Ocejo Band and Ultra Mega!\n\n\nUltra Mega \n \nMuch like their rural metropolis of Winnipeg\, Ultra Mega shuffles along the crossroads of country and town… a horseman proudly mounted\, but disgraced by his failed conquests\, left only to ponder his dusty spurs. Blending indie rock with traces of psychedelia\, dreamy pop\, western twang\, and calm\, cool lyricism\, Ultra Mega chaperones us through the glories\, romances and defeats of the bittersweet knight. Get swooned. \n \nGabriela Ocejo \n \nGabriela Ocejo is an Argentine-born\, Treaty 1-based guitarist and songwriter. Raised in a musical family\, Gabi’s father\, guitarist Guillermo Ocejo was a major influence to her love of music and artistry\, introducing her to Jazz\, Tango and Argentinean Folklore. Gabi continued honing her craft playing with her talented hometown musician friends in Buenos Aires and Bahia Blanca\, as she bounced back and forth between the continents. \n \nDecidedly relocating to Winnipeg in 2011\, Gabi became immersed in the local arts and cultural community.  Her range in style\, gift in songwriting and tasteful arrangements quickly made Gabi a mainstay of Winnipeg music scene\, effortlessly collaborating with some of the city’s best musicians across a range of styles including all-female Jazz Manouche band\, Juvel; 7-piece traditional swing band\, Sunny Roseland; folk-roots songwriter and Crooked Brother\, Matt Foster; and Polaris Prize-nominated 8-piece live hip-hop ensemble\, Super Duty Tough Work. \n \nRecently\, Gabi has started her own project\, showcasing her skill as a songwriter and arranger. Gabi’s music blends her love for R&B\, jazz\, pop and neo soul\, with lyrics that earnestly examine the joy\, pain and neurosis of contemporary city living. With a series of EPs on the horizon\, Gabi’s band features Ashley Au\, Holly Stratton and Kevin Waters.
URL:https://accesswinnipeg.com/event/gabriela-ocejo-band-ultra-mega/
LOCATION:Times Change(d) High & Lonesome Club\, 234 Main St.\, Winnipeg\, MB\, R3C1A8\, Canada
ATTACH;FMTTYPE=image/jpeg:https://accesswinnipeg.com/wp-content/uploads/2022/05/ee74766f2522906ca8d8b2145bbd7697.jpg
END:VEVENT
END:VCALENDAR