BEGIN:VCALENDAR
VERSION:2.0
PRODID:-//Access Winnipeg - ECPv6.15.20//NONSGML v1.0//EN
CALSCALE:GREGORIAN
METHOD:PUBLISH
X-WR-CALNAME:Access Winnipeg
X-ORIGINAL-URL:https://accesswinnipeg.com
X-WR-CALDESC:Events for Access Winnipeg
REFRESH-INTERVAL;VALUE=DURATION:PT1H
X-Robots-Tag:noindex
X-PUBLISHED-TTL:PT1H
BEGIN:VTIMEZONE
TZID:America/Winnipeg
BEGIN:DAYLIGHT
TZOFFSETFROM:-0600
TZOFFSETTO:-0500
TZNAME:CDT
DTSTART:20210314T080000
END:DAYLIGHT
BEGIN:STANDARD
TZOFFSETFROM:-0500
TZOFFSETTO:-0600
TZNAME:CST
DTSTART:20211107T070000
END:STANDARD
BEGIN:DAYLIGHT
TZOFFSETFROM:-0600
TZOFFSETTO:-0500
TZNAME:CDT
DTSTART:20220313T080000
END:DAYLIGHT
BEGIN:STANDARD
TZOFFSETFROM:-0500
TZOFFSETTO:-0600
TZNAME:CST
DTSTART:20221106T070000
END:STANDARD
BEGIN:DAYLIGHT
TZOFFSETFROM:-0600
TZOFFSETTO:-0500
TZNAME:CDT
DTSTART:20230312T080000
END:DAYLIGHT
BEGIN:STANDARD
TZOFFSETFROM:-0500
TZOFFSETTO:-0600
TZNAME:CST
DTSTART:20231105T070000
END:STANDARD
END:VTIMEZONE
BEGIN:VEVENT
DTSTART;TZID=America/Winnipeg:20220422T200000
DTEND;TZID=America/Winnipeg:20221202T010000
DTSTAMP:20260423T104219
CREATED:20211013T152145Z
LAST-MODIFIED:20211017T153710Z
UID:87169-1650657600-1669942800@accesswinnipeg.com
SUMMARY:Shannon & Scott's Wedding SHOW-CIAL
DESCRIPTION:Shannon & Scott’s Wedding Social\n\n\nShannon & Scott’s Wedding Social \nSATURDAY\, MAY 8TH\, 2021 \nDoors: 8 pm \nPark Theatre \n \nThis isn’t just your ordinary wedding social. Live music\, a rotating set of DJs\, live records\, lattes\, cocktails\, snacks\, and great prizes to keep your booty shaking until the lights turn on. \n \nMusic: \n– Live band\, bringing the danceable rock ‘n’ roll to kick off the night  \n– Punk/post punk \n– 80’s dance music \n– Hip Hop/Nothing But The 90’s/Club Rap \n– Reggae\, Soca\, Dancehall\, Reggaeton \n– Readymix/ Indie Dance \n– Electronic/Dubstep/Drum’n’Bass/Psychedelic \n \nPrizes: \n– 55″ flatscreen TV \n– Jets Prize Pack \n–  Kitchen Essentials \n– Fitness Prize Pack \n– Spa Prize Pack \n– Date Night \n– Wellness Prize Pack \n– More Special Prizes to be Unveiled!
URL:https://accesswinnipeg.com/event/shannon-scotts-wedding-show-cial/
LOCATION:MB
CATEGORIES:Events
ATTACH;FMTTYPE=image/jpeg:https://accesswinnipeg.com/wp-content/uploads/2021/10/d940d61543276d1feacca2761e2002cf.jpg
END:VEVENT
BEGIN:VEVENT
DTSTART;TZID=America/Winnipeg:20220603T203000
DTEND;TZID=America/Winnipeg:20220603T233000
DTSTAMP:20260423T104219
CREATED:20220329T214911Z
LAST-MODIFIED:20220524T230730Z
UID:89138-1654288200-1654299000@accesswinnipeg.com
SUMMARY:The Big Sociable 6
DESCRIPTION:The Park Theatre in Partnership with HALF PINTS BREWING\, Presents\n\n\nThe Big Sociable 6\n\nAN EVENING OF IRISH SONGS AND STORIES\n \nTheat one night a year\, we change the Park Theatre Stage into a comfy Celtic Living Room\, with couches\, bar\, lamps\, and more\, and have guest artists join the Dust Rhino’s in a night of Celtic Music\, Irish Tales and foot-stomping good times. An evening not to be missed.\n \nFriday\, June 3rd\n \nDoors 730 pm Show 830 pm\n \nTickets $20 in advance (plus Fees)\n \nWe have sold out the past 5 (Five) sociables\, let’s keep the trend and good times going.\n \nSpecial Guests \nScott Nolan \nRaine Hamilton \nIan Mikita \nJorge Requena  \nand The Small Glories \nwith your living room hosts\, The Dust Rhinos
URL:https://accesswinnipeg.com/event/the-big-sociable-6/
LOCATION:The Park Theatre\, 698 Osborne Street\, Winnipeg\, MB\, R3L 2B9\, Canada
ATTACH;FMTTYPE=image/jpeg:https://accesswinnipeg.com/wp-content/uploads/2022/03/9f4e921d17cf61afa8799439769def3e.jpg
END:VEVENT
BEGIN:VEVENT
DTSTART;TZID=America/Winnipeg:20220603T203000
DTEND;TZID=America/Winnipeg:20220604T003000
DTSTAMP:20260423T104219
CREATED:20220322T192644Z
LAST-MODIFIED:20220531T212142Z
UID:89029-1654288200-1654302600@accesswinnipeg.com
SUMMARY:Little Miss Higgins/The D.Rangers Indoor/Outdoor Two-For-One
DESCRIPTION:A very deluxe indoor/outdoor double bill at Blue Note Park and Times Change(d) featuring the The D.Rangers and Little Miss Higgins.
URL:https://accesswinnipeg.com/event/little-miss-higgins-fire-waltz-release/
LOCATION:Times Change(d) High & Lonesome Club\, 234 Main St.\, Winnipeg\, MB\, R3C1A8\, Canada
ATTACH;FMTTYPE=image/jpeg:https://accesswinnipeg.com/wp-content/uploads/2022/05/2f781a2271f87809f4222565c00c56b8.jpg
END:VEVENT
END:VCALENDAR