BEGIN:VCALENDAR
VERSION:2.0
PRODID:-//Access Winnipeg - ECPv6.15.20//NONSGML v1.0//EN
CALSCALE:GREGORIAN
METHOD:PUBLISH
X-WR-CALNAME:Access Winnipeg
X-ORIGINAL-URL:https://accesswinnipeg.com
X-WR-CALDESC:Events for Access Winnipeg
REFRESH-INTERVAL;VALUE=DURATION:PT1H
X-Robots-Tag:noindex
X-PUBLISHED-TTL:PT1H
BEGIN:VTIMEZONE
TZID:America/Winnipeg
BEGIN:DAYLIGHT
TZOFFSETFROM:-0600
TZOFFSETTO:-0500
TZNAME:CDT
DTSTART:20210314T080000
END:DAYLIGHT
BEGIN:STANDARD
TZOFFSETFROM:-0500
TZOFFSETTO:-0600
TZNAME:CST
DTSTART:20211107T070000
END:STANDARD
BEGIN:DAYLIGHT
TZOFFSETFROM:-0600
TZOFFSETTO:-0500
TZNAME:CDT
DTSTART:20220313T080000
END:DAYLIGHT
BEGIN:STANDARD
TZOFFSETFROM:-0500
TZOFFSETTO:-0600
TZNAME:CST
DTSTART:20221106T070000
END:STANDARD
BEGIN:DAYLIGHT
TZOFFSETFROM:-0600
TZOFFSETTO:-0500
TZNAME:CDT
DTSTART:20230312T080000
END:DAYLIGHT
BEGIN:STANDARD
TZOFFSETFROM:-0500
TZOFFSETTO:-0600
TZNAME:CST
DTSTART:20231105T070000
END:STANDARD
END:VTIMEZONE
BEGIN:VEVENT
DTSTART;TZID=America/Winnipeg:20220422T200000
DTEND;TZID=America/Winnipeg:20221202T010000
DTSTAMP:20260423T092215
CREATED:20211013T152145Z
LAST-MODIFIED:20211017T153710Z
UID:87169-1650657600-1669942800@accesswinnipeg.com
SUMMARY:Shannon & Scott's Wedding SHOW-CIAL
DESCRIPTION:Shannon & Scott’s Wedding Social\n\n\nShannon & Scott’s Wedding Social \nSATURDAY\, MAY 8TH\, 2021 \nDoors: 8 pm \nPark Theatre \n \nThis isn’t just your ordinary wedding social. Live music\, a rotating set of DJs\, live records\, lattes\, cocktails\, snacks\, and great prizes to keep your booty shaking until the lights turn on. \n \nMusic: \n– Live band\, bringing the danceable rock ‘n’ roll to kick off the night  \n– Punk/post punk \n– 80’s dance music \n– Hip Hop/Nothing But The 90’s/Club Rap \n– Reggae\, Soca\, Dancehall\, Reggaeton \n– Readymix/ Indie Dance \n– Electronic/Dubstep/Drum’n’Bass/Psychedelic \n \nPrizes: \n– 55″ flatscreen TV \n– Jets Prize Pack \n–  Kitchen Essentials \n– Fitness Prize Pack \n– Spa Prize Pack \n– Date Night \n– Wellness Prize Pack \n– More Special Prizes to be Unveiled!
URL:https://accesswinnipeg.com/event/shannon-scotts-wedding-show-cial/
LOCATION:MB
CATEGORIES:Events
ATTACH;FMTTYPE=image/jpeg:https://accesswinnipeg.com/wp-content/uploads/2021/10/d940d61543276d1feacca2761e2002cf.jpg
END:VEVENT
BEGIN:VEVENT
DTSTART;TZID=America/Winnipeg:20220609T193000
DTEND;TZID=America/Winnipeg:20220609T223000
DTSTAMP:20260423T092215
CREATED:20220524T210619Z
LAST-MODIFIED:20220524T210619Z
UID:91080-1654803000-1654813800@accesswinnipeg.com
SUMMARY:Nashville MB Songwriters’ Round feat. Slow Leaves\, Sophie Stevens\, Snackie
DESCRIPTION:Monthly Nashville MB Songwriters’s Round. Hosted by Tyler Del Pino\, featuring Slow Leaves\, Sophie Stevens\, and Snackie
URL:https://accesswinnipeg.com/event/nashville-mb-songwriters-round-feat-slow-leaves-sophie-stevens-snackie/
LOCATION:Times Change(d) High & Lonesome Club\, 234 Main St.\, Winnipeg\, MB\, R3C1A8\, Canada
ATTACH;FMTTYPE=image/jpeg:https://accesswinnipeg.com/wp-content/uploads/2022/05/43591a7b4d29b5358adb7b7d7f483642.jpg
END:VEVENT
BEGIN:VEVENT
DTSTART;TZID=America/Winnipeg:20220609T200000
DTEND;TZID=America/Winnipeg:20220609T230000
DTSTAMP:20260423T092215
CREATED:20220524T230730Z
LAST-MODIFIED:20220524T230730Z
UID:91090-1654804800-1654815600@accesswinnipeg.com
SUMMARY:The Laugh More\, Give More\, Comedy Night
DESCRIPTION:The Laugh More\, Give More\, Comedy Night\n\n\nThe Laugh More\, Give More\, Comedy Night was founded in 2014. Last year\, the event was held digitally and raised $30\,000 for 6 incredible local causes. This year\, the Annual Comedy Show will be LIVE at The Park Theatre!\n \n \nThis year is notably special for the Comedy Night team as May\, 2022 marks 20 years of sobriety for Laugh More\, Give More partner and comedian Meghan Riley. As a result of this fantastic achievement\, funds raised from the event will be donated primarily to addictions and substance abuse causes.\n \n \nThe 8th Annual Comedy Night will consist of hilarious spots from talented local comedians and passionate commentary on addiction and substance abuse from Meghan herself as well as selected charity representatives.\n \n \nFEATURING\n \n \nAdam Schwartz\n \nAshley Burdett\n \nChad Anderson\n \nDean Jenkinson\n \nKristen Einarson\n \nMay Kalah\n \nRajat Kashyap\n \n \nwith Meghan Riley
URL:https://accesswinnipeg.com/event/the-laugh-more-give-more-comedy-night/
LOCATION:The Park Theatre\, 698 Osborne Street\, Winnipeg\, MB\, R3L 2B9\, Canada
ATTACH;FMTTYPE=image/jpeg:https://accesswinnipeg.com/wp-content/uploads/2022/05/91fa38f065b98f9607fa118ca41cdec6.jpg
END:VEVENT
BEGIN:VEVENT
DTSTART;TZID=America/Winnipeg:20220609T203000
DTEND;TZID=America/Winnipeg:20220609T230000
DTSTAMP:20260423T092215
CREATED:20220510T205113Z
LAST-MODIFIED:20220607T212238Z
UID:90559-1654806600-1654815600@accesswinnipeg.com
SUMMARY:jonny moonbeam\, Rusty Robot\, Sol James
DESCRIPTION:We are delighted to welcome jonny moonbeam\, Rusty Robot\, Sol James to the Blue Note Park outdoor stage!
URL:https://accesswinnipeg.com/event/jonny-moonbeam-rusty-robot-sol-james/
LOCATION:Blue Note Park\, 220 Main St\, Winnipeg\, MB\, Canada
ATTACH;FMTTYPE=image/jpeg:https://accesswinnipeg.com/wp-content/uploads/2022/05/a220acd9400e88209299dd20a595a45e.jpg
END:VEVENT
END:VCALENDAR