BEGIN:VCALENDAR
VERSION:2.0
PRODID:-//Access Winnipeg - ECPv6.15.20//NONSGML v1.0//EN
CALSCALE:GREGORIAN
METHOD:PUBLISH
X-WR-CALNAME:Access Winnipeg
X-ORIGINAL-URL:https://accesswinnipeg.com
X-WR-CALDESC:Events for Access Winnipeg
REFRESH-INTERVAL;VALUE=DURATION:PT1H
X-Robots-Tag:noindex
X-PUBLISHED-TTL:PT1H
BEGIN:VTIMEZONE
TZID:America/Winnipeg
BEGIN:DAYLIGHT
TZOFFSETFROM:-0600
TZOFFSETTO:-0500
TZNAME:CDT
DTSTART:20210314T080000
END:DAYLIGHT
BEGIN:STANDARD
TZOFFSETFROM:-0500
TZOFFSETTO:-0600
TZNAME:CST
DTSTART:20211107T070000
END:STANDARD
BEGIN:DAYLIGHT
TZOFFSETFROM:-0600
TZOFFSETTO:-0500
TZNAME:CDT
DTSTART:20220313T080000
END:DAYLIGHT
BEGIN:STANDARD
TZOFFSETFROM:-0500
TZOFFSETTO:-0600
TZNAME:CST
DTSTART:20221106T070000
END:STANDARD
BEGIN:DAYLIGHT
TZOFFSETFROM:-0600
TZOFFSETTO:-0500
TZNAME:CDT
DTSTART:20230312T080000
END:DAYLIGHT
BEGIN:STANDARD
TZOFFSETFROM:-0500
TZOFFSETTO:-0600
TZNAME:CST
DTSTART:20231105T070000
END:STANDARD
END:VTIMEZONE
BEGIN:VEVENT
DTSTART;TZID=America/Winnipeg:20220422T200000
DTEND;TZID=America/Winnipeg:20221202T010000
DTSTAMP:20260423T191315
CREATED:20211013T152145Z
LAST-MODIFIED:20211017T153710Z
UID:87169-1650657600-1669942800@accesswinnipeg.com
SUMMARY:Shannon & Scott's Wedding SHOW-CIAL
DESCRIPTION:Shannon & Scott’s Wedding Social\n\n\nShannon & Scott’s Wedding Social \nSATURDAY\, MAY 8TH\, 2021 \nDoors: 8 pm \nPark Theatre \n \nThis isn’t just your ordinary wedding social. Live music\, a rotating set of DJs\, live records\, lattes\, cocktails\, snacks\, and great prizes to keep your booty shaking until the lights turn on. \n \nMusic: \n– Live band\, bringing the danceable rock ‘n’ roll to kick off the night  \n– Punk/post punk \n– 80’s dance music \n– Hip Hop/Nothing But The 90’s/Club Rap \n– Reggae\, Soca\, Dancehall\, Reggaeton \n– Readymix/ Indie Dance \n– Electronic/Dubstep/Drum’n’Bass/Psychedelic \n \nPrizes: \n– 55″ flatscreen TV \n– Jets Prize Pack \n–  Kitchen Essentials \n– Fitness Prize Pack \n– Spa Prize Pack \n– Date Night \n– Wellness Prize Pack \n– More Special Prizes to be Unveiled!
URL:https://accesswinnipeg.com/event/shannon-scotts-wedding-show-cial/
LOCATION:MB
CATEGORIES:Events
ATTACH;FMTTYPE=image/jpeg:https://accesswinnipeg.com/wp-content/uploads/2021/10/d940d61543276d1feacca2761e2002cf.jpg
END:VEVENT
BEGIN:VEVENT
DTSTART;TZID=America/Winnipeg:20220610T190000
DTEND;TZID=America/Winnipeg:20220610T210000
DTSTAMP:20260423T191315
CREATED:20220329T214932Z
LAST-MODIFIED:20220524T230743Z
UID:89142-1654887600-1654894800@accesswinnipeg.com
SUMMARY:Steve Hofstetter w/ Special Guests
DESCRIPTION:MODO-LIVE Presents: Steve Hofstetter w/ special guests\n\n\nFriday\, June 10\, 2022\n \nPark Theatre\n \nWinnipeg\, MB\n \nDoors: 6pm\n \n19+\n \n—–\n \nAuthor\, columnist\, and comedian Steve Hofstetter is often called the hardest working man in show-business. With all due respect to the late James Brown.\n \n \nHofstetter’s national TV debut came on ESPN’s Quite Frankly\, where Stephen A. Smith yelled at him for three minutes. Hofstetter has also appeared on CBS’ “Late Late Show With Craig Ferguson”\, Showtime’s “White Boyz in the Hood”\, VH1’s “Countdown”\, Sundance’s “On the Road in America”\, and ABC’s “Barbara Walter’s Special”\, where he thankfully did not cry. He is the host and executive producer of “Laughs” on Fox networks\, where he only cries occasionally.\n \n \nOne of the top booked acts on the college circuit\, the original writer for collegehumor.com has also released six albums. Hofstetter has written humor columns for the New York Times\, SportsIllustrated.com\, and NHL.com\, where he publicly admitted to being a Ranger fan.
URL:https://accesswinnipeg.com/event/steve-hofstetter-w-special-guests/
LOCATION:The Park Theatre\, 698 Osborne Street\, Winnipeg\, MB\, R3L 2B9\, Canada
ATTACH;FMTTYPE=image/jpeg:https://accesswinnipeg.com/wp-content/uploads/2022/03/795aece3fe5c14dc59d6733aa737e832.jpg
END:VEVENT
BEGIN:VEVENT
DTSTART;TZID=America/Winnipeg:20220610T200000
DTEND;TZID=America/Winnipeg:20220611T003000
DTSTAMP:20260423T191315
CREATED:20220329T214937Z
LAST-MODIFIED:20220524T230714Z
UID:89144-1654891200-1654907400@accesswinnipeg.com
SUMMARY:Occupation Domination Tour 2022
DESCRIPTION:Occupation Domination Tour 2022\n\n\nNinjacat Productions presents: \nOccupation Domination Tour 2022 with \nORIGIN \nABYSMAL DAWN \nTOMBS \nKILLITOROUS \n \nTickets available at www.eventbrite.com  \n \nDoors 7pm – Music 730pm
URL:https://accesswinnipeg.com/event/occupation-domination-tour-2022/
LOCATION:Good Will Social Club\, 625 Portage\, Winnipeg\, MB\, R3B 2G4\, Canada
ATTACH;FMTTYPE=image/jpeg:https://accesswinnipeg.com/wp-content/uploads/2022/03/facd57ba52b7fbbc932fe26efd04a79e.jpg
END:VEVENT
BEGIN:VEVENT
DTSTART;TZID=America/Winnipeg:20220610T203000
DTEND;TZID=America/Winnipeg:20220610T233000
DTSTAMP:20260423T191315
CREATED:20220524T210621Z
LAST-MODIFIED:20220607T212243Z
UID:91082-1654893000-1654903800@accesswinnipeg.com
SUMMARY:NOLA Night - Dirty Catfish Brass Band (sponsored by Torque Brewing)
DESCRIPTION:World-class 8-piece brass band playing the music of New Orleans in a funky downtown honky-tonk. What more do you need to know?\n\n\nThe Dirty Catfish Brass Band bring New Orleans Night to Blue Note Park! 8:30pm show with an opening  set by Joe Curtis.
URL:https://accesswinnipeg.com/event/nola-night-dirty-catfish-brass-band-sponsored-by-torque-brewing-3/
LOCATION:Blue Note Park\, 220 Main St\, Winnipeg\, MB\, Canada
ATTACH;FMTTYPE=image/jpeg:https://accesswinnipeg.com/wp-content/uploads/2022/05/e9329c1533a75c8701aa7df8c8fbf131.jpg
END:VEVENT
BEGIN:VEVENT
DTSTART;TZID=America/Winnipeg:20220610T213000
DTEND;TZID=America/Winnipeg:20220624T010000
DTSTAMP:20260423T191315
CREATED:20220517T205143Z
LAST-MODIFIED:20220607T212245Z
UID:90834-1654896600-1656032400@accesswinnipeg.com
SUMMARY:Andrew Neville and the Poor Choices plus Railroad Tye
DESCRIPTION:Andrew Neville and the Poor Choices are a country music band from Winnipeg. Railroad Tye is a country music singer from Winnipeg.
URL:https://accesswinnipeg.com/event/andrew-neville-and-the-poor-choices-plus-railroad-tye/
LOCATION:Times Change(d) High & Lonesome Club\, 234 Main St.\, Winnipeg\, MB\, R3C1A8\, Canada
ATTACH;FMTTYPE=image/jpeg:https://accesswinnipeg.com/wp-content/uploads/2022/05/8866c4e3e2660824ceec587f8675d88b.jpg
END:VEVENT
END:VCALENDAR