BEGIN:VCALENDAR
VERSION:2.0
PRODID:-//Access Winnipeg - ECPv6.15.20//NONSGML v1.0//EN
CALSCALE:GREGORIAN
METHOD:PUBLISH
X-WR-CALNAME:Access Winnipeg
X-ORIGINAL-URL:https://accesswinnipeg.com
X-WR-CALDESC:Events for Access Winnipeg
REFRESH-INTERVAL;VALUE=DURATION:PT1H
X-Robots-Tag:noindex
X-PUBLISHED-TTL:PT1H
BEGIN:VTIMEZONE
TZID:America/Winnipeg
BEGIN:DAYLIGHT
TZOFFSETFROM:-0600
TZOFFSETTO:-0500
TZNAME:CDT
DTSTART:20210314T080000
END:DAYLIGHT
BEGIN:STANDARD
TZOFFSETFROM:-0500
TZOFFSETTO:-0600
TZNAME:CST
DTSTART:20211107T070000
END:STANDARD
BEGIN:DAYLIGHT
TZOFFSETFROM:-0600
TZOFFSETTO:-0500
TZNAME:CDT
DTSTART:20220313T080000
END:DAYLIGHT
BEGIN:STANDARD
TZOFFSETFROM:-0500
TZOFFSETTO:-0600
TZNAME:CST
DTSTART:20221106T070000
END:STANDARD
BEGIN:DAYLIGHT
TZOFFSETFROM:-0600
TZOFFSETTO:-0500
TZNAME:CDT
DTSTART:20230312T080000
END:DAYLIGHT
BEGIN:STANDARD
TZOFFSETFROM:-0500
TZOFFSETTO:-0600
TZNAME:CST
DTSTART:20231105T070000
END:STANDARD
END:VTIMEZONE
BEGIN:VEVENT
DTSTART;TZID=America/Winnipeg:20220422T200000
DTEND;TZID=America/Winnipeg:20221202T010000
DTSTAMP:20260425T174148
CREATED:20211013T152145Z
LAST-MODIFIED:20211017T153710Z
UID:87169-1650657600-1669942800@accesswinnipeg.com
SUMMARY:Shannon & Scott's Wedding SHOW-CIAL
DESCRIPTION:Shannon & Scott’s Wedding Social\n\n\nShannon & Scott’s Wedding Social \nSATURDAY\, MAY 8TH\, 2021 \nDoors: 8 pm \nPark Theatre \n \nThis isn’t just your ordinary wedding social. Live music\, a rotating set of DJs\, live records\, lattes\, cocktails\, snacks\, and great prizes to keep your booty shaking until the lights turn on. \n \nMusic: \n– Live band\, bringing the danceable rock ‘n’ roll to kick off the night  \n– Punk/post punk \n– 80’s dance music \n– Hip Hop/Nothing But The 90’s/Club Rap \n– Reggae\, Soca\, Dancehall\, Reggaeton \n– Readymix/ Indie Dance \n– Electronic/Dubstep/Drum’n’Bass/Psychedelic \n \nPrizes: \n– 55″ flatscreen TV \n– Jets Prize Pack \n–  Kitchen Essentials \n– Fitness Prize Pack \n– Spa Prize Pack \n– Date Night \n– Wellness Prize Pack \n– More Special Prizes to be Unveiled!
URL:https://accesswinnipeg.com/event/shannon-scotts-wedding-show-cial/
LOCATION:MB
CATEGORIES:Events
ATTACH;FMTTYPE=image/jpeg:https://accesswinnipeg.com/wp-content/uploads/2021/10/d940d61543276d1feacca2761e2002cf.jpg
END:VEVENT
BEGIN:VEVENT
DTSTART;TZID=America/Winnipeg:20220721T193000
DTEND;TZID=America/Winnipeg:20220721T223000
DTSTAMP:20260425T174148
CREATED:20220621T235350Z
LAST-MODIFIED:20220720T005443Z
UID:92172-1658431800-1658442600@accesswinnipeg.com
SUMMARY:Scott Richards | Ben Stopfel | An Unexpected End
DESCRIPTION:A Night of Music with:\n\n\nBen Stopfel \nAn Unexpected End \nand \nScott Richards \nDoors 6:30 pm \nMusic at 7:30 pm \nTickets $20 in advance
URL:https://accesswinnipeg.com/event/scott-richards-ben-stopfel-an-unexpected-end/
LOCATION:The Park Theatre\, 698 Osborne Street\, Winnipeg\, MB\, R3L 2B9\, Canada
ATTACH;FMTTYPE=image/jpeg:https://accesswinnipeg.com/wp-content/uploads/2022/06/e2e740e310ec254ddc160b18d29dc253.jpg
END:VEVENT
BEGIN:VEVENT
DTSTART;TZID=America/Winnipeg:20220721T200000
DTEND;TZID=America/Winnipeg:20220721T230000
DTSTAMP:20260425T174148
CREATED:20220705T213643Z
LAST-MODIFIED:20220719T220859Z
UID:93009-1658433600-1658444400@accesswinnipeg.com
SUMMARY:Noble Thiefs plus Alex Maher
DESCRIPTION:The Rock’N’Soul stylings of Winnipeg’s 13-year-running\, The Noble Thiefs\, and the mystifying looping grooves of Alex Maher!\n\n\nIn the dog days of summer\, you feel a welcomed cool breeze. With it\, come wafts of BBQ season and…What’s this?!…some killer summer grooves! You follow your ears around the corner of St. Mary’s Ave & Main St.\, past the impeccably institutional Times Change(d) to hear both the Rock’N’Soul stylings of Winnipeg’s 13-year-running\, The Noble Thiefs & and the mystifying looping grooves of Alex Maher! There it is – the brightly painted Blue Note Park in all of its glory. The dancefloor is packed and your friends are already there with a summer fizzy waiting for you… WHAT ARE YOU GONNA DO?! \nYes! Just as the Zombies sang it 55 years ago – it’s the time of the season for loving! Join us at Blue Note Park on Thursday\, July 21st for a full-on summer shakedown as we toast the city and all that comes with this BEAUTIFUL time of year.  \nDoors @ 7pm \nMusic @ 8pm
URL:https://accesswinnipeg.com/event/noble-thiefs-plus-alex-maher/
LOCATION:Blue Note Park\, 220 Main St\, Winnipeg\, MB\, Canada
ATTACH;FMTTYPE=image/jpeg:https://accesswinnipeg.com/wp-content/uploads/2022/07/b81ccfbcb9a0380a04b1dcf0f2b2d6e5.jpg
END:VEVENT
BEGIN:VEVENT
DTSTART;TZID=America/Winnipeg:20220721T203000
DTEND;TZID=America/Winnipeg:20220721T233000
DTSTAMP:20260425T174148
CREATED:20220614T212218Z
LAST-MODIFIED:20220719T220903Z
UID:91911-1658435400-1658446200@accesswinnipeg.com
SUMMARY:Carolyn Mark\, Old Seed\, Mayor Matt Allen
DESCRIPTION:Carolyn Mark\, Old Seed\, Mayor Matt Allen\n\n\nThe Alone Together Again Tour comprises 16 dates beginning in the Gulf Islands of British Columbia and concluding in the small towns of southern Manitoba.
URL:https://accesswinnipeg.com/event/carolyn-mark-old-seed-mayor-matt-allen/
LOCATION:Times Change(d) High & Lonesome Club\, 234 Main St.\, Winnipeg\, MB\, R3C1A8\, Canada
ATTACH;FMTTYPE=image/jpeg:https://accesswinnipeg.com/wp-content/uploads/2022/06/fa6326ce53ec8b226da3b0bd4eba36e2.jpg
END:VEVENT
END:VCALENDAR