BEGIN:VCALENDAR
VERSION:2.0
PRODID:-//Access Winnipeg - ECPv6.15.20//NONSGML v1.0//EN
CALSCALE:GREGORIAN
METHOD:PUBLISH
X-ORIGINAL-URL:https://accesswinnipeg.com
X-WR-CALDESC:Events for Access Winnipeg
REFRESH-INTERVAL;VALUE=DURATION:PT1H
X-Robots-Tag:noindex
X-PUBLISHED-TTL:PT1H
BEGIN:VTIMEZONE
TZID:America/Winnipeg
BEGIN:DAYLIGHT
TZOFFSETFROM:-0600
TZOFFSETTO:-0500
TZNAME:CDT
DTSTART:20210314T080000
END:DAYLIGHT
BEGIN:STANDARD
TZOFFSETFROM:-0500
TZOFFSETTO:-0600
TZNAME:CST
DTSTART:20211107T070000
END:STANDARD
BEGIN:DAYLIGHT
TZOFFSETFROM:-0600
TZOFFSETTO:-0500
TZNAME:CDT
DTSTART:20220313T080000
END:DAYLIGHT
BEGIN:STANDARD
TZOFFSETFROM:-0500
TZOFFSETTO:-0600
TZNAME:CST
DTSTART:20221106T070000
END:STANDARD
BEGIN:DAYLIGHT
TZOFFSETFROM:-0600
TZOFFSETTO:-0500
TZNAME:CDT
DTSTART:20230312T080000
END:DAYLIGHT
BEGIN:STANDARD
TZOFFSETFROM:-0500
TZOFFSETTO:-0600
TZNAME:CST
DTSTART:20231105T070000
END:STANDARD
END:VTIMEZONE
BEGIN:VEVENT
DTSTART;TZID=America/Winnipeg:20220422T200000
DTEND;TZID=America/Winnipeg:20221202T010000
DTSTAMP:20260425T071544
CREATED:20211013T152145Z
LAST-MODIFIED:20211017T153710Z
UID:87169-1650657600-1669942800@accesswinnipeg.com
SUMMARY:Shannon & Scott's Wedding SHOW-CIAL
DESCRIPTION:Shannon & Scott’s Wedding Social\n\n\nShannon & Scott’s Wedding Social \nSATURDAY\, MAY 8TH\, 2021 \nDoors: 8 pm \nPark Theatre \n \nThis isn’t just your ordinary wedding social. Live music\, a rotating set of DJs\, live records\, lattes\, cocktails\, snacks\, and great prizes to keep your booty shaking until the lights turn on. \n \nMusic: \n– Live band\, bringing the danceable rock ‘n’ roll to kick off the night  \n– Punk/post punk \n– 80’s dance music \n– Hip Hop/Nothing But The 90’s/Club Rap \n– Reggae\, Soca\, Dancehall\, Reggaeton \n– Readymix/ Indie Dance \n– Electronic/Dubstep/Drum’n’Bass/Psychedelic \n \nPrizes: \n– 55″ flatscreen TV \n– Jets Prize Pack \n–  Kitchen Essentials \n– Fitness Prize Pack \n– Spa Prize Pack \n– Date Night \n– Wellness Prize Pack \n– More Special Prizes to be Unveiled!
URL:https://accesswinnipeg.com/event/shannon-scotts-wedding-show-cial/
LOCATION:MB
CATEGORIES:Events
ATTACH;FMTTYPE=image/jpeg:https://accesswinnipeg.com/wp-content/uploads/2021/10/d940d61543276d1feacca2761e2002cf.jpg
END:VEVENT
BEGIN:VEVENT
DTSTART;TZID=America/Winnipeg:20220728T150000
DTEND;TZID=America/Winnipeg:20220728T170000
DTSTAMP:20260425T071544
CREATED:20220510T225251Z
LAST-MODIFIED:20220727T005417Z
UID:90573-1659020400-1659027600@accesswinnipeg.com
SUMMARY:6 Guitars - Matinee Show
DESCRIPTION:The Park Theatre Presents – Six Guitars\n\n\n6 Guitars \nThursday\, July 28th \nDoors 2:15 pm Show at 3 pm \n6 Guitars is a pitch perfect blend of music\, comedy\, and so much more. Chase Padgett\, semi-finalist on Season 1 of Fox’s newest reality singing show ‘Alter Ego\,’ delivers a virtuosic performance as he becomes 6 different guitar playing characters – each representing a different genre: Blues\, Jazz\, Rock\, Classical\, Folk\, and Country.  \nAs the show unfolds\, the audience is treated to the stories and songs each character has earned and learned over a lifetime of music. From a 20 year old aspiring rocker to an elderly Blues man who’s seen it all\, these original characters bring fresh fun to the styles we all love. Packed with plenty of laughs\, great tunes\, and moving musical stories\, 6 Guitars is an unforgettable night out for any music lover at heart. \n \n“Chase Padgett’s accomplishment in 6 Guitars is so virtuosic that it had me on my feet.” – Georgia Straight \n“I struck gold with 6 Guitars\, don’t miss it.” The Province \n“★★★★★ – Padgett is a deft actor & virtuoso guitar player. See this show.” – CBC  \n“A stunning performance” – Austin Post \n“6 Guitars is note perfect.” – Ottawa Citizen \n“A Jubilant celebration of music” – Edmonton Journal \n“6 Guitars is about more than mere comedy. It’s an astonishing performance” – Orlando Sentinel \n“★★★★★ 6 Guitars is nothing short of a storytelling masterpiece. It will leave you laughing until you cry\, and lifting your jaw to its proper position.”  – The Edmonton Sun. \n“★★★★★ A masterful storyteller and captivating entertainer…” – Vue Weekly \n“The word is already out about how entertaining this show is.” – Calgary Herald \n“★★★★★ Talk about hitting all the right notes\, this show is a jaw dropper on every level” – Winnipeg Free Press \n \nFor information on The Park Theatre\, please visit https://myparktheatre.com/faq/.\n \n \nWHEN AND WHERE DO I PICK UP MY TICKETS?\n \nOn the night of the show\, your tickets will be waiting at the ticket window anytime after door time.  Please note that these are e-tickets\, so if you have purchased multiple tickets\, your entire party will need to be there at pick up.  Please have your ID ready\, and your ticket’s up on your phone.
URL:https://accesswinnipeg.com/event/6-guitars-matinee-show/
LOCATION:MB
ATTACH;FMTTYPE=image/jpeg:https://accesswinnipeg.com/wp-content/uploads/2022/05/ef992662b4083cb81a066675d6666d56.jpg
END:VEVENT
BEGIN:VEVENT
DTSTART;TZID=America/Winnipeg:20220728T190000
DTEND;TZID=America/Winnipeg:20220728T213000
DTSTAMP:20260425T071544
CREATED:20220510T225301Z
LAST-MODIFIED:20220727T005417Z
UID:90575-1659034800-1659043800@accesswinnipeg.com
SUMMARY:6 Guitars - Night 2 - SOLD OUT
DESCRIPTION:The Park Theatre Presents – Six Guitars\n\n\n6 Guitars \nThursday\, July 28th \nDoors 6:15 pm Show 7 pm \n6 Guitars is a pitch perfect blend of music\, comedy\, and so much more. Chase Padgett\, semi-finalist on Season 1 of Fox’s newest reality singing show ‘Alter Ego\,’ delivers a virtuosic performance as he becomes 6 different guitar playing characters – each representing a different genre: Blues\, Jazz\, Rock\, Classical\, Folk\, and Country.  \nAs the show unfolds\, the audience is treated to the stories and songs each character has earned and learned over a lifetime of music. From a 20 year old aspiring rocker to an elderly Blues man who’s seen it all\, these original characters bring fresh fun to the styles we all love. Packed with plenty of laughs\, great tunes\, and moving musical stories\, 6 Guitars is an unforgettable night out for any music lover at heart. \n \n“Chase Padgett’s accomplishment in 6 Guitars is so virtuosic that it had me on my feet.” – Georgia Straight \n“I struck gold with 6 Guitars\, don’t miss it.” The Province \n“★★★★★ – Padgett is a deft actor & virtuoso guitar player. See this show.” – CBC  \n“A stunning performance” – Austin Post \n“6 Guitars is note perfect.” – Ottawa Citizen \n“A Jubilant celebration of music” – Edmonton Journal \n“6 Guitars is about more than mere comedy. It’s an astonishing performance” – Orlando Sentinel \n“★★★★★ 6 Guitars is nothing short of a storytelling masterpiece. It will leave you laughing until you cry\, and lifting your jaw to its proper position.”  – The Edmonton Sun. \n“★★★★★ A masterful storyteller and captivating entertainer…” – Vue Weekly \n“The word is already out about how entertaining this show is.” – Calgary Herald \n“★★★★★ Talk about hitting all the right notes\, this show is a jaw dropper on every level” – Winnipeg Free Press \n \nFor information on The Park Theatre\, please visit https://myparktheatre.com/faq/.\n \n \nWHEN AND WHERE DO I PICK UP MY TICKETS?\n \nOn the night of the show\, your tickets will be waiting at the ticket window anytime after door time.  Please note that these are e-tickets\, so if you have purchased multiple tickets\, your entire party will need to be there at pick up.  Please have your ID ready\, and your ticket’s up on your phone.
URL:https://accesswinnipeg.com/event/6-guitars-night-2/
LOCATION:MB
ATTACH;FMTTYPE=image/jpeg:https://accesswinnipeg.com/wp-content/uploads/2022/05/cca9b836cd74e2b1cc27545f125a8508.jpg
END:VEVENT
BEGIN:VEVENT
DTSTART;TZID=America/Winnipeg:20220728T203000
DTEND;TZID=America/Winnipeg:20220728T223000
DTSTAMP:20260425T071544
CREATED:20220712T215135Z
LAST-MODIFIED:20220726T220811Z
UID:93515-1659040200-1659047400@accesswinnipeg.com
SUMMARY:Red Moon Road
DESCRIPTION:Audaciously honest songwriting. Innovative instrumentation. Powerful performance. Your new favourite proto-pop avant-folk trio.\n\n\nBorn in a storm on a wild Canadian lake\, Red Moon Road has come into their own on trails between coasts and journeys overseas. From living rooms to folk fest main-stages\, the trio has performed more than 1000 shows across 7 countries since 2012. Evolving from acoustic folk roots\, their sound currently integrates Sheena’s powerful vocals with lush pop harmonies and nuanced arrangements that combine percussion\, banjo\, slide guitar\, and synths.   \n \nFollowing the chart-topping Sorrows and Glories\, their Polaris long-listed sophomore album\, Red Moon Road marks a return with Say It Again\, an anthem poised to call out the soulless rhetoric of gaslighters in positions of power.   \n \nVocals\, Percussion / Sheena Rattai \n \nVocals\, Guitar\, Bass\, Drums / Daniel Jordan \n \nVocals\, Mandolin\, Banjo\, Lap Steel\, Keys & Synths / Daniel Péloquin-Hopfner
URL:https://accesswinnipeg.com/event/red-moon-road/
LOCATION:Blue Note Park\, 220 Main St\, Winnipeg\, MB\, Canada
ATTACH;FMTTYPE=image/jpeg:https://accesswinnipeg.com/wp-content/uploads/2022/07/ea4e11bd482fb824351cdad1b0fb33ae.jpg
END:VEVENT
BEGIN:VEVENT
DTSTART;TZID=America/Winnipeg:20220728T210000
DTEND;TZID=America/Winnipeg:20220729T000000
DTSTAMP:20260425T071544
CREATED:20220621T212142Z
LAST-MODIFIED:20220726T220811Z
UID:92151-1659042000-1659052800@accesswinnipeg.com
SUMMARY:Trampoline Sophomore Album Release Party with Lana Winterhalt
DESCRIPTION:Trampoline Sophomore Album Release Party with Lana Winterhalt\n\n\nTRAMPOLINE \n \nTrampoline is a dynamic\, anti-rock outfit. At the band’s helm is the idiosyncratic and ambitious songwriting of Michelle Lecnik (guitarist and vocalist) and the whip-smart interplay between Steve Martens (drums\, vocals) and Joey Penner (bass\, vocals). The musical arrangements are cinematic and percussive\, blending styles of punk\, indie rock and prog\, with a touch of folk and 90s rock nostalgia. Charged by the whims of satire\, playfulness and deeply heartfelt emotion\, Trampoline explores the highs and lows while making you bounce through it all.  \n \nIn february of 2019\, Trampoline released their debut full length album entitled ‘Happy Crimes’- a rock musical enterprise that explores the imagination and feelings of a man anticipating the apocalypse amidst the tensions of his nightmares\, political preoccupations and personal traumas. The album’s contents drew largely from Michelle’s life as inspiration. They recorded the album at Private Ear Studio with John Paul Peters and celebrated the release at the West End Cultural centre. Happy Crimes charted at #1 for multiple weeks on radio stations CKUW and UMFM in Winnipeg as well as Edmonton’s CJSR 88.5. Happy Crimes has reached #26 on the National top 50 Ear Shot chart and was ranked #74 for 2019. \n \nIn October of 2021\, Trampoline released their sophomore album entitled All the People in This House which they recorded with John Paul Peters over the course of 2020. The 11-track album explores themes of tyranny\, the degradation of nature and the collapse of western civilization in the wake of an emerging new paradigm of unconditional love and interdependence. The album plays with the perspectives of powerful figures from Thoth to Socrates to Erin Brockovitch to Ted Kaczynski to Doris Lessing to Judas Iscariot to comedian Jessa Reed. \n \nLANA WINTERHALT \n \nMulti-instrumentalist\, producer\, and indie-pop artist Lana Winterhalt delivers enigmatic and layered compositions inspired by junky breakups\, insomnia\, and true love\, all in an attempt to leave you feeling sparkly and weightless. Whether it be her vocals that float effortlessly with warm restraint or playful pop melodies featured on her debut full-length album If & When (2018)\, Winterhalt is experimental and bold yet warm and familiar. After releasing 3 unique projects over the course of the pandemic\, signing with High Priestess Publishing\, and participating in the Women in the Studio National Accelerator 2021\, Lana is ready to bring her perfected sound of grandiose harmonies and dusty guitars to fresh ears all across Canada and beyond. From heartbreak to pure bliss and quiet ambience to exploding soundscapes\, Lana Winterhalt’s artistry is the kind that sinks deep into your soul\, and intends to stay there.
URL:https://accesswinnipeg.com/event/trampoline-sophomore-album-release-party-with-lana-winterhalt/
LOCATION:Times Change(d) High & Lonesome Club\, 234 Main St.\, Winnipeg\, MB\, R3C1A8\, Canada
ATTACH;FMTTYPE=image/jpeg:https://accesswinnipeg.com/wp-content/uploads/2022/06/307aca595fee80cb4700542b893f6bbf.jpg
END:VEVENT
END:VCALENDAR