BEGIN:VCALENDAR
VERSION:2.0
PRODID:-//Access Winnipeg - ECPv6.15.20//NONSGML v1.0//EN
CALSCALE:GREGORIAN
METHOD:PUBLISH
X-WR-CALNAME:Access Winnipeg
X-ORIGINAL-URL:https://accesswinnipeg.com
X-WR-CALDESC:Events for Access Winnipeg
REFRESH-INTERVAL;VALUE=DURATION:PT1H
X-Robots-Tag:noindex
X-PUBLISHED-TTL:PT1H
BEGIN:VTIMEZONE
TZID:America/Winnipeg
BEGIN:DAYLIGHT
TZOFFSETFROM:-0600
TZOFFSETTO:-0500
TZNAME:CDT
DTSTART:20210314T080000
END:DAYLIGHT
BEGIN:STANDARD
TZOFFSETFROM:-0500
TZOFFSETTO:-0600
TZNAME:CST
DTSTART:20211107T070000
END:STANDARD
BEGIN:DAYLIGHT
TZOFFSETFROM:-0600
TZOFFSETTO:-0500
TZNAME:CDT
DTSTART:20220313T080000
END:DAYLIGHT
BEGIN:STANDARD
TZOFFSETFROM:-0500
TZOFFSETTO:-0600
TZNAME:CST
DTSTART:20221106T070000
END:STANDARD
BEGIN:DAYLIGHT
TZOFFSETFROM:-0600
TZOFFSETTO:-0500
TZNAME:CDT
DTSTART:20230312T080000
END:DAYLIGHT
BEGIN:STANDARD
TZOFFSETFROM:-0500
TZOFFSETTO:-0600
TZNAME:CST
DTSTART:20231105T070000
END:STANDARD
END:VTIMEZONE
BEGIN:VEVENT
DTSTART;TZID=America/Winnipeg:20220422T200000
DTEND;TZID=America/Winnipeg:20221202T010000
DTSTAMP:20260425T192345
CREATED:20211013T152145Z
LAST-MODIFIED:20211017T153710Z
UID:87169-1650657600-1669942800@accesswinnipeg.com
SUMMARY:Shannon & Scott's Wedding SHOW-CIAL
DESCRIPTION:Shannon & Scott’s Wedding Social\n\n\nShannon & Scott’s Wedding Social \nSATURDAY\, MAY 8TH\, 2021 \nDoors: 8 pm \nPark Theatre \n \nThis isn’t just your ordinary wedding social. Live music\, a rotating set of DJs\, live records\, lattes\, cocktails\, snacks\, and great prizes to keep your booty shaking until the lights turn on. \n \nMusic: \n– Live band\, bringing the danceable rock ‘n’ roll to kick off the night  \n– Punk/post punk \n– 80’s dance music \n– Hip Hop/Nothing But The 90’s/Club Rap \n– Reggae\, Soca\, Dancehall\, Reggaeton \n– Readymix/ Indie Dance \n– Electronic/Dubstep/Drum’n’Bass/Psychedelic \n \nPrizes: \n– 55″ flatscreen TV \n– Jets Prize Pack \n–  Kitchen Essentials \n– Fitness Prize Pack \n– Spa Prize Pack \n– Date Night \n– Wellness Prize Pack \n– More Special Prizes to be Unveiled!
URL:https://accesswinnipeg.com/event/shannon-scotts-wedding-show-cial/
LOCATION:MB
CATEGORIES:Events
ATTACH;FMTTYPE=image/jpeg:https://accesswinnipeg.com/wp-content/uploads/2021/10/d940d61543276d1feacca2761e2002cf.jpg
END:VEVENT
BEGIN:VEVENT
DTSTART;TZID=America/Winnipeg:20220729T203000
DTEND;TZID=America/Winnipeg:20220729T233000
DTSTAMP:20260425T192345
CREATED:20220712T215214Z
LAST-MODIFIED:20220726T220812Z
UID:93517-1659126600-1659137400@accesswinnipeg.com
SUMMARY:Fortune Block (Richard Inman and Amber Nielsen) plus Frannie Klein
DESCRIPTION:An outstanding evening of roots\, Americana and outlaw country music with Fortune Block (Richard Inman and Amber Nielsen) plus Frannie Klein
URL:https://accesswinnipeg.com/event/fortune-block-richard-inman-and-amber-nielsen-plus-frannie-klein/
LOCATION:Times Change(d) High & Lonesome Club\, 234 Main St.\, Winnipeg\, MB\, R3C1A8\, Canada
ATTACH;FMTTYPE=image/jpeg:https://accesswinnipeg.com/wp-content/uploads/2022/07/94336276a423c4694ac4d8edd57c926e.jpg
END:VEVENT
BEGIN:VEVENT
DTSTART;TZID=America/Winnipeg:20220729T210000
DTEND;TZID=America/Winnipeg:20220730T020000
DTSTAMP:20260425T192345
CREATED:20220621T235408Z
LAST-MODIFIED:20220727T005418Z
UID:92176-1659128400-1659146400@accesswinnipeg.com
SUMMARY:Emo Night Winnipeg at The Park Theatre
DESCRIPTION:18+ EMO Night\, good music\, great times\, best people\n\n\nDoors and Music 9 pm \n18+ \nTickets $10
URL:https://accesswinnipeg.com/event/emo-night-winnipeg-at-the-park-theatre/
LOCATION:MB
ATTACH;FMTTYPE=image/jpeg:https://accesswinnipeg.com/wp-content/uploads/2022/06/807c0f9b310cbbaccf01a7f662f1be99.jpg
END:VEVENT
BEGIN:VEVENT
DTSTART;TZID=America/Winnipeg:20220729T220000
DTEND;TZID=America/Winnipeg:20220730T010000
DTSTAMP:20260425T192345
CREATED:20220629T000730Z
LAST-MODIFIED:20220727T005421Z
UID:92553-1659132000-1659142800@accesswinnipeg.com
SUMMARY:Metal at Blue Note Park!
DESCRIPTION:Metal at Blue Note Park!\n\n\nNinjacat Productions is proud to present \nMetal at Blue Note Park! – Outdoor show at 220 Main street featuring: \nENDLESS CHAOS \nREGURGITATED GUTS \nFLASHOUT \nZOMBIE ASSAULT \n \nTickets available in advance at www.eventbrite.com or at the door \nDoors 9pm – Music 10pm
URL:https://accesswinnipeg.com/event/metal-at-blue-note-park/
LOCATION:Blue Note Park\, 220 Main St\, Winnipeg\, MB\, Canada
ATTACH;FMTTYPE=image/jpeg:https://accesswinnipeg.com/wp-content/uploads/2022/06/7ec1db48281be252b896ac958d604dd4.jpg
END:VEVENT
END:VCALENDAR