BEGIN:VCALENDAR
VERSION:2.0
PRODID:-//Access Winnipeg - ECPv6.15.20//NONSGML v1.0//EN
CALSCALE:GREGORIAN
METHOD:PUBLISH
X-ORIGINAL-URL:https://accesswinnipeg.com
X-WR-CALDESC:Events for Access Winnipeg
REFRESH-INTERVAL;VALUE=DURATION:PT1H
X-Robots-Tag:noindex
X-PUBLISHED-TTL:PT1H
BEGIN:VTIMEZONE
TZID:America/Winnipeg
BEGIN:DAYLIGHT
TZOFFSETFROM:-0600
TZOFFSETTO:-0500
TZNAME:CDT
DTSTART:20210314T080000
END:DAYLIGHT
BEGIN:STANDARD
TZOFFSETFROM:-0500
TZOFFSETTO:-0600
TZNAME:CST
DTSTART:20211107T070000
END:STANDARD
BEGIN:DAYLIGHT
TZOFFSETFROM:-0600
TZOFFSETTO:-0500
TZNAME:CDT
DTSTART:20220313T080000
END:DAYLIGHT
BEGIN:STANDARD
TZOFFSETFROM:-0500
TZOFFSETTO:-0600
TZNAME:CST
DTSTART:20221106T070000
END:STANDARD
BEGIN:DAYLIGHT
TZOFFSETFROM:-0600
TZOFFSETTO:-0500
TZNAME:CDT
DTSTART:20230312T080000
END:DAYLIGHT
BEGIN:STANDARD
TZOFFSETFROM:-0500
TZOFFSETTO:-0600
TZNAME:CST
DTSTART:20231105T070000
END:STANDARD
END:VTIMEZONE
BEGIN:VEVENT
DTSTART;TZID=America/Winnipeg:20220422T200000
DTEND;TZID=America/Winnipeg:20221202T010000
DTSTAMP:20260425T192202
CREATED:20211013T152145Z
LAST-MODIFIED:20211017T153710Z
UID:87169-1650657600-1669942800@accesswinnipeg.com
SUMMARY:Shannon & Scott's Wedding SHOW-CIAL
DESCRIPTION:Shannon & Scott’s Wedding Social\n\n\nShannon & Scott’s Wedding Social \nSATURDAY\, MAY 8TH\, 2021 \nDoors: 8 pm \nPark Theatre \n \nThis isn’t just your ordinary wedding social. Live music\, a rotating set of DJs\, live records\, lattes\, cocktails\, snacks\, and great prizes to keep your booty shaking until the lights turn on. \n \nMusic: \n– Live band\, bringing the danceable rock ‘n’ roll to kick off the night  \n– Punk/post punk \n– 80’s dance music \n– Hip Hop/Nothing But The 90’s/Club Rap \n– Reggae\, Soca\, Dancehall\, Reggaeton \n– Readymix/ Indie Dance \n– Electronic/Dubstep/Drum’n’Bass/Psychedelic \n \nPrizes: \n– 55″ flatscreen TV \n– Jets Prize Pack \n–  Kitchen Essentials \n– Fitness Prize Pack \n– Spa Prize Pack \n– Date Night \n– Wellness Prize Pack \n– More Special Prizes to be Unveiled!
URL:https://accesswinnipeg.com/event/shannon-scotts-wedding-show-cial/
LOCATION:MB
CATEGORIES:Events
ATTACH;FMTTYPE=image/jpeg:https://accesswinnipeg.com/wp-content/uploads/2021/10/d940d61543276d1feacca2761e2002cf.jpg
END:VEVENT
BEGIN:VEVENT
DTSTART;TZID=America/Winnipeg:20220805T200000
DTEND;TZID=America/Winnipeg:20220805T223000
DTSTAMP:20260425T192202
CREATED:20220524T183603Z
LAST-MODIFIED:20220802T185302Z
UID:91074-1659729600-1659738600@accesswinnipeg.com
SUMMARY:Frannie Klein on the West End Neighbourhood Patio
DESCRIPTION:Frannie Klein on the West End Neighbourhood Patio – Friday\, July 15\, 2022 at 8pm\n\n\nThe West End Cultural Centre will continue to require that patrons wear facemasks and show proof of vaccination for all events in the venue. \nWe will continue to evaluate this policy as circumstances evolve. \n—– \nFrannie grew up on the shores of Lake Manitoba\, in Bacon Ridge. She grew up tapping trees with her grandparents\, ranching cows\, dancing Pow wow and competing in fiddle competitions. Coming from a very musical family\, Frannie found her voice in her mid teens where she picked up guitar and singing. She’s opened up for acts like Marty Stuart and Brett Kissel and Charlie Major.
URL:https://accesswinnipeg.com/event/frannie-klein-on-the-west-end-neighbourhood-patio/
LOCATION:West End Cultural Centre\, 586 Ellice Ave\, Winnipeg\, MB\, R3B1Z8\, Canada
CATEGORIES:Events
ATTACH;FMTTYPE=image/jpeg:https://accesswinnipeg.com/wp-content/uploads/2022/05/4aa7824561f67457079e57ec884e2a36.jpg
END:VEVENT
BEGIN:VEVENT
DTSTART;TZID=America/Winnipeg:20220805T203000
DTEND;TZID=America/Winnipeg:20220805T233000
DTSTAMP:20260425T192202
CREATED:20220628T212443Z
LAST-MODIFIED:20220802T220856Z
UID:92550-1659731400-1659742200@accesswinnipeg.com
SUMMARY:Parkin and The Perps
DESCRIPTION:Blue Note Park presents a night of world-class blues guitar featuring Brent Parkin\, and The Perpetrators.
URL:https://accesswinnipeg.com/event/the-perpetrators/
LOCATION:Blue Note Park\, 220 Main St\, Winnipeg\, MB\, Canada
ATTACH;FMTTYPE=image/jpeg:https://accesswinnipeg.com/wp-content/uploads/2022/07/d141f94fa49dbc8b1d9bb1dec322efc8.jpg
END:VEVENT
END:VCALENDAR