BEGIN:VCALENDAR
VERSION:2.0
PRODID:-//Access Winnipeg - ECPv6.15.20//NONSGML v1.0//EN
CALSCALE:GREGORIAN
METHOD:PUBLISH
X-ORIGINAL-URL:https://accesswinnipeg.com
X-WR-CALDESC:Events for Access Winnipeg
REFRESH-INTERVAL;VALUE=DURATION:PT1H
X-Robots-Tag:noindex
X-PUBLISHED-TTL:PT1H
BEGIN:VTIMEZONE
TZID:America/Winnipeg
BEGIN:DAYLIGHT
TZOFFSETFROM:-0600
TZOFFSETTO:-0500
TZNAME:CDT
DTSTART:20210314T080000
END:DAYLIGHT
BEGIN:STANDARD
TZOFFSETFROM:-0500
TZOFFSETTO:-0600
TZNAME:CST
DTSTART:20211107T070000
END:STANDARD
BEGIN:DAYLIGHT
TZOFFSETFROM:-0600
TZOFFSETTO:-0500
TZNAME:CDT
DTSTART:20220313T080000
END:DAYLIGHT
BEGIN:STANDARD
TZOFFSETFROM:-0500
TZOFFSETTO:-0600
TZNAME:CST
DTSTART:20221106T070000
END:STANDARD
BEGIN:DAYLIGHT
TZOFFSETFROM:-0600
TZOFFSETTO:-0500
TZNAME:CDT
DTSTART:20230312T080000
END:DAYLIGHT
BEGIN:STANDARD
TZOFFSETFROM:-0500
TZOFFSETTO:-0600
TZNAME:CST
DTSTART:20231105T070000
END:STANDARD
END:VTIMEZONE
BEGIN:VEVENT
DTSTART;TZID=America/Winnipeg:20220422T200000
DTEND;TZID=America/Winnipeg:20221202T010000
DTSTAMP:20260425T192146
CREATED:20211013T152145Z
LAST-MODIFIED:20211017T153710Z
UID:87169-1650657600-1669942800@accesswinnipeg.com
SUMMARY:Shannon & Scott's Wedding SHOW-CIAL
DESCRIPTION:Shannon & Scott’s Wedding Social\n\n\nShannon & Scott’s Wedding Social \nSATURDAY\, MAY 8TH\, 2021 \nDoors: 8 pm \nPark Theatre \n \nThis isn’t just your ordinary wedding social. Live music\, a rotating set of DJs\, live records\, lattes\, cocktails\, snacks\, and great prizes to keep your booty shaking until the lights turn on. \n \nMusic: \n– Live band\, bringing the danceable rock ‘n’ roll to kick off the night  \n– Punk/post punk \n– 80’s dance music \n– Hip Hop/Nothing But The 90’s/Club Rap \n– Reggae\, Soca\, Dancehall\, Reggaeton \n– Readymix/ Indie Dance \n– Electronic/Dubstep/Drum’n’Bass/Psychedelic \n \nPrizes: \n– 55″ flatscreen TV \n– Jets Prize Pack \n–  Kitchen Essentials \n– Fitness Prize Pack \n– Spa Prize Pack \n– Date Night \n– Wellness Prize Pack \n– More Special Prizes to be Unveiled!
URL:https://accesswinnipeg.com/event/shannon-scotts-wedding-show-cial/
LOCATION:MB
CATEGORIES:Events
ATTACH;FMTTYPE=image/jpeg:https://accesswinnipeg.com/wp-content/uploads/2021/10/d940d61543276d1feacca2761e2002cf.jpg
END:VEVENT
BEGIN:VEVENT
DTSTART;TZID=America/Winnipeg:20220812T210000
DTEND;TZID=America/Winnipeg:20220813T010000
DTSTAMP:20260425T192146
CREATED:20220713T003900Z
LAST-MODIFIED:20220810T010924Z
UID:93544-1660338000-1660352400@accesswinnipeg.com
SUMMARY:Dancing Queen: ABBA x Queen Dance Party at The Park Theatre - Winnipeg
DESCRIPTION:UP Dance Party Co. Presents\n\n\nyour utlimate dance party
URL:https://accesswinnipeg.com/event/dancing-queen-abba-x-queen-dance-party-at-the-park-theatre-winnipeg/
LOCATION:The Park Theatre\, 698 Osborne Street\, Winnipeg\, MB\, R3L 2B9\, Canada
ATTACH;FMTTYPE=image/jpeg:https://accesswinnipeg.com/wp-content/uploads/2022/07/b4d76b1730867a030064c7ced610fcf4.jpg
END:VEVENT
BEGIN:VEVENT
DTSTART;TZID=America/Winnipeg:20220813T193000
DTEND;TZID=America/Winnipeg:20220813T223000
DTSTAMP:20260425T192146
CREATED:20220706T002411Z
LAST-MODIFIED:20220810T010925Z
UID:93102-1660419000-1660429800@accesswinnipeg.com
SUMMARY:IT'S NOT A PHASE II
DESCRIPTION:Warped Tour Cover Night\n\n\nIt’s Not a Phase II \nA Warped Tour Cover Night with \nEpirus as Knocked Loose \nPlaneshifter as Bullet For My Valentine \nLowLife as The Story So Far \nSome Chumps as State Champs \nNeep Decks as NeckDeep \nSaturday\, August 13th\, 2022 \nDoors 7 pm \nMusic at 730 pm \n$15 plus fees adv \nor $20 at the doors
URL:https://accesswinnipeg.com/event/its-not-a-phase-ii/
LOCATION:The Park Theatre\, 698 Osborne Street\, Winnipeg\, MB\, R3L 2B9\, Canada
ATTACH;FMTTYPE=image/jpeg:https://accesswinnipeg.com/wp-content/uploads/2022/07/9c907d488089f90e86d31cab0a2e66ed.jpg
END:VEVENT
BEGIN:VEVENT
DTSTART;TZID=America/Winnipeg:20220813T203000
DTEND;TZID=America/Winnipeg:20220813T235900
DTSTAMP:20260425T192146
CREATED:20220726T220829Z
LAST-MODIFIED:20220809T222302Z
UID:94432-1660422600-1660435140@accesswinnipeg.com
SUMMARY:Bullrider plus New Wales
DESCRIPTION:Two of Winnipeg’s finest pop-rock projects! If you’re looking for an amazing night of dancing and rocknroll style\, you’ll want to be here!
URL:https://accesswinnipeg.com/event/bullrider-plus-new-wales/
LOCATION:Blue Note Park\, 220 Main St\, Winnipeg\, MB\, Canada
ATTACH;FMTTYPE=image/jpeg:https://accesswinnipeg.com/wp-content/uploads/2022/07/22e4181b27687971d397c1a9ddfd3974.jpg
END:VEVENT
END:VCALENDAR