BEGIN:VCALENDAR
VERSION:2.0
PRODID:-//Access Winnipeg - ECPv6.15.20//NONSGML v1.0//EN
CALSCALE:GREGORIAN
METHOD:PUBLISH
X-ORIGINAL-URL:https://accesswinnipeg.com
X-WR-CALDESC:Events for Access Winnipeg
REFRESH-INTERVAL;VALUE=DURATION:PT1H
X-Robots-Tag:noindex
X-PUBLISHED-TTL:PT1H
BEGIN:VTIMEZONE
TZID:America/Winnipeg
BEGIN:DAYLIGHT
TZOFFSETFROM:-0600
TZOFFSETTO:-0500
TZNAME:CDT
DTSTART:20210314T080000
END:DAYLIGHT
BEGIN:STANDARD
TZOFFSETFROM:-0500
TZOFFSETTO:-0600
TZNAME:CST
DTSTART:20211107T070000
END:STANDARD
BEGIN:DAYLIGHT
TZOFFSETFROM:-0600
TZOFFSETTO:-0500
TZNAME:CDT
DTSTART:20220313T080000
END:DAYLIGHT
BEGIN:STANDARD
TZOFFSETFROM:-0500
TZOFFSETTO:-0600
TZNAME:CST
DTSTART:20221106T070000
END:STANDARD
BEGIN:DAYLIGHT
TZOFFSETFROM:-0600
TZOFFSETTO:-0500
TZNAME:CDT
DTSTART:20230312T080000
END:DAYLIGHT
BEGIN:STANDARD
TZOFFSETFROM:-0500
TZOFFSETTO:-0600
TZNAME:CST
DTSTART:20231105T070000
END:STANDARD
END:VTIMEZONE
BEGIN:VEVENT
DTSTART;TZID=America/Winnipeg:20220422T200000
DTEND;TZID=America/Winnipeg:20221202T010000
DTSTAMP:20260425T192157
CREATED:20211013T152145Z
LAST-MODIFIED:20211017T153710Z
UID:87169-1650657600-1669942800@accesswinnipeg.com
SUMMARY:Shannon & Scott's Wedding SHOW-CIAL
DESCRIPTION:Shannon & Scott’s Wedding Social\n\n\nShannon & Scott’s Wedding Social \nSATURDAY\, MAY 8TH\, 2021 \nDoors: 8 pm \nPark Theatre \n \nThis isn’t just your ordinary wedding social. Live music\, a rotating set of DJs\, live records\, lattes\, cocktails\, snacks\, and great prizes to keep your booty shaking until the lights turn on. \n \nMusic: \n– Live band\, bringing the danceable rock ‘n’ roll to kick off the night  \n– Punk/post punk \n– 80’s dance music \n– Hip Hop/Nothing But The 90’s/Club Rap \n– Reggae\, Soca\, Dancehall\, Reggaeton \n– Readymix/ Indie Dance \n– Electronic/Dubstep/Drum’n’Bass/Psychedelic \n \nPrizes: \n– 55″ flatscreen TV \n– Jets Prize Pack \n–  Kitchen Essentials \n– Fitness Prize Pack \n– Spa Prize Pack \n– Date Night \n– Wellness Prize Pack \n– More Special Prizes to be Unveiled!
URL:https://accesswinnipeg.com/event/shannon-scotts-wedding-show-cial/
LOCATION:MB
CATEGORIES:Events
ATTACH;FMTTYPE=image/jpeg:https://accesswinnipeg.com/wp-content/uploads/2021/10/d940d61543276d1feacca2761e2002cf.jpg
END:VEVENT
BEGIN:VEVENT
DTSTART;TZID=America/Winnipeg:20220825T193000
DTEND;TZID=America/Winnipeg:20220825T223000
DTSTAMP:20260425T192157
CREATED:20220718T195128Z
LAST-MODIFIED:20220718T195128Z
UID:93719-1661455800-1661466600@accesswinnipeg.com
SUMMARY:Winnipeg Blue Bombers vs Calgary Stampeders
DESCRIPTION:Winnipeg Blue Bombers vs Calgary Stampeders\n🏒🔥 Rumor has it that the 2022-23 NHL schedule is almost here. Add your team to your calendar to never miss a game: https://bit.ly/3yaTo83\nFind out how to remove this schedule: stza.co/$delete?trk=NlcZ\n👍 or 👎 this schedule? Review it: stza.co/$review?trk=NlcZ
URL:https://accesswinnipeg.com/event/winnipeg-blue-bombers-vs-calgary-stampeders/
LOCATION:Investors Group Field\, Winnipeg\, Canada
CATEGORIES:Winnipeg Blue Bombers
END:VEVENT
BEGIN:VEVENT
DTSTART;TZID=America/Winnipeg:20220825T200000
DTEND;TZID=America/Winnipeg:20220825T223000
DTSTAMP:20260425T192157
CREATED:20220726T185254Z
LAST-MODIFIED:20220823T192257Z
UID:94162-1661457600-1661466600@accesswinnipeg.com
SUMMARY:Those Guys on the West End Neighbourhood Patio
DESCRIPTION:Those Guys w/ special guest M-Kaps on the West End Neighbourhood Patio – Thursday\, August 25th at 8:00pm\n\n\nThe West End Cultural Centre will continue to require that patrons wear facemasks and show proof of vaccination for all events in the venue. We will continue to evaluate this policy as circumstances evolve. \n—– \nMade up of performers who represent a cross-section of the Winnipeg music and theatre community\, THOSE GUYS have built a reputation for dynamic\, feel-good performances. Their repertoire\, which ranges from Billy Joel to Bruno Mars\, features complex (often original) musical arrangements performed without a single instrument. THOSE GUYS had the honour of opening for The Nylons during their Farewell Tour in 2016 and have released four albums\, “That Album” (2012)\, “Live!” (2014)\, “This Christmas” (2015) and “At Home” (2020). \n“To see “THOSE GUYS” live is to love them. They’re brilliant. I had no idea I was into Acappella until they came along. … (THOSE GUYS) make people happy.” -Ace Burpee\, Host of 1031 Virgin Radio‘s Ace Burpee Show (Ace Burpee’s 100 most fascinating Manitobans 2012) \n—– \nM-Kaps is a Winnipeg based rapper and singer whose music combines thoughtful\, intricate writing with mellow\, soulful production. Having worked on his music for nearly two decades\, Kaps has released 3 albums: K-A-P-Supreme (2010)\, Another Day\, Another Sudoku (2013) and Pragmantic (2017).
URL:https://accesswinnipeg.com/event/those-guys-on-the-west-end-neighbourhood-patio/
LOCATION:West End Cultural Centre\, 586 Ellice Ave\, Winnipeg\, MB\, R3B1Z8\, Canada
CATEGORIES:Events
ATTACH;FMTTYPE=image/jpeg:https://accesswinnipeg.com/wp-content/uploads/2022/07/cda5eeb7d80ba8381b28010c15602e64.jpg
END:VEVENT
BEGIN:VEVENT
DTSTART;TZID=America/Winnipeg:20220825T203000
DTEND;TZID=America/Winnipeg:20220825T230000
DTSTAMP:20260425T192157
CREATED:20220719T222227Z
LAST-MODIFIED:20220823T222301Z
UID:93880-1661459400-1661468400@accesswinnipeg.com
SUMMARY:Reverend Rambler 40th Birthday Bash
DESCRIPTION:The Reverend Rambler might not be an ordained man of God\, but his passionate rhythm’n’blues inspired tunes will have you feeling the spirit!\n\n\nA very special 40th birthday bash! The Reverend Rambler (AKA Matt Colpitts) might not be an ordained man of God\, but his passionate rhythm and blues inspired tunes will have you feeling the spirit something fierce. Catch him performing as a one-man-band or with his 4 piece The Wicked World. Either way\, The Rev’s live shows are guaranteed to have your foot stompin all night long.
URL:https://accesswinnipeg.com/event/reverend-rambler-40th-birthday-bash/
LOCATION:Blue Note Park\, 220 Main St\, Winnipeg\, MB\, Canada
ATTACH;FMTTYPE=image/jpeg:https://accesswinnipeg.com/wp-content/uploads/2022/07/054ad33d376467f8f7798c25c7aee06c.jpg
END:VEVENT
END:VCALENDAR