BEGIN:VCALENDAR
VERSION:2.0
PRODID:-//Access Winnipeg - ECPv6.15.20//NONSGML v1.0//EN
CALSCALE:GREGORIAN
METHOD:PUBLISH
X-WR-CALNAME:Access Winnipeg
X-ORIGINAL-URL:https://accesswinnipeg.com
X-WR-CALDESC:Events for Access Winnipeg
REFRESH-INTERVAL;VALUE=DURATION:PT1H
X-Robots-Tag:noindex
X-PUBLISHED-TTL:PT1H
BEGIN:VTIMEZONE
TZID:America/Winnipeg
BEGIN:DAYLIGHT
TZOFFSETFROM:-0600
TZOFFSETTO:-0500
TZNAME:CDT
DTSTART:20210314T080000
END:DAYLIGHT
BEGIN:STANDARD
TZOFFSETFROM:-0500
TZOFFSETTO:-0600
TZNAME:CST
DTSTART:20211107T070000
END:STANDARD
BEGIN:DAYLIGHT
TZOFFSETFROM:-0600
TZOFFSETTO:-0500
TZNAME:CDT
DTSTART:20220313T080000
END:DAYLIGHT
BEGIN:STANDARD
TZOFFSETFROM:-0500
TZOFFSETTO:-0600
TZNAME:CST
DTSTART:20221106T070000
END:STANDARD
BEGIN:DAYLIGHT
TZOFFSETFROM:-0600
TZOFFSETTO:-0500
TZNAME:CDT
DTSTART:20230312T080000
END:DAYLIGHT
BEGIN:STANDARD
TZOFFSETFROM:-0500
TZOFFSETTO:-0600
TZNAME:CST
DTSTART:20231105T070000
END:STANDARD
END:VTIMEZONE
BEGIN:VEVENT
DTSTART;TZID=America/Winnipeg:20220422T200000
DTEND;TZID=America/Winnipeg:20221202T010000
DTSTAMP:20260425T192247
CREATED:20211013T152145Z
LAST-MODIFIED:20211017T153710Z
UID:87169-1650657600-1669942800@accesswinnipeg.com
SUMMARY:Shannon & Scott's Wedding SHOW-CIAL
DESCRIPTION:Shannon & Scott’s Wedding Social\n\n\nShannon & Scott’s Wedding Social \nSATURDAY\, MAY 8TH\, 2021 \nDoors: 8 pm \nPark Theatre \n \nThis isn’t just your ordinary wedding social. Live music\, a rotating set of DJs\, live records\, lattes\, cocktails\, snacks\, and great prizes to keep your booty shaking until the lights turn on. \n \nMusic: \n– Live band\, bringing the danceable rock ‘n’ roll to kick off the night  \n– Punk/post punk \n– 80’s dance music \n– Hip Hop/Nothing But The 90’s/Club Rap \n– Reggae\, Soca\, Dancehall\, Reggaeton \n– Readymix/ Indie Dance \n– Electronic/Dubstep/Drum’n’Bass/Psychedelic \n \nPrizes: \n– 55″ flatscreen TV \n– Jets Prize Pack \n–  Kitchen Essentials \n– Fitness Prize Pack \n– Spa Prize Pack \n– Date Night \n– Wellness Prize Pack \n– More Special Prizes to be Unveiled!
URL:https://accesswinnipeg.com/event/shannon-scotts-wedding-show-cial/
LOCATION:MB
CATEGORIES:Events
ATTACH;FMTTYPE=image/jpeg:https://accesswinnipeg.com/wp-content/uploads/2021/10/d940d61543276d1feacca2761e2002cf.jpg
END:VEVENT
BEGIN:VEVENT
DTSTART;TZID=America/Winnipeg:20220826T213000
DTEND;TZID=America/Winnipeg:20220827T003000
DTSTAMP:20260425T192247
CREATED:20220719T222252Z
LAST-MODIFIED:20220823T222302Z
UID:93882-1661549400-1661560200@accesswinnipeg.com
SUMMARY:Stones vs Beatles
DESCRIPTION:Ain’t nobody like The Honeysliders takin’ on the music of the Rolling Stones and The Beatles! Get ready to rock!!\n\n\nAn all-star cast of Winnipeg’s music scene mvps\, the Honeysliders are the ultimate house band. Whether it’s dirt-road country growls\, angst-ridden back-porch blues\, whiskey-soaked party-rock or just honest prairie vocals\, The Honeysliders will deliver. \nFounding members\, Jamie Buckboro(lead vocals/guitar/percussion) and Micah Bell(bass guitar/vocals) together with master keyboardist\, Alex Campballse(keyboard/Whurlitzer/harmonica/vocals)\, multi-talented Winnipeg drummer\, Jesse Millar(percussion/guitar/vocals) and local guitar icon\, Chris ‘Chopper’ Carmichael (guitar/vocals/percussion)\, The Honeysliders have branded an undeniably kinetic sound. \nThriving on the challenge of tributes to their music heroes – CSNY\, The Band\, Neil Young\, the Beatles\, The Rolling Stones – and Canadian contemporaries – Sloan\, Terra Lightfoot\, The Sheepdogs – their performances teleport to a time when live bootlegs and curated albums ruled turntables and airwaves.  \nBorn from these eclectic influences\, their original songs elevate them above mere cover-band status and threaten to rattle the rafters with shout-along anthemic camaraderie. The Honeysliders are currently compiling material for their first full-length album release… \nSo put an arm around your partner-in-crime and raise a cup to hometown pride because any member of this band can step forward and break your heart or blow your mind.
URL:https://accesswinnipeg.com/event/stones-vs-beatles-2/
LOCATION:Blue Note Park\, 220 Main St\, Winnipeg\, MB\, Canada
ATTACH;FMTTYPE=image/jpeg:https://accesswinnipeg.com/wp-content/uploads/2022/07/1a7cccf15a15042c16390b8f2c260fc4.jpg
END:VEVENT
BEGIN:VEVENT
DTSTART;TZID=America/Winnipeg:20220827T200000
DTEND;TZID=America/Winnipeg:20220827T223000
DTSTAMP:20260425T192247
CREATED:20220628T183614Z
LAST-MODIFIED:20220823T192301Z
UID:92532-1661630400-1661639400@accesswinnipeg.com
SUMMARY:Fontine with Taylor Jackson on the West End Neighbourhood Patio
DESCRIPTION:Fontine with Taylor Jackson on the West End Neighbourhood Patio – Saturday\, August 27\, 2022 at 8:00pm\n\n\nThe West End Cultural Centre will continue to require that patrons wear facemasks and show proof of vaccination for all events in the venue. We will continue to evaluate this policy as circumstances evolve. \n—– \nFontine crafts sanguine lyrics that tell of loves past and present. often using themes of nature to ground her songwriting. Her identity as a Nehiyaw Iskwew goes back to early memories of visiting the family farm on Cowessess First Nation reserve. Through songwriting\, beading\, and exploring the natural world\, FONTINE is working to uncover the roots buried for years\, and become a part of a wider community of songwriters.  \nAlthough Fontine is just beginning her journey as a solo artist\, she has been singing and playing with local Winnipeg acts such as Boy Golden\, Sol James and The Solutions for several years\, and is a recognizable face in the local scene.  \nFontine and Kris Ulrich (producer) have come together to create fresh indie pop sounds inspired by the likes of Lianne La Havas\, Billie Marten\, and Leif Vollebeck. Her first EP will have you dreaming of a simpler time and leave you wanting more music.
URL:https://accesswinnipeg.com/event/fontine-with-taylor-jackson-on-the-west-end-neighbourhood-patio/
LOCATION:West End Cultural Centre\, 586 Ellice Ave\, Winnipeg\, MB\, R3B1Z8\, Canada
CATEGORIES:Events
ATTACH;FMTTYPE=image/jpeg:https://accesswinnipeg.com/wp-content/uploads/2022/06/fba965ec1192031c65cb31c3f6d7a96f.jpg
END:VEVENT
BEGIN:VEVENT
DTSTART;TZID=America/Winnipeg:20220827T203000
DTEND;TZID=America/Winnipeg:20220827T235900
DTSTAMP:20260425T192247
CREATED:20220719T222316Z
LAST-MODIFIED:20220823T222303Z
UID:93884-1661632200-1661644740@accesswinnipeg.com
SUMMARY:Hot & Dirty Dance Party
DESCRIPTION:The Hot & Dirty Dance Party combines Dr. Hotbottom and the Dirty Catfish Brass Band to unleash the ultimate in funky good times!\n\n\nTwo incredible bands combine into one\, and we’re doing it twice!! If you were at the first Hot & Dirty Dance Party at Blue Note Park\, you KNOW what an epic experience it is!! And if you weren’t there\, well\, you still have a chance to dance\, and dance\, and dance!! Saturday August 27th. You won’t wanna miss it.
URL:https://accesswinnipeg.com/event/hot-dirty-dance-party-2/
LOCATION:Blue Note Park\, 220 Main St\, Winnipeg\, MB\, Canada
ATTACH;FMTTYPE=image/jpeg:https://accesswinnipeg.com/wp-content/uploads/2022/07/68cc94ce5305c2f2e3b041459b60f67e.jpg
END:VEVENT
END:VCALENDAR