BEGIN:VCALENDAR
VERSION:2.0
PRODID:-//Access Winnipeg - ECPv6.15.20//NONSGML v1.0//EN
CALSCALE:GREGORIAN
METHOD:PUBLISH
X-WR-CALNAME:Access Winnipeg
X-ORIGINAL-URL:https://accesswinnipeg.com
X-WR-CALDESC:Events for Access Winnipeg
REFRESH-INTERVAL;VALUE=DURATION:PT1H
X-Robots-Tag:noindex
X-PUBLISHED-TTL:PT1H
BEGIN:VTIMEZONE
TZID:America/Winnipeg
BEGIN:DAYLIGHT
TZOFFSETFROM:-0600
TZOFFSETTO:-0500
TZNAME:CDT
DTSTART:20210314T080000
END:DAYLIGHT
BEGIN:STANDARD
TZOFFSETFROM:-0500
TZOFFSETTO:-0600
TZNAME:CST
DTSTART:20211107T070000
END:STANDARD
BEGIN:DAYLIGHT
TZOFFSETFROM:-0600
TZOFFSETTO:-0500
TZNAME:CDT
DTSTART:20220313T080000
END:DAYLIGHT
BEGIN:STANDARD
TZOFFSETFROM:-0500
TZOFFSETTO:-0600
TZNAME:CST
DTSTART:20221106T070000
END:STANDARD
BEGIN:DAYLIGHT
TZOFFSETFROM:-0600
TZOFFSETTO:-0500
TZNAME:CDT
DTSTART:20230312T080000
END:DAYLIGHT
BEGIN:STANDARD
TZOFFSETFROM:-0500
TZOFFSETTO:-0600
TZNAME:CST
DTSTART:20231105T070000
END:STANDARD
END:VTIMEZONE
BEGIN:VEVENT
DTSTART;TZID=America/Winnipeg:20220422T200000
DTEND;TZID=America/Winnipeg:20221202T010000
DTSTAMP:20260425T192218
CREATED:20211013T152145Z
LAST-MODIFIED:20211017T153710Z
UID:87169-1650657600-1669942800@accesswinnipeg.com
SUMMARY:Shannon & Scott's Wedding SHOW-CIAL
DESCRIPTION:Shannon & Scott’s Wedding Social\n\n\nShannon & Scott’s Wedding Social \nSATURDAY\, MAY 8TH\, 2021 \nDoors: 8 pm \nPark Theatre \n \nThis isn’t just your ordinary wedding social. Live music\, a rotating set of DJs\, live records\, lattes\, cocktails\, snacks\, and great prizes to keep your booty shaking until the lights turn on. \n \nMusic: \n– Live band\, bringing the danceable rock ‘n’ roll to kick off the night  \n– Punk/post punk \n– 80’s dance music \n– Hip Hop/Nothing But The 90’s/Club Rap \n– Reggae\, Soca\, Dancehall\, Reggaeton \n– Readymix/ Indie Dance \n– Electronic/Dubstep/Drum’n’Bass/Psychedelic \n \nPrizes: \n– 55″ flatscreen TV \n– Jets Prize Pack \n–  Kitchen Essentials \n– Fitness Prize Pack \n– Spa Prize Pack \n– Date Night \n– Wellness Prize Pack \n– More Special Prizes to be Unveiled!
URL:https://accesswinnipeg.com/event/shannon-scotts-wedding-show-cial/
LOCATION:MB
CATEGORIES:Events
ATTACH;FMTTYPE=image/jpeg:https://accesswinnipeg.com/wp-content/uploads/2021/10/d940d61543276d1feacca2761e2002cf.jpg
END:VEVENT
BEGIN:VEVENT
DTSTART;TZID=America/Winnipeg:20220902T210000
DTEND;TZID=America/Winnipeg:20220903T010000
DTSTAMP:20260425T192218
CREATED:20220720T005614Z
LAST-MODIFIED:20220831T010911Z
UID:93895-1662152400-1662166800@accesswinnipeg.com
SUMMARY:Live While We're Young: One Direction Dance Party at The Park Theatre - Win
DESCRIPTION:Live While We’re Young\n\n\nFor information on The Park Theatre\, please visit https://myparktheatre.com/faq/.\n \n \nWHEN AND WHERE DO I PICK UP MY TICKETS?\n \nOn the night of the show\, your tickets will be waiting at the ticket window anytime after door time.  Please note that these are e-tickets\, so if you have purchased multiple tickets\, your entire party will need to be there at pick up.  Please have your ID ready\, and your ticket’s up on your phone.
URL:https://accesswinnipeg.com/event/live-while-were-young-one-direction-dance-party-at-the-park-theatre-win/
LOCATION:The Park Theatre\, 698 Osborne Street\, Winnipeg\, MB\, R3L 2B9\, Canada
ATTACH;FMTTYPE=image/jpeg:https://accesswinnipeg.com/wp-content/uploads/2022/07/68d39fcdc671cc70b1bbc34723be4298.jpg
END:VEVENT
BEGIN:VEVENT
DTSTART;TZID=America/Winnipeg:20220903T203000
DTEND;TZID=America/Winnipeg:20220903T230000
DTSTAMP:20260425T192218
CREATED:20220816T222317Z
LAST-MODIFIED:20220830T222304Z
UID:95085-1662237000-1662246000@accesswinnipeg.com
SUMMARY:Sweet Alibi plus Surf n Turf
DESCRIPTION:Sweet Alibi have shared their soulful three-part harmonies and folk roots-pop with listeners across North America and Europe since 2009.\n\n\nKnown for their soulful three-part harmonies\, West Coast Music Award Winners Sweet Alibi\, have shared their folk roots-pop infused music with listeners across North America and Europe since 2009. They are the distinct and complementary voices of Jess Rae Ayre\, Amber Nielsen and Michelle Anderson\, joined by Alasdair Dunlop on bass and Sandy Fernandez on drums. Their music has garnered national accolades and awards\, has been featured on MTV Canada\, CMT\, it has received major radio play on college/community and satellite radio\, with several songs in the top 20 of CBC Radio 2’s national charts. \n \n“Sweet Alibi definitely belongs in the category of best Canadian folk-pop artists” – Coolibri GERMANY \n \n“Sweet Alibi’s expert harmonies and timeless soul continue to draw eyes and ears to the ‘Music Heart of the Continent’ Winnipeg!” – Beatroute Magazine \n \nThe band is working on releasing their fourth studio album with producers Matt Peters and Matt Schellenberg of Royal Canoe (Dead Matts). The album is a melodic experience focused on hooky guitar lines and layered beats\, inspired by the likes of Alabama Shakes and Bahamas. Sweet Alibi’s sound has been evolving and refining through their past album releases\, extensive Canada wide and international touring\, as well as a focused effort to draw on the creative efforts of their favourite influencers. They have released two singles from their upcoming album\, Confetti and Really Great!
URL:https://accesswinnipeg.com/event/sweet-alibi-plus-surf-n-turf/
LOCATION:Blue Note Park\, 220 Main St\, Winnipeg\, MB\, Canada
ATTACH;FMTTYPE=image/jpeg:https://accesswinnipeg.com/wp-content/uploads/2022/08/b9eca9c404b1be4e03b7874531f6cfc4.jpg
END:VEVENT
BEGIN:VEVENT
DTSTART;TZID=America/Winnipeg:20220903T210000
DTEND;TZID=America/Winnipeg:20220904T000000
DTSTAMP:20260425T192218
CREATED:20220713T004259Z
LAST-MODIFIED:20220831T010911Z
UID:93553-1662238800-1662249600@accesswinnipeg.com
SUMMARY:Snak The Ripper – Let It Rip Album Release Tour
DESCRIPTION:Marked Up & Stealth Bomb Records Proudly Present:\n\n\nSnak The Ripper – Let It Rip Album Release Tour\n \nwith Aspects\n \n \nAll Ages – General Admission & VIP Tickets Available\n \n \nVIP Includes:\n \n– Entry Into the Event\n \n– Meet & Greet + Photo\n \n– Autographed Snak The Ripper Poster\n \n \nMEET & GREETS will take place prior to the event (Approx. 8 PM). Please check the Facebook event page for full details.
URL:https://accesswinnipeg.com/event/snak-the-ripper-let-it-rip-album-release-tour/
LOCATION:The Park Theatre\, 698 Osborne Street\, Winnipeg\, MB\, R3L 2B9\, Canada
ATTACH;FMTTYPE=image/jpeg:https://accesswinnipeg.com/wp-content/uploads/2022/07/097f212730903f2e1c9f381b9c7fc6e9.jpg
END:VEVENT
BEGIN:VEVENT
DTSTART;TZID=America/Winnipeg:20220903T213000
DTEND;TZID=America/Winnipeg:20220904T003000
DTSTAMP:20260425T192218
CREATED:20220727T005456Z
LAST-MODIFIED:20220831T010911Z
UID:94450-1662240600-1662251400@accesswinnipeg.com
SUMMARY:Begrime Exemious "Rotting in the Aftermath" album release show
DESCRIPTION:Begrime\n\n\nNinjacat Productions presents \nBEGRIME EXEMIOUS “Rotting in the Aftermath” album release show \nwith guests \nZOMBIE ASSAULT \nFLASH OUT \nSOLANUM  \n \nDoors 9pm – Music 930pm  \nTickets available at www.eventbrite.com
URL:https://accesswinnipeg.com/event/begrime-exemious-rotting-in-the-aftermath-album-release-show/
LOCATION:Bull Dog Event center\, 1364 Main Street\, Winnipeg\, MB\, R2W3T8\, Canada
ATTACH;FMTTYPE=image/jpeg:https://accesswinnipeg.com/wp-content/uploads/2022/07/1f2b4fbc34f66b9e15bc8f3f620fb0ea.jpg
END:VEVENT
END:VCALENDAR