BEGIN:VCALENDAR
VERSION:2.0
PRODID:-//Access Winnipeg - ECPv6.15.20//NONSGML v1.0//EN
CALSCALE:GREGORIAN
METHOD:PUBLISH
X-ORIGINAL-URL:https://accesswinnipeg.com
X-WR-CALDESC:Events for Access Winnipeg
REFRESH-INTERVAL;VALUE=DURATION:PT1H
X-Robots-Tag:noindex
X-PUBLISHED-TTL:PT1H
BEGIN:VTIMEZONE
TZID:America/Winnipeg
BEGIN:DAYLIGHT
TZOFFSETFROM:-0600
TZOFFSETTO:-0500
TZNAME:CDT
DTSTART:20150308T080000
END:DAYLIGHT
BEGIN:STANDARD
TZOFFSETFROM:-0500
TZOFFSETTO:-0600
TZNAME:CST
DTSTART:20151101T070000
END:STANDARD
BEGIN:DAYLIGHT
TZOFFSETFROM:-0600
TZOFFSETTO:-0500
TZNAME:CDT
DTSTART:20160313T080000
END:DAYLIGHT
BEGIN:STANDARD
TZOFFSETFROM:-0500
TZOFFSETTO:-0600
TZNAME:CST
DTSTART:20161106T070000
END:STANDARD
BEGIN:DAYLIGHT
TZOFFSETFROM:-0600
TZOFFSETTO:-0500
TZNAME:CDT
DTSTART:20170312T080000
END:DAYLIGHT
BEGIN:STANDARD
TZOFFSETFROM:-0500
TZOFFSETTO:-0600
TZNAME:CST
DTSTART:20171105T070000
END:STANDARD
END:VTIMEZONE
BEGIN:VEVENT
DTSTART;TZID=America/Winnipeg:20160213T193000
DTEND;TZID=America/Winnipeg:20160213T220000
DTSTAMP:20260424T055726
CREATED:20150925T130323Z
LAST-MODIFIED:20150925T130323Z
UID:36724-1455391800-1455400800@accesswinnipeg.com
SUMMARY:Ed Goertzen
DESCRIPTION:Ed was born and raised on a farm six miles south of Gladstone\, Manitoba off highway 34 and it was a steady diet of country roots and Elvis Presley. Grannies kitchen jam sessions left him soaked in smoke and guitar classics. Eventually he would find his way to nearby Portage La Prairie to study guitar with Murray Pulver and\, in turn\, to pursue his Jazz degree in Vancouver. \n Ed has been a working musician for over 20 years now and has learned from some of our country’s finest guitarists. The journey has left him with a strong and unique style as a guitarist and vocalist. Ed has always felt that if people were willing to listen to his music\, he had better have something to say. He has now found his way back home and to the grassroots style that he has never forgotten. Now an accomplished songwriter\, he has forged his musical voice.
URL:https://accesswinnipeg.com/event/ed-goertzen/
LOCATION:The William Glesby Centre\, 11-2nd St NE\, Portage la Prairie\, Mb\, R1N 1K8\, Canada
CATEGORIES:Concerts
ATTACH;FMTTYPE=image/jpeg:https://accesswinnipeg.com/wp-content/uploads/2015/09/Ed_Goertzen.jpg
END:VEVENT
BEGIN:VEVENT
DTSTART;TZID=America/Winnipeg:20160227T193000
DTEND;TZID=America/Winnipeg:20160227T220000
DTSTAMP:20260424T055726
CREATED:20150925T130313Z
LAST-MODIFIED:20150925T130313Z
UID:36727-1456601400-1456610400@accesswinnipeg.com
SUMMARY:Sierra Noble
DESCRIPTION:A familiar face to The Glesby\, Sierra Noble has been one of Manitoba’s most promising young talents since releasing her first instrumental album at age 14. Well known for most of her life as a fiddle virtuoso who breezes through numerous styles of music with stunning ease\, Sierra’s breadth of experience in music and in life at 23 is impressive. But\, she has never been one to rest on her laurels. Encouraged by fellow musicians to sing\, at age 17 Sierra decided to try her hand at writing songs. Her journey as a singer-songwriter has proven to be off to a promising start. Inspired by everything from the folk stylings of the great Patty Griffin\, to Top 40 hits from the last 6 decades\, Sierra picked up the guitar and quickly began honing a unique style and voice of her own.
URL:https://accesswinnipeg.com/event/sierra-noble/
LOCATION:The William Glesby Centre\, 11-2nd St NE\, Portage la Prairie\, Mb\, R1N 1K8\, Canada
CATEGORIES:Concerts
ATTACH;FMTTYPE=image/jpeg:https://accesswinnipeg.com/wp-content/uploads/2015/09/Sierra_Noble.jpg
END:VEVENT
END:VCALENDAR